Workbook

Sheet 顧客一覧
A1: 顧客一覧
A2: 黄色は入力、灰色は数式です（触らない）。最終対応日・対応回数・次回アクション・状況は「対応履歴」から自動で出ます。
J3: ▼ 対応履歴から自動で出る列 | O3: ▼ 作業列
A4: 顧客ID | B4: 区分 | C4: 会社名・氏名 | D4: 先方の担当者 | E4: 電話 | F4: メール | G4: 自社担当 | H4: 見込み度 | I4: 備考 | J4: 最終対応日 | K4: 対応回数 | L4: 次回アクション | M4: 次回アクション日 | N4: 状況 | O4: 並べ替え用 | P4: 最新行キー
J5: =IF($A5="","",IF($K5=0,"",_xlfn.MAXIFS('対応履歴'!$A$5:$A$304,'対応履歴'!$B$5:$B$304,$A5))) | K5: =IF($A5="","",COUNTIF('対応履歴'!$B$5:$B$304,$A5)) | L5: =IF($P5="","",IFERROR(INDEX('対応履歴'!$G$5:$G$304,MATCH($P5,'対応履歴'!$J$5:$J$304,0))&"","")) | M5: =IF($P5="","",IFERROR(IF(INDEX('対応履歴'!$H$5:$H$304,MATCH($P5,'対応履歴'!$J$5:$J$304,0))="","",INDEX('対応履歴'!$H$5:$H$304,MATCH($P5,'対応履歴'!$J$5:$J$304,0))),"")) | N5: =IF($A5="","",IF($K5=0,"対応履歴なし",IF($M5="",IF($L5="","次回予定なし","期日未定"),IF($M5<'次回アクション'!$B$2,"期日超過 "&('次回アクション'!$B$2-$M5)&"日",IF($M5='次回アクション'!$B$2,"今日","あと"&($M5-'次回アクション'!$B$2)&"日"))))) | O5: =IF($P5="","",IF($M5<>"",$M5+ROW()/100000,IF($L5<>"",100000+ROW()/100000,""))) | P5: =IF(OR($A5="",$K5=0),"",_xlfn.MAXIFS('対応履歴'!$J$5:$J$304,'対応履歴'!$B$5:$B$304,$A5))
J6: =IF($A6="","",IF($K6=0,"",_xlfn.MAXIFS('対応履歴'!$A$5:$A$304,'対応履歴'!$B$5:$B$304,$A6))) | K6: =IF($A6="","",COUNTIF('対応履歴'!$B$5:$B$304,$A6)) | L6: =IF($P6="","",IFERROR(INDEX('対応履歴'!$G$5:$G$304,MATCH($P6,'対応履歴'!$J$5:$J$304,0))&"","")) | M6: =IF($P6="","",IFERROR(IF(INDEX('対応履歴'!$H$5:$H$304,MATCH($P6,'対応履歴'!$J$5:$J$304,0))="","",INDEX('対応履歴'!$H$5:$H$304,MATCH($P6,'対応履歴'!$J$5:$J$304,0))),"")) | N6: =IF($A6="","",IF($K6=0,"対応履歴なし",IF($M6="",IF($L6="","次回予定なし","期日未定"),IF($M6<'次回アクション'!$B$2,"期日超過 "&('次回アクション'!$B$2-$M6)&"日",IF($M6='次回アクション'!$B$2,"今日","あと"&($M6-'次回アクション'!$B$2)&"日"))))) | O6: =IF($P6="","",IF($M6<>"",$M6+ROW()/100000,IF($L6<>"",100000+ROW()/100000,""))) | P6: =IF(OR($A6="",$K6=0),"",_xlfn.MAXIFS('対応履歴'!$J$5:$J$304,'対応履歴'!$B$5:$B$304,$A6))
J7: =IF($A7="","",IF($K7=0,"",_xlfn.MAXIFS('対応履歴'!$A$5:$A$304,'対応履歴'!$B$5:$B$304,$A7))) | K7: =IF($A7="","",COUNTIF('対応履歴'!$B$5:$B$304,$A7)) | L7: =IF($P7="","",IFERROR(INDEX('対応履歴'!$G$5:$G$304,MATCH($P7,'対応履歴'!$J$5:$J$304,0))&"","")) | M7: =IF($P7="","",IFERROR(IF(INDEX('対応履歴'!$H$5:$H$304,MATCH($P7,'対応履歴'!$J$5:$J$304,0))="","",INDEX('対応履歴'!$H$5:$H$304,MATCH($P7,'対応履歴'!$J$5:$J$304,0))),"")) | N7: =IF($A7="","",IF($K7=0,"対応履歴なし",IF($M7="",IF($L7="","次回予定なし","期日未定"),IF($M7<'次回アクション'!$B$2,"期日超過 "&('次回アクション'!$B$2-$M7)&"日",IF($M7='次回アクション'!$B$2,"今日","あと"&($M7-'次回アクション'!$B$2)&"日"))))) | O7: =IF($P7="","",IF($M7<>"",$M7+ROW()/100000,IF($L7<>"",100000+ROW()/100000,""))) | P7: =IF(OR($A7="",$K7=0),"",_xlfn.MAXIFS('対応履歴'!$J$5:$J$304,'対応履歴'!$B$5:$B$304,$A7))
J8: =IF($A8="","",IF($K8=0,"",_xlfn.MAXIFS('対応履歴'!$A$5:$A$304,'対応履歴'!$B$5:$B$304,$A8))) | K8: =IF($A8="","",COUNTIF('対応履歴'!$B$5:$B$304,$A8)) | L8: =IF($P8="","",IFERROR(INDEX('対応履歴'!$G$5:$G$304,MATCH($P8,'対応履歴'!$J$5:$J$304,0))&"","")) | M8: =IF($P8="","",IFERROR(IF(INDEX('対応履歴'!$H$5:$H$304,MATCH($P8,'対応履歴'!$J$5:$J$304,0))="","",INDEX('対応履歴'!$H$5:$H$304,MATCH($P8,'対応履歴'!$J$5:$J$304,0))),"")) | N8: =IF($A8="","",IF($K8=0,"対応履歴なし",IF($M8="",IF($L8="","次回予定なし","期日未定"),IF($M8<'次回アクション'!$B$2,"期日超過 "&('次回アクション'!$B$2-$M8)&"日",IF($M8='次回アクション'!$B$2,"今日","あと"&($M8-'次回アクション'!$B$2)&"日"))))) | O8: =IF($P8="","",IF($M8<>"",$M8+ROW()/100000,IF($L8<>"",100000+ROW()/100000,""))) | P8: =IF(OR($A8="",$K8=0),"",_xlfn.MAXIFS('対応履歴'!$J$5:$J$304,'対応履歴'!$B$5:$B$304,$A8))
J9: =IF($A9="","",IF($K9=0,"",_xlfn.MAXIFS('対応履歴'!$A$5:$A$304,'対応履歴'!$B$5:$B$304,$A9))) | K9: =IF($A9="","",COUNTIF('対応履歴'!$B$5:$B$304,$A9)) | L9: =IF($P9="","",IFERROR(INDEX('対応履歴'!$G$5:$G$304,MATCH($P9,'対応履歴'!$J$5:$J$304,0))&"","")) | M9: =IF($P9="","",IFERROR(IF(INDEX('対応履歴'!$H$5:$H$304,MATCH($P9,'対応履歴'!$J$5:$J$304,0))="","",INDEX('対応履歴'!$H$5:$H$304,MATCH($P9,'対応履歴'!$J$5:$J$304,0))),"")) | N9: =IF($A9="","",IF($K9=0,"対応履歴なし",IF($M9="",IF($L9="","次回予定なし","期日未定"),IF($M9<'次回アクション'!$B$2,"期日超過 "&('次回アクション'!$B$2-$M9)&"日",IF($M9='次回アクション'!$B$2,"今日","あと"&($M9-'次回アクション'!$B$2)&"日"))))) | O9: =IF($P9="","",IF($M9<>"",$M9+ROW()/100000,IF($L9<>"",100000+ROW()/100000,""))) | P9: =IF(OR($A9="",$K9=0),"",_xlfn.MAXIFS('対応履歴'!$J$5:$J$304,'対応履歴'!$B$5:$B$304,$A9))
J10: =IF($A10="","",IF($K10=0,"",_xlfn.MAXIFS('対応履歴'!$A$5:$A$304,'対応履歴'!$B$5:$B$304,$A10))) | K10: =IF($A10="","",COUNTIF('対応履歴'!$B$5:$B$304,$A10)) | L10: =IF($P10="","",IFERROR(INDEX('対応履歴'!$G$5:$G$304,MATCH($P10,'対応履歴'!$J$5:$J$304,0))&"","")) | M10: =IF($P10="","",IFERROR(IF(INDEX('対応履歴'!$H$5:$H$304,MATCH($P10,'対応履歴'!$J$5:$J$304,0))="","",INDEX('対応履歴'!$H$5:$H$304,MATCH($P10,'対応履歴'!$J$5:$J$304,0))),"")) | N10: =IF($A10="","",IF($K10=0,"対応履歴なし",IF($M10="",IF($L10="","次回予定なし","期日未定"),IF($M10<'次回アクション'!$B$2,"期日超過 "&('次回アクション'!$B$2-$M10)&"日",IF($M10='次回アクション'!$B$2,"今日","あと"&($M10-'次回アクション'!$B$2)&"日"))))) | O10: =IF($P10="","",IF($M10<>"",$M10+ROW()/100000,IF($L10<>"",100000+ROW()/100000,""))) | P10: =IF(OR($A10="",$K10=0),"",_xlfn.MAXIFS('対応履歴'!$J$5:$J$304,'対応履歴'!$B$5:$B$304,$A10))
J11: =IF($A11="","",IF($K11=0,"",_xlfn.MAXIFS('対応履歴'!$A$5:$A$304,'対応履歴'!$B$5:$B$304,$A11))) | K11: =IF($A11="","",COUNTIF('対応履歴'!$B$5:$B$304,$A11)) | L11: =IF($P11="","",IFERROR(INDEX('対応履歴'!$G$5:$G$304,MATCH($P11,'対応履歴'!$J$5:$J$304,0))&"","")) | M11: =IF($P11="","",IFERROR(IF(INDEX('対応履歴'!$H$5:$H$304,MATCH($P11,'対応履歴'!$J$5:$J$304,0))="","",INDEX('対応履歴'!$H$5:$H$304,MATCH($P11,'対応履歴'!$J$5:$J$304,0))),"")) | N11: =IF($A11="","",IF($K11=0,"対応履歴なし",IF($M11="",IF($L11="","次回予定なし","期日未定"),IF($M11<'次回アクション'!$B$2,"期日超過 "&('次回アクション'!$B$2-$M11)&"日",IF($M11='次回アクション'!$B$2,"今日","あと"&($M11-'次回アクション'!$B$2)&"日"))))) | O11: =IF($P11="","",IF($M11<>"",$M11+ROW()/100000,IF($L11<>"",100000+ROW()/100000,""))) | P11: =IF(OR($A11="",$K11=0),"",_xlfn.MAXIFS('対応履歴'!$J$5:$J$304,'対応履歴'!$B$5:$B$304,$A11))
J12: =IF($A12="","",IF($K12=0,"",_xlfn.MAXIFS('対応履歴'!$A$5:$A$304,'対応履歴'!$B$5:$B$304,$A12))) | K12: =IF($A12="","",COUNTIF('対応履歴'!$B$5:$B$304,$A12)) | L12: =IF($P12="","",IFERROR(INDEX('対応履歴'!$G$5:$G$304,MATCH($P12,'対応履歴'!$J$5:$J$304,0))&"","")) | M12: =IF($P12="","",IFERROR(IF(INDEX('対応履歴'!$H$5:$H$304,MATCH($P12,'対応履歴'!$J$5:$J$304,0))="","",INDEX('対応履歴'!$H$5:$H$304,MATCH($P12,'対応履歴'!$J$5:$J$304,0))),"")) | N12: =IF($A12="","",IF($K12=0,"対応履歴なし",IF($M12="",IF($L12="","次回予定なし","期日未定"),IF($M12<'次回アクション'!$B$2,"期日超過 "&('次回アクション'!$B$2-$M12)&"日",IF($M12='次回アクション'!$B$2,"今日","あと"&($M12-'次回アクション'!$B$2)&"日"))))) | O12: =IF($P12="","",IF($M12<>"",$M12+ROW()/100000,IF($L12<>"",100000+ROW()/100000,""))) | P12: =IF(OR($A12="",$K12=0),"",_xlfn.MAXIFS('対応履歴'!$J$5:$J$304,'対応履歴'!$B$5:$B$304,$A12))
J13: =IF($A13="","",IF($K13=0,"",_xlfn.MAXIFS('対応履歴'!$A$5:$A$304,'対応履歴'!$B$5:$B$304,$A13))) | K13: =IF($A13="","",COUNTIF('対応履歴'!$B$5:$B$304,$A13)) | L13: =IF($P13="","",IFERROR(INDEX('対応履歴'!$G$5:$G$304,MATCH($P13,'対応履歴'!$J$5:$J$304,0))&"","")) | M13: =IF($P13="","",IFERROR(IF(INDEX('対応履歴'!$H$5:$H$304,MATCH($P13,'対応履歴'!$J$5:$J$304,0))="","",INDEX('対応履歴'!$H$5:$H$304,MATCH($P13,'対応履歴'!$J$5:$J$304,0))),"")) | N13: =IF($A13="","",IF($K13=0,"対応履歴なし",IF($M13="",IF($L13="","次回予定なし","期日未定"),IF($M13<'次回アクション'!$B$2,"期日超過 "&('次回アクション'!$B$2-$M13)&"日",IF($M13='次回アクション'!$B$2,"今日","あと"&($M13-'次回アクション'!$B$2)&"日"))))) | O13: =IF($P13="","",IF($M13<>"",$M13+ROW()/100000,IF($L13<>"",100000+ROW()/100000,""))) | P13: =IF(OR($A13="",$K13=0),"",_xlfn.MAXIFS('対応履歴'!$J$5:$J$304,'対応履歴'!$B$5:$B$304,$A13))
J14: =IF($A14="","",IF($K14=0,"",_xlfn.MAXIFS('対応履歴'!$A$5:$A$304,'対応履歴'!$B$5:$B$304,$A14))) | K14: =IF($A14="","",COUNTIF('対応履歴'!$B$5:$B$304,$A14)) | L14: =IF($P14="","",IFERROR(INDEX('対応履歴'!$G$5:$G$304,MATCH($P14,'対応履歴'!$J$5:$J$304,0))&"","")) | M14: =IF($P14="","",IFERROR(IF(INDEX('対応履歴'!$H$5:$H$304,MATCH($P14,'対応履歴'!$J$5:$J$304,0))="","",INDEX('対応履歴'!$H$5:$H$304,MATCH($P14,'対応履歴'!$J$5:$J$304,0))),"")) | N14: =IF($A14="","",IF($K14=0,"対応履歴なし",IF($M14="",IF($L14="","次回予定なし","期日未定"),IF($M14<'次回アクション'!$B$2,"期日超過 "&('次回アクション'!$B$2-$M14)&"日",IF($M14='次回アクション'!$B$2,"今日","あと"&($M14-'次回アクション'!$B$2)&"日"))))) | O14: =IF($P14="","",IF($M14<>"",$M14+ROW()/100000,IF($L14<>"",100000+ROW()/100000,""))) | P14: =IF(OR($A14="",$K14=0),"",_xlfn.MAXIFS('対応履歴'!$J$5:$J$304,'対応履歴'!$B$5:$B$304,$A14))
J15: =IF($A15="","",IF($K15=0,"",_xlfn.MAXIFS('対応履歴'!$A$5:$A$304,'対応履歴'!$B$5:$B$304,$A15))) | K15: =IF($A15="","",COUNTIF('対応履歴'!$B$5:$B$304,$A15)) | L15: =IF($P15="","",IFERROR(INDEX('対応履歴'!$G$5:$G$304,MATCH($P15,'対応履歴'!$J$5:$J$304,0))&"","")) | M15: =IF($P15="","",IFERROR(IF(INDEX('対応履歴'!$H$5:$H$304,MATCH($P15,'対応履歴'!$J$5:$J$304,0))="","",INDEX('対応履歴'!$H$5:$H$304,MATCH($P15,'対応履歴'!$J$5:$J$304,0))),"")) | N15: =IF($A15="","",IF($K15=0,"対応履歴なし",IF($M15="",IF($L15="","次回予定なし","期日未定"),IF($M15<'次回アクション'!$B$2,"期日超過 "&('次回アクション'!$B$2-$M15)&"日",IF($M15='次回アクション'!$B$2,"今日","あと"&($M15-'次回アクション'!$B$2)&"日"))))) | O15: =IF($P15="","",IF($M15<>"",$M15+ROW()/100000,IF($L15<>"",100000+ROW()/100000,""))) | P15: =IF(OR($A15="",$K15=0),"",_xlfn.MAXIFS('対応履歴'!$J$5:$J$304,'対応履歴'!$B$5:$B$304,$A15))
J16: =IF($A16="","",IF($K16=0,"",_xlfn.MAXIFS('対応履歴'!$A$5:$A$304,'対応履歴'!$B$5:$B$304,$A16))) | K16: =IF($A16="","",COUNTIF('対応履歴'!$B$5:$B$304,$A16)) | L16: =IF($P16="","",IFERROR(INDEX('対応履歴'!$G$5:$G$304,MATCH($P16,'対応履歴'!$J$5:$J$304,0))&"","")) | M16: =IF($P16="","",IFERROR(IF(INDEX('対応履歴'!$H$5:$H$304,MATCH($P16,'対応履歴'!$J$5:$J$304,0))="","",INDEX('対応履歴'!$H$5:$H$304,MATCH($P16,'対応履歴'!$J$5:$J$304,0))),"")) | N16: =IF($A16="","",IF($K16=0,"対応履歴なし",IF($M16="",IF($L16="","次回予定なし","期日未定"),IF($M16<'次回アクション'!$B$2,"期日超過 "&('次回アクション'!$B$2-$M16)&"日",IF($M16='次回アクション'!$B$2,"今日","あと"&($M16-'次回アクション'!$B$2)&"日"))))) | O16: =IF($P16="","",IF($M16<>"",$M16+ROW()/100000,IF($L16<>"",100000+ROW()/100000,""))) | P16: =IF(OR($A16="",$K16=0),"",_xlfn.MAXIFS('対応履歴'!$J$5:$J$304,'対応履歴'!$B$5:$B$304,$A16))
... J104: =IF($A104="","",IF($K104=0,"",_xlfn.MAXIFS('対応履歴'!$A$5:$A$304,'対応履歴'!$B$5:$B$304,$A104))) | K104: =IF($A104="","",COUNTIF('対応履歴'!$B$5:$B$304,$A104)) | L104: =IF($P104="","",IFERROR(INDEX('対応履歴'!$G$5:$G$304,MATCH($P104,'対応履歴'!$J$5:$J$304,0))&"","")) | M104: =IF($P104="","",IFERROR(IF(INDEX('対応履歴'!$H$5:$H$304,MATCH($P104,'対応履歴'!$J$5:$J$304,0))="","",INDEX('対応履歴'!$H$5:$H$304,MATCH($P104,'対応履歴'!$J$5:$J$304,0))),"")) | N104: =IF($A104="","",IF($K104=0,"対応履歴なし",IF($M104="",IF($L104="","次回予定なし","期日未定"),IF($M104<'次回アクション'!$B$2,"期日超過 "&('次回アクション'!$B$2-$M104)&"日",IF($M104='次回アクション'!$B$2,"今日","あと"&($M104-'次回アクション'!$B$2)&"日"))))) | O104: =IF($P104="","",IF($M104<>"",$M104+ROW()/100000,IF($L104<>"",100000+ROW()/100000,""))) | P104: =IF(OR($A104="",$K104=0),"",_xlfn.MAXIFS('対応履歴'!$J$5:$J$304,'対応履歴'!$B$5:$B$304,$A104))

Sheet 対応履歴
A1: 対応履歴（1行=1回の対応。新しい対応は空いている次の行に）
A2: 顧客IDは「顧客一覧」に登録したものから選びます。同じ日に2回書いたときは、下の行を新しい対応として数えます。次にやることが無いときは、次回アクションと期日を空にします。
J3: ▼ 作業列
A4: 日付 | B4: 顧客ID | C4: 顧客名 | D4: 自社担当 | E4: 手段 | F4: 内容（何を聞いた・話した・決めた） | G4: 次回アクション | H4: 期日 | J4: 行キー | K4: カルテ用
C5: =IF($B5="","",IFERROR(INDEX('顧客一覧'!$C$5:$C$104,MATCH($B5,'顧客一覧'!$A$5:$A$104,0))&"","※顧客一覧にないID")) | J5: =IF(ISNUMBER($A5),$A5+ROW()/100000,"") | K5: =IF(AND(ISNUMBER($J5),$B5<>"",$B5='顧客カルテ'!$C$3),$J5,"")
C6: =IF($B6="","",IFERROR(INDEX('顧客一覧'!$C$5:$C$104,MATCH($B6,'顧客一覧'!$A$5:$A$104,0))&"","※顧客一覧にないID")) | J6: =IF(ISNUMBER($A6),$A6+ROW()/100000,"") | K6: =IF(AND(ISNUMBER($J6),$B6<>"",$B6='顧客カルテ'!$C$3),$J6,"")
C7: =IF($B7="","",IFERROR(INDEX('顧客一覧'!$C$5:$C$104,MATCH($B7,'顧客一覧'!$A$5:$A$104,0))&"","※顧客一覧にないID")) | J7: =IF(ISNUMBER($A7),$A7+ROW()/100000,"") | K7: =IF(AND(ISNUMBER($J7),$B7<>"",$B7='顧客カルテ'!$C$3),$J7,"")
C8: =IF($B8="","",IFERROR(INDEX('顧客一覧'!$C$5:$C$104,MATCH($B8,'顧客一覧'!$A$5:$A$104,0))&"","※顧客一覧にないID")) | J8: =IF(ISNUMBER($A8),$A8+ROW()/100000,"") | K8: =IF(AND(ISNUMBER($J8),$B8<>"",$B8='顧客カルテ'!$C$3),$J8,"")
C9: =IF($B9="","",IFERROR(INDEX('顧客一覧'!$C$5:$C$104,MATCH($B9,'顧客一覧'!$A$5:$A$104,0))&"","※顧客一覧にないID")) | J9: =IF(ISNUMBER($A9),$A9+ROW()/100000,"") | K9: =IF(AND(ISNUMBER($J9),$B9<>"",$B9='顧客カルテ'!$C$3),$J9,"")
C10: =IF($B10="","",IFERROR(INDEX('顧客一覧'!$C$5:$C$104,MATCH($B10,'顧客一覧'!$A$5:$A$104,0))&"","※顧客一覧にないID")) | J10: =IF(ISNUMBER($A10),$A10+ROW()/100000,"") | K10: =IF(AND(ISNUMBER($J10),$B10<>"",$B10='顧客カルテ'!$C$3),$J10,"")
C11: =IF($B11="","",IFERROR(INDEX('顧客一覧'!$C$5:$C$104,MATCH($B11,'顧客一覧'!$A$5:$A$104,0))&"","※顧客一覧にないID")) | J11: =IF(ISNUMBER($A11),$A11+ROW()/100000,"") | K11: =IF(AND(ISNUMBER($J11),$B11<>"",$B11='顧客カルテ'!$C$3),$J11,"")
C12: =IF($B12="","",IFERROR(INDEX('顧客一覧'!$C$5:$C$104,MATCH($B12,'顧客一覧'!$A$5:$A$104,0))&"","※顧客一覧にないID")) | J12: =IF(ISNUMBER($A12),$A12+ROW()/100000,"") | K12: =IF(AND(ISNUMBER($J12),$B12<>"",$B12='顧客カルテ'!$C$3),$J12,"")
C13: =IF($B13="","",IFERROR(INDEX('顧客一覧'!$C$5:$C$104,MATCH($B13,'顧客一覧'!$A$5:$A$104,0))&"","※顧客一覧にないID")) | J13: =IF(ISNUMBER($A13),$A13+ROW()/100000,"") | K13: =IF(AND(ISNUMBER($J13),$B13<>"",$B13='顧客カルテ'!$C$3),$J13,"")
C14: =IF($B14="","",IFERROR(INDEX('顧客一覧'!$C$5:$C$104,MATCH($B14,'顧客一覧'!$A$5:$A$104,0))&"","※顧客一覧にないID")) | J14: =IF(ISNUMBER($A14),$A14+ROW()/100000,"") | K14: =IF(AND(ISNUMBER($J14),$B14<>"",$B14='顧客カルテ'!$C$3),$J14,"")
C15: =IF($B15="","",IFERROR(INDEX('顧客一覧'!$C$5:$C$104,MATCH($B15,'顧客一覧'!$A$5:$A$104,0))&"","※顧客一覧にないID")) | J15: =IF(ISNUMBER($A15),$A15+ROW()/100000,"") | K15: =IF(AND(ISNUMBER($J15),$B15<>"",$B15='顧客カルテ'!$C$3),$J15,"")
C16: =IF($B16="","",IFERROR(INDEX('顧客一覧'!$C$5:$C$104,MATCH($B16,'顧客一覧'!$A$5:$A$104,0))&"","※顧客一覧にないID")) | J16: =IF(ISNUMBER($A16),$A16+ROW()/100000,"") | K16: =IF(AND(ISNUMBER($J16),$B16<>"",$B16='顧客カルテ'!$C$3),$J16,"")
... C304: =IF($B304="","",IFERROR(INDEX('顧客一覧'!$C$5:$C$104,MATCH($B304,'顧客一覧'!$A$5:$A$104,0))&"","※顧客一覧にないID")) | J304: =IF(ISNUMBER($A304),$A304+ROW()/100000,"") | K304: =IF(AND(ISNUMBER($J304),$B304<>"",$B304='顧客カルテ'!$C$3),$J304,"")

Sheet 顧客カルテ
A1: 顧客カルテ
A2: C3 で顧客IDを選ぶと、基本情報と直近の対応履歴が出ます。そのまま印刷できます（A4縦・1枚）。 | H2: 作業列
A3: 顧客ID | D3: ← プルダウンで選びます（顧客一覧に登録したID） | H3: =IF($C$3="","",IFERROR(MATCH($C$3,'顧客一覧'!$A$5:$A$104,0),""))
A5: 基本情報
A6: 会社名・氏名 | C6: =IF($H$3="","",INDEX('顧客一覧'!$C$5:$C$104,$H$3)&"")
A7: 区分 | C7: =IF($H$3="","",INDEX('顧客一覧'!$B$5:$B$104,$H$3)&"")
A8: 先方の担当者 | C8: =IF($H$3="","",INDEX('顧客一覧'!$D$5:$D$104,$H$3)&"")
A9: 電話 | C9: =IF($H$3="","",INDEX('顧客一覧'!$E$5:$E$104,$H$3)&"")
A10: メール | C10: =IF($H$3="","",INDEX('顧客一覧'!$F$5:$F$104,$H$3)&"")
A11: 自社担当 | C11: =IF($H$3="","",INDEX('顧客一覧'!$G$5:$G$104,$H$3)&"")
A12: 見込み度 | C12: =IF($H$3="","",INDEX('顧客一覧'!$H$5:$H$104,$H$3)&"")
A13: 備考 | C13: =IF($H$3="","",INDEX('顧客一覧'!$I$5:$I$104,$H$3)&"")
A15: 対応の状況（対応履歴から自動）
A16: 最終対応日 | C16: =IF($H$3="","",INDEX('顧客一覧'!$J$5:$J$104,$H$3))
A17: 対応回数 | C17: =IF($H$3="","",INDEX('顧客一覧'!$K$5:$K$104,$H$3))
A18: 次回アクション | C18: =IF($H$3="","",INDEX('顧客一覧'!$L$5:$L$104,$H$3))
A19: 次回アクションの期日 | C19: =IF($H$3="","",INDEX('顧客一覧'!$M$5:$M$104,$H$3))
A20: 状況 | C20: =IF($H$3="","",INDEX('顧客一覧'!$N$5:$N$104,$H$3))
A22: 直近の対応履歴（新しい順・10件まで） | H22: 作業列
A23: 日付 | B23: 手段 | C23: 担当 | D23: 内容 | E23: 次回アクション | F23: 期日
A24: =IF($H24="","",IF(INDEX('対応履歴'!$A$5:$A$304,$H24)="","",INDEX('対応履歴'!$A$5:$A$304,$H24))) | B24: =IF($H24="","",INDEX('対応履歴'!$E$5:$E$304,$H24)&"") | C24: =IF($H24="","",INDEX('対応履歴'!$D$5:$D$304,$H24)&"") | D24: =IF($H24="","",INDEX('対応履歴'!$F$5:$F$304,$H24)&"") | E24: =IF($H24="","",INDEX('対応履歴'!$G$5:$G$304,$H24)&"") | F24: =IF($H24="","",IF(INDEX('対応履歴'!$H$5:$H$304,$H24)="","",INDEX('対応履歴'!$H$5:$H$304,$H24))) | H24: =IFERROR(MATCH(LARGE('対応履歴'!$K$5:$K$304,1),'対応履歴'!$K$5:$K$304,0),"")
A25: =IF($H25="","",IF(INDEX('対応履歴'!$A$5:$A$304,$H25)="","",INDEX('対応履歴'!$A$5:$A$304,$H25))) | B25: =IF($H25="","",INDEX('対応履歴'!$E$5:$E$304,$H25)&"") | C25: =IF($H25="","",INDEX('対応履歴'!$D$5:$D$304,$H25)&"") | D25: =IF($H25="","",INDEX('対応履歴'!$F$5:$F$304,$H25)&"") | E25: =IF($H25="","",INDEX('対応履歴'!$G$5:$G$304,$H25)&"") | F25: =IF($H25="","",IF(INDEX('対応履歴'!$H$5:$H$304,$H25)="","",INDEX('対応履歴'!$H$5:$H$304,$H25))) | H25: =IFERROR(MATCH(LARGE('対応履歴'!$K$5:$K$304,2),'対応履歴'!$K$5:$K$304,0),"")
A26: =IF($H26="","",IF(INDEX('対応履歴'!$A$5:$A$304,$H26)="","",INDEX('対応履歴'!$A$5:$A$304,$H26))) | B26: =IF($H26="","",INDEX('対応履歴'!$E$5:$E$304,$H26)&"") | C26: =IF($H26="","",INDEX('対応履歴'!$D$5:$D$304,$H26)&"") | D26: =IF($H26="","",INDEX('対応履歴'!$F$5:$F$304,$H26)&"") | E26: =IF($H26="","",INDEX('対応履歴'!$G$5:$G$304,$H26)&"") | F26: =IF($H26="","",IF(INDEX('対応履歴'!$H$5:$H$304,$H26)="","",INDEX('対応履歴'!$H$5:$H$304,$H26))) | H26: =IFERROR(MATCH(LARGE('対応履歴'!$K$5:$K$304,3),'対応履歴'!$K$5:$K$304,0),"")
A27: =IF($H27="","",IF(INDEX('対応履歴'!$A$5:$A$304,$H27)="","",INDEX('対応履歴'!$A$5:$A$304,$H27))) | B27: =IF($H27="","",INDEX('対応履歴'!$E$5:$E$304,$H27)&"") | C27: =IF($H27="","",INDEX('対応履歴'!$D$5:$D$304,$H27)&"") | D27: =IF($H27="","",INDEX('対応履歴'!$F$5:$F$304,$H27)&"") | E27: =IF($H27="","",INDEX('対応履歴'!$G$5:$G$304,$H27)&"") | F27: =IF($H27="","",IF(INDEX('対応履歴'!$H$5:$H$304,$H27)="","",INDEX('対応履歴'!$H$5:$H$304,$H27))) | H27: =IFERROR(MATCH(LARGE('対応履歴'!$K$5:$K$304,4),'対応履歴'!$K$5:$K$304,0),"")
A28: =IF($H28="","",IF(INDEX('対応履歴'!$A$5:$A$304,$H28)="","",INDEX('対応履歴'!$A$5:$A$304,$H28))) | B28: =IF($H28="","",INDEX('対応履歴'!$E$5:$E$304,$H28)&"") | C28: =IF($H28="","",INDEX('対応履歴'!$D$5:$D$304,$H28)&"") | D28: =IF($H28="","",INDEX('対応履歴'!$F$5:$F$304,$H28)&"") | E28: =IF($H28="","",INDEX('対応履歴'!$G$5:$G$304,$H28)&"") | F28: =IF($H28="","",IF(INDEX('対応履歴'!$H$5:$H$304,$H28)="","",INDEX('対応履歴'!$H$5:$H$304,$H28))) | H28: =IFERROR(MATCH(LARGE('対応履歴'!$K$5:$K$304,5),'対応履歴'!$K$5:$K$304,0),"")
A29: =IF($H29="","",IF(INDEX('対応履歴'!$A$5:$A$304,$H29)="","",INDEX('対応履歴'!$A$5:$A$304,$H29))) | B29: =IF($H29="","",INDEX('対応履歴'!$E$5:$E$304,$H29)&"") | C29: =IF($H29="","",INDEX('対応履歴'!$D$5:$D$304,$H29)&"") | D29: =IF($H29="","",INDEX('対応履歴'!$F$5:$F$304,$H29)&"") | E29: =IF($H29="","",INDEX('対応履歴'!$G$5:$G$304,$H29)&"") | F29: =IF($H29="","",IF(INDEX('対応履歴'!$H$5:$H$304,$H29)="","",INDEX('対応履歴'!$H$5:$H$304,$H29))) | H29: =IFERROR(MATCH(LARGE('対応履歴'!$K$5:$K$304,6),'対応履歴'!$K$5:$K$304,0),"")
A30: =IF($H30="","",IF(INDEX('対応履歴'!$A$5:$A$304,$H30)="","",INDEX('対応履歴'!$A$5:$A$304,$H30))) | B30: =IF($H30="","",INDEX('対応履歴'!$E$5:$E$304,$H30)&"") | C30: =IF($H30="","",INDEX('対応履歴'!$D$5:$D$304,$H30)&"") | D30: =IF($H30="","",INDEX('対応履歴'!$F$5:$F$304,$H30)&"") | E30: =IF($H30="","",INDEX('対応履歴'!$G$5:$G$304,$H30)&"") | F30: =IF($H30="","",IF(INDEX('対応履歴'!$H$5:$H$304,$H30)="","",INDEX('対応履歴'!$H$5:$H$304,$H30))) | H30: =IFERROR(MATCH(LARGE('対応履歴'!$K$5:$K$304,7),'対応履歴'!$K$5:$K$304,0),"")
A31: =IF($H31="","",IF(INDEX('対応履歴'!$A$5:$A$304,$H31)="","",INDEX('対応履歴'!$A$5:$A$304,$H31))) | B31: =IF($H31="","",INDEX('対応履歴'!$E$5:$E$304,$H31)&"") | C31: =IF($H31="","",INDEX('対応履歴'!$D$5:$D$304,$H31)&"") | D31: =IF($H31="","",INDEX('対応履歴'!$F$5:$F$304,$H31)&"") | E31: =IF($H31="","",INDEX('対応履歴'!$G$5:$G$304,$H31)&"") | F31: =IF($H31="","",IF(INDEX('対応履歴'!$H$5:$H$304,$H31)="","",INDEX('対応履歴'!$H$5:$H$304,$H31))) | H31: =IFERROR(MATCH(LARGE('対応履歴'!$K$5:$K$304,8),'対応履歴'!$K$5:$K$304,0),"")
A32: =IF($H32="","",IF(INDEX('対応履歴'!$A$5:$A$304,$H32)="","",INDEX('対応履歴'!$A$5:$A$304,$H32))) | B32: =IF($H32="","",INDEX('対応履歴'!$E$5:$E$304,$H32)&"") | C32: =IF($H32="","",INDEX('対応履歴'!$D$5:$D$304,$H32)&"") | D32: =IF($H32="","",INDEX('対応履歴'!$F$5:$F$304,$H32)&"") | E32: =IF($H32="","",INDEX('対応履歴'!$G$5:$G$304,$H32)&"") | F32: =IF($H32="","",IF(INDEX('対応履歴'!$H$5:$H$304,$H32)="","",INDEX('対応履歴'!$H$5:$H$304,$H32))) | H32: =IFERROR(MATCH(LARGE('対応履歴'!$K$5:$K$304,9),'対応履歴'!$K$5:$K$304,0),"")
A33: =IF($H33="","",IF(INDEX('対応履歴'!$A$5:$A$304,$H33)="","",INDEX('対応履歴'!$A$5:$A$304,$H33))) | B33: =IF($H33="","",INDEX('対応履歴'!$E$5:$E$304,$H33)&"") | C33: =IF($H33="","",INDEX('対応履歴'!$D$5:$D$304,$H33)&"") | D33: =IF($H33="","",INDEX('対応履歴'!$F$5:$F$304,$H33)&"") | E33: =IF($H33="","",INDEX('対応履歴'!$G$5:$G$304,$H33)&"") | F33: =IF($H33="","",IF(INDEX('対応履歴'!$H$5:$H$304,$H33)="","",INDEX('対応履歴'!$H$5:$H$304,$H33))) | H33: =IFERROR(MATCH(LARGE('対応履歴'!$K$5:$K$304,10),'対応履歴'!$K$5:$K$304,0),"")
A34: =IF($H$3="","","この顧客の対応履歴は全"&INDEX('顧客一覧'!$K$5:$K$104,$H$3)&"件です。10件を超える分は「対応履歴」シートで顧客IDを絞り込んでください。")

Sheet 次回アクション
A1: 次回アクション一覧（期日が近い順）
A2: 基準日 | B2: =TODAY() | C2: ← 今日の日付が入っています（=TODAY()）。特定の日で見たいときは、この日付を書き換えます。
A3: 顧客ごとに、いちばん新しい対応に書いた次回アクションだけを出します。赤=期日超過、黄=3日以内。次回アクションを空にした顧客は出ません（対応終了として扱います）。
A4: No | B4: 期日 | C4: 残り日数 | D4: 顧客ID | E4: 会社名・氏名 | F4: 次回アクション | G4: 自社担当 | H4: 見込み度 | I4: 最終対応日 | J4: 作業列
A5: =IF($J5="","",1) | B5: =IF($J5="","",IF(INDEX('顧客一覧'!$M$5:$M$104,$J5)="","期日未定",INDEX('顧客一覧'!$M$5:$M$104,$J5))) | C5: =IF($J5="","",IF(ISNUMBER($B5),$B5-$B$2,"")) | D5: =IF($J5="","",INDEX('顧客一覧'!$A$5:$A$104,$J5)) | E5: =IF($J5="","",INDEX('顧客一覧'!$C$5:$C$104,$J5)&"") | F5: =IF($J5="","",INDEX('顧客一覧'!$L$5:$L$104,$J5)&"") | G5: =IF($J5="","",INDEX('顧客一覧'!$G$5:$G$104,$J5)&"") | H5: =IF($J5="","",INDEX('顧客一覧'!$H$5:$H$104,$J5)&"") | I5: =IF($J5="","",INDEX('顧客一覧'!$J$5:$J$104,$J5)) | J5: =IFERROR(MATCH(SMALL('顧客一覧'!$O$5:$O$104,1),'顧客一覧'!$O$5:$O$104,0),"")
A6: =IF($J6="","",2) | B6: =IF($J6="","",IF(INDEX('顧客一覧'!$M$5:$M$104,$J6)="","期日未定",INDEX('顧客一覧'!$M$5:$M$104,$J6))) | C6: =IF($J6="","",IF(ISNUMBER($B6),$B6-$B$2,"")) | D6: =IF($J6="","",INDEX('顧客一覧'!$A$5:$A$104,$J6)) | E6: =IF($J6="","",INDEX('顧客一覧'!$C$5:$C$104,$J6)&"") | F6: =IF($J6="","",INDEX('顧客一覧'!$L$5:$L$104,$J6)&"") | G6: =IF($J6="","",INDEX('顧客一覧'!$G$5:$G$104,$J6)&"") | H6: =IF($J6="","",INDEX('顧客一覧'!$H$5:$H$104,$J6)&"") | I6: =IF($J6="","",INDEX('顧客一覧'!$J$5:$J$104,$J6)) | J6: =IFERROR(MATCH(SMALL('顧客一覧'!$O$5:$O$104,2),'顧客一覧'!$O$5:$O$104,0),"")
A7: =IF($J7="","",3) | B7: =IF($J7="","",IF(INDEX('顧客一覧'!$M$5:$M$104,$J7)="","期日未定",INDEX('顧客一覧'!$M$5:$M$104,$J7))) | C7: =IF($J7="","",IF(ISNUMBER($B7),$B7-$B$2,"")) | D7: =IF($J7="","",INDEX('顧客一覧'!$A$5:$A$104,$J7)) | E7: =IF($J7="","",INDEX('顧客一覧'!$C$5:$C$104,$J7)&"") | F7: =IF($J7="","",INDEX('顧客一覧'!$L$5:$L$104,$J7)&"") | G7: =IF($J7="","",INDEX('顧客一覧'!$G$5:$G$104,$J7)&"") | H7: =IF($J7="","",INDEX('顧客一覧'!$H$5:$H$104,$J7)&"") | I7: =IF($J7="","",INDEX('顧客一覧'!$J$5:$J$104,$J7)) | J7: =IFERROR(MATCH(SMALL('顧客一覧'!$O$5:$O$104,3),'顧客一覧'!$O$5:$O$104,0),"")
A8: =IF($J8="","",4) | B8: =IF($J8="","",IF(INDEX('顧客一覧'!$M$5:$M$104,$J8)="","期日未定",INDEX('顧客一覧'!$M$5:$M$104,$J8))) | C8: =IF($J8="","",IF(ISNUMBER($B8),$B8-$B$2,"")) | D8: =IF($J8="","",INDEX('顧客一覧'!$A$5:$A$104,$J8)) | E8: =IF($J8="","",INDEX('顧客一覧'!$C$5:$C$104,$J8)&"") | F8: =IF($J8="","",INDEX('顧客一覧'!$L$5:$L$104,$J8)&"") | G8: =IF($J8="","",INDEX('顧客一覧'!$G$5:$G$104,$J8)&"") | H8: =IF($J8="","",INDEX('顧客一覧'!$H$5:$H$104,$J8)&"") | I8: =IF($J8="","",INDEX('顧客一覧'!$J$5:$J$104,$J8)) | J8: =IFERROR(MATCH(SMALL('顧客一覧'!$O$5:$O$104,4),'顧客一覧'!$O$5:$O$104,0),"")
A9: =IF($J9="","",5) | B9: =IF($J9="","",IF(INDEX('顧客一覧'!$M$5:$M$104,$J9)="","期日未定",INDEX('顧客一覧'!$M$5:$M$104,$J9))) | C9: =IF($J9="","",IF(ISNUMBER($B9),$B9-$B$2,"")) | D9: =IF($J9="","",INDEX('顧客一覧'!$A$5:$A$104,$J9)) | E9: =IF($J9="","",INDEX('顧客一覧'!$C$5:$C$104,$J9)&"") | F9: =IF($J9="","",INDEX('顧客一覧'!$L$5:$L$104,$J9)&"") | G9: =IF($J9="","",INDEX('顧客一覧'!$G$5:$G$104,$J9)&"") | H9: =IF($J9="","",INDEX('顧客一覧'!$H$5:$H$104,$J9)&"") | I9: =IF($J9="","",INDEX('顧客一覧'!$J$5:$J$104,$J9)) | J9: =IFERROR(MATCH(SMALL('顧客一覧'!$O$5:$O$104,5),'顧客一覧'!$O$5:$O$104,0),"")
A10: =IF($J10="","",6) | B10: =IF($J10="","",IF(INDEX('顧客一覧'!$M$5:$M$104,$J10)="","期日未定",INDEX('顧客一覧'!$M$5:$M$104,$J10))) | C10: =IF($J10="","",IF(ISNUMBER($B10),$B10-$B$2,"")) | D10: =IF($J10="","",INDEX('顧客一覧'!$A$5:$A$104,$J10)) | E10: =IF($J10="","",INDEX('顧客一覧'!$C$5:$C$104,$J10)&"") | F10: =IF($J10="","",INDEX('顧客一覧'!$L$5:$L$104,$J10)&"") | G10: =IF($J10="","",INDEX('顧客一覧'!$G$5:$G$104,$J10)&"") | H10: =IF($J10="","",INDEX('顧客一覧'!$H$5:$H$104,$J10)&"") | I10: =IF($J10="","",INDEX('顧客一覧'!$J$5:$J$104,$J10)) | J10: =IFERROR(MATCH(SMALL('顧客一覧'!$O$5:$O$104,6),'顧客一覧'!$O$5:$O$104,0),"")
A11: =IF($J11="","",7) | B11: =IF($J11="","",IF(INDEX('顧客一覧'!$M$5:$M$104,$J11)="","期日未定",INDEX('顧客一覧'!$M$5:$M$104,$J11))) | C11: =IF($J11="","",IF(ISNUMBER($B11),$B11-$B$2,"")) | D11: =IF($J11="","",INDEX('顧客一覧'!$A$5:$A$104,$J11)) | E11: =IF($J11="","",INDEX('顧客一覧'!$C$5:$C$104,$J11)&"") | F11: =IF($J11="","",INDEX('顧客一覧'!$L$5:$L$104,$J11)&"") | G11: =IF($J11="","",INDEX('顧客一覧'!$G$5:$G$104,$J11)&"") | H11: =IF($J11="","",INDEX('顧客一覧'!$H$5:$H$104,$J11)&"") | I11: =IF($J11="","",INDEX('顧客一覧'!$J$5:$J$104,$J11)) | J11: =IFERROR(MATCH(SMALL('顧客一覧'!$O$5:$O$104,7),'顧客一覧'!$O$5:$O$104,0),"")
A12: =IF($J12="","",8) | B12: =IF($J12="","",IF(INDEX('顧客一覧'!$M$5:$M$104,$J12)="","期日未定",INDEX('顧客一覧'!$M$5:$M$104,$J12))) | C12: =IF($J12="","",IF(ISNUMBER($B12),$B12-$B$2,"")) | D12: =IF($J12="","",INDEX('顧客一覧'!$A$5:$A$104,$J12)) | E12: =IF($J12="","",INDEX('顧客一覧'!$C$5:$C$104,$J12)&"") | F12: =IF($J12="","",INDEX('顧客一覧'!$L$5:$L$104,$J12)&"") | G12: =IF($J12="","",INDEX('顧客一覧'!$G$5:$G$104,$J12)&"") | H12: =IF($J12="","",INDEX('顧客一覧'!$H$5:$H$104,$J12)&"") | I12: =IF($J12="","",INDEX('顧客一覧'!$J$5:$J$104,$J12)) | J12: =IFERROR(MATCH(SMALL('顧客一覧'!$O$5:$O$104,8),'顧客一覧'!$O$5:$O$104,0),"")
A13: =IF($J13="","",9) | B13: =IF($J13="","",IF(INDEX('顧客一覧'!$M$5:$M$104,$J13)="","期日未定",INDEX('顧客一覧'!$M$5:$M$104,$J13))) | C13: =IF($J13="","",IF(ISNUMBER($B13),$B13-$B$2,"")) | D13: =IF($J13="","",INDEX('顧客一覧'!$A$5:$A$104,$J13)) | E13: =IF($J13="","",INDEX('顧客一覧'!$C$5:$C$104,$J13)&"") | F13: =IF($J13="","",INDEX('顧客一覧'!$L$5:$L$104,$J13)&"") | G13: =IF($J13="","",INDEX('顧客一覧'!$G$5:$G$104,$J13)&"") | H13: =IF($J13="","",INDEX('顧客一覧'!$H$5:$H$104,$J13)&"") | I13: =IF($J13="","",INDEX('顧客一覧'!$J$5:$J$104,$J13)) | J13: =IFERROR(MATCH(SMALL('顧客一覧'!$O$5:$O$104,9),'顧客一覧'!$O$5:$O$104,0),"")
A14: =IF($J14="","",10) | B14: =IF($J14="","",IF(INDEX('顧客一覧'!$M$5:$M$104,$J14)="","期日未定",INDEX('顧客一覧'!$M$5:$M$104,$J14))) | C14: =IF($J14="","",IF(ISNUMBER($B14),$B14-$B$2,"")) | D14: =IF($J14="","",INDEX('顧客一覧'!$A$5:$A$104,$J14)) | E14: =IF($J14="","",INDEX('顧客一覧'!$C$5:$C$104,$J14)&"") | F14: =IF($J14="","",INDEX('顧客一覧'!$L$5:$L$104,$J14)&"") | G14: =IF($J14="","",INDEX('顧客一覧'!$G$5:$G$104,$J14)&"") | H14: =IF($J14="","",INDEX('顧客一覧'!$H$5:$H$104,$J14)&"") | I14: =IF($J14="","",INDEX('顧客一覧'!$J$5:$J$104,$J14)) | J14: =IFERROR(MATCH(SMALL('顧客一覧'!$O$5:$O$104,10),'顧客一覧'!$O$5:$O$104,0),"")
A15: =IF($J15="","",11) | B15: =IF($J15="","",IF(INDEX('顧客一覧'!$M$5:$M$104,$J15)="","期日未定",INDEX('顧客一覧'!$M$5:$M$104,$J15))) | C15: =IF($J15="","",IF(ISNUMBER($B15),$B15-$B$2,"")) | D15: =IF($J15="","",INDEX('顧客一覧'!$A$5:$A$104,$J15)) | E15: =IF($J15="","",INDEX('顧客一覧'!$C$5:$C$104,$J15)&"") | F15: =IF($J15="","",INDEX('顧客一覧'!$L$5:$L$104,$J15)&"") | G15: =IF($J15="","",INDEX('顧客一覧'!$G$5:$G$104,$J15)&"") | H15: =IF($J15="","",INDEX('顧客一覧'!$H$5:$H$104,$J15)&"") | I15: =IF($J15="","",INDEX('顧客一覧'!$J$5:$J$104,$J15)) | J15: =IFERROR(MATCH(SMALL('顧客一覧'!$O$5:$O$104,11),'顧客一覧'!$O$5:$O$104,0),"")
A16: =IF($J16="","",12) | B16: =IF($J16="","",IF(INDEX('顧客一覧'!$M$5:$M$104,$J16)="","期日未定",INDEX('顧客一覧'!$M$5:$M$104,$J16))) | C16: =IF($J16="","",IF(ISNUMBER($B16),$B16-$B$2,"")) | D16: =IF($J16="","",INDEX('顧客一覧'!$A$5:$A$104,$J16)) | E16: =IF($J16="","",INDEX('顧客一覧'!$C$5:$C$104,$J16)&"") | F16: =IF($J16="","",INDEX('顧客一覧'!$L$5:$L$104,$J16)&"") | G16: =IF($J16="","",INDEX('顧客一覧'!$G$5:$G$104,$J16)&"") | H16: =IF($J16="","",INDEX('顧客一覧'!$H$5:$H$104,$J16)&"") | I16: =IF($J16="","",INDEX('顧客一覧'!$J$5:$J$104,$J16)) | J16: =IFERROR(MATCH(SMALL('顧客一覧'!$O$5:$O$104,12),'顧客一覧'!$O$5:$O$104,0),"")
A17: =IF($J17="","",13) | B17: =IF($J17="","",IF(INDEX('顧客一覧'!$M$5:$M$104,$J17)="","期日未定",INDEX('顧客一覧'!$M$5:$M$104,$J17))) | C17: =IF($J17="","",IF(ISNUMBER($B17),$B17-$B$2,"")) | D17: =IF($J17="","",INDEX('顧客一覧'!$A$5:$A$104,$J17)) | E17: =IF($J17="","",INDEX('顧客一覧'!$C$5:$C$104,$J17)&"") | F17: =IF($J17="","",INDEX('顧客一覧'!$L$5:$L$104,$J17)&"") | G17: =IF($J17="","",INDEX('顧客一覧'!$G$5:$G$104,$J17)&"") | H17: =IF($J17="","",INDEX('顧客一覧'!$H$5:$H$104,$J17)&"") | I17: =IF($J17="","",INDEX('顧客一覧'!$J$5:$J$104,$J17)) | J17: =IFERROR(MATCH(SMALL('顧客一覧'!$O$5:$O$104,13),'顧客一覧'!$O$5:$O$104,0),"")
A18: =IF($J18="","",14) | B18: =IF($J18="","",IF(INDEX('顧客一覧'!$M$5:$M$104,$J18)="","期日未定",INDEX('顧客一覧'!$M$5:$M$104,$J18))) | C18: =IF($J18="","",IF(ISNUMBER($B18),$B18-$B$2,"")) | D18: =IF($J18="","",INDEX('顧客一覧'!$A$5:$A$104,$J18)) | E18: =IF($J18="","",INDEX('顧客一覧'!$C$5:$C$104,$J18)&"") | F18: =IF($J18="","",INDEX('顧客一覧'!$L$5:$L$104,$J18)&"") | G18: =IF($J18="","",INDEX('顧客一覧'!$G$5:$G$104,$J18)&"") | H18: =IF($J18="","",INDEX('顧客一覧'!$H$5:$H$104,$J18)&"") | I18: =IF($J18="","",INDEX('顧客一覧'!$J$5:$J$104,$J18)) | J18: =IFERROR(MATCH(SMALL('顧客一覧'!$O$5:$O$104,14),'顧客一覧'!$O$5:$O$104,0),"")
A19: =IF($J19="","",15) | B19: =IF($J19="","",IF(INDEX('顧客一覧'!$M$5:$M$104,$J19)="","期日未定",INDEX('顧客一覧'!$M$5:$M$104,$J19))) | C19: =IF($J19="","",IF(ISNUMBER($B19),$B19-$B$2,"")) | D19: =IF($J19="","",INDEX('顧客一覧'!$A$5:$A$104,$J19)) | E19: =IF($J19="","",INDEX('顧客一覧'!$C$5:$C$104,$J19)&"") | F19: =IF($J19="","",INDEX('顧客一覧'!$L$5:$L$104,$J19)&"") | G19: =IF($J19="","",INDEX('顧客一覧'!$G$5:$G$104,$J19)&"") | H19: =IF($J19="","",INDEX('顧客一覧'!$H$5:$H$104,$J19)&"") | I19: =IF($J19="","",INDEX('顧客一覧'!$J$5:$J$104,$J19)) | J19: =IFERROR(MATCH(SMALL('顧客一覧'!$O$5:$O$104,15),'顧客一覧'!$O$5:$O$104,0),"")
A20: =IF($J20="","",16) | B20: =IF($J20="","",IF(INDEX('顧客一覧'!$M$5:$M$104,$J20)="","期日未定",INDEX('顧客一覧'!$M$5:$M$104,$J20))) | C20: =IF($J20="","",IF(ISNUMBER($B20),$B20-$B$2,"")) | D20: =IF($J20="","",INDEX('顧客一覧'!$A$5:$A$104,$J20)) | E20: =IF($J20="","",INDEX('顧客一覧'!$C$5:$C$104,$J20)&"") | F20: =IF($J20="","",INDEX('顧客一覧'!$L$5:$L$104,$J20)&"") | G20: =IF($J20="","",INDEX('顧客一覧'!$G$5:$G$104,$J20)&"") | H20: =IF($J20="","",INDEX('顧客一覧'!$H$5:$H$104,$J20)&"") | I20: =IF($J20="","",INDEX('顧客一覧'!$J$5:$J$104,$J20)) | J20: =IFERROR(MATCH(SMALL('顧客一覧'!$O$5:$O$104,16),'顧客一覧'!$O$5:$O$104,0),"")
A21: =IF($J21="","",17) | B21: =IF($J21="","",IF(INDEX('顧客一覧'!$M$5:$M$104,$J21)="","期日未定",INDEX('顧客一覧'!$M$5:$M$104,$J21))) | C21: =IF($J21="","",IF(ISNUMBER($B21),$B21-$B$2,"")) | D21: =IF($J21="","",INDEX('顧客一覧'!$A$5:$A$104,$J21)) | E21: =IF($J21="","",INDEX('顧客一覧'!$C$5:$C$104,$J21)&"") | F21: =IF($J21="","",INDEX('顧客一覧'!$L$5:$L$104,$J21)&"") | G21: =IF($J21="","",INDEX('顧客一覧'!$G$5:$G$104,$J21)&"") | H21: =IF($J21="","",INDEX('顧客一覧'!$H$5:$H$104,$J21)&"") | I21: =IF($J21="","",INDEX('顧客一覧'!$J$5:$J$104,$J21)) | J21: =IFERROR(MATCH(SMALL('顧客一覧'!$O$5:$O$104,17),'顧客一覧'!$O$5:$O$104,0),"")
A22: =IF($J22="","",18) | B22: =IF($J22="","",IF(INDEX('顧客一覧'!$M$5:$M$104,$J22)="","期日未定",INDEX('顧客一覧'!$M$5:$M$104,$J22))) | C22: =IF($J22="","",IF(ISNUMBER($B22),$B22-$B$2,"")) | D22: =IF($J22="","",INDEX('顧客一覧'!$A$5:$A$104,$J22)) | E22: =IF($J22="","",INDEX('顧客一覧'!$C$5:$C$104,$J22)&"") | F22: =IF($J22="","",INDEX('顧客一覧'!$L$5:$L$104,$J22)&"") | G22: =IF($J22="","",INDEX('顧客一覧'!$G$5:$G$104,$J22)&"") | H22: =IF($J22="","",INDEX('顧客一覧'!$H$5:$H$104,$J22)&"") | I22: =IF($J22="","",INDEX('顧客一覧'!$J$5:$J$104,$J22)) | J22: =IFERROR(MATCH(SMALL('顧客一覧'!$O$5:$O$104,18),'顧客一覧'!$O$5:$O$104,0),"")
A23: =IF($J23="","",19) | B23: =IF($J23="","",IF(INDEX('顧客一覧'!$M$5:$M$104,$J23)="","期日未定",INDEX('顧客一覧'!$M$5:$M$104,$J23))) | C23: =IF($J23="","",IF(ISNUMBER($B23),$B23-$B$2,"")) | D23: =IF($J23="","",INDEX('顧客一覧'!$A$5:$A$104,$J23)) | E23: =IF($J23="","",INDEX('顧客一覧'!$C$5:$C$104,$J23)&"") | F23: =IF($J23="","",INDEX('顧客一覧'!$L$5:$L$104,$J23)&"") | G23: =IF($J23="","",INDEX('顧客一覧'!$G$5:$G$104,$J23)&"") | H23: =IF($J23="","",INDEX('顧客一覧'!$H$5:$H$104,$J23)&"") | I23: =IF($J23="","",INDEX('顧客一覧'!$J$5:$J$104,$J23)) | J23: =IFERROR(MATCH(SMALL('顧客一覧'!$O$5:$O$104,19),'顧客一覧'!$O$5:$O$104,0),"")
A24: =IF($J24="","",20) | B24: =IF($J24="","",IF(INDEX('顧客一覧'!$M$5:$M$104,$J24)="","期日未定",INDEX('顧客一覧'!$M$5:$M$104,$J24))) | C24: =IF($J24="","",IF(ISNUMBER($B24),$B24-$B$2,"")) | D24: =IF($J24="","",INDEX('顧客一覧'!$A$5:$A$104,$J24)) | E24: =IF($J24="","",INDEX('顧客一覧'!$C$5:$C$104,$J24)&"") | F24: =IF($J24="","",INDEX('顧客一覧'!$L$5:$L$104,$J24)&"") | G24: =IF($J24="","",INDEX('顧客一覧'!$G$5:$G$104,$J24)&"") | H24: =IF($J24="","",INDEX('顧客一覧'!$H$5:$H$104,$J24)&"") | I24: =IF($J24="","",INDEX('顧客一覧'!$J$5:$J$104,$J24)) | J24: =IFERROR(MATCH(SMALL('顧客一覧'!$O$5:$O$104,20),'顧客一覧'!$O$5:$O$104,0),"")
A25: =IF($J25="","",21) | B25: =IF($J25="","",IF(INDEX('顧客一覧'!$M$5:$M$104,$J25)="","期日未定",INDEX('顧客一覧'!$M$5:$M$104,$J25))) | C25: =IF($J25="","",IF(ISNUMBER($B25),$B25-$B$2,"")) | D25: =IF($J25="","",INDEX('顧客一覧'!$A$5:$A$104,$J25)) | E25: =IF($J25="","",INDEX('顧客一覧'!$C$5:$C$104,$J25)&"") | F25: =IF($J25="","",INDEX('顧客一覧'!$L$5:$L$104,$J25)&"") | G25: =IF($J25="","",INDEX('顧客一覧'!$G$5:$G$104,$J25)&"") | H25: =IF($J25="","",INDEX('顧客一覧'!$H$5:$H$104,$J25)&"") | I25: =IF($J25="","",INDEX('顧客一覧'!$J$5:$J$104,$J25)) | J25: =IFERROR(MATCH(SMALL('顧客一覧'!$O$5:$O$104,21),'顧客一覧'!$O$5:$O$104,0),"")
A26: =IF($J26="","",22) | B26: =IF($J26="","",IF(INDEX('顧客一覧'!$M$5:$M$104,$J26)="","期日未定",INDEX('顧客一覧'!$M$5:$M$104,$J26))) | C26: =IF($J26="","",IF(ISNUMBER($B26),$B26-$B$2,"")) | D26: =IF($J26="","",INDEX('顧客一覧'!$A$5:$A$104,$J26)) | E26: =IF($J26="","",INDEX('顧客一覧'!$C$5:$C$104,$J26)&"") | F26: =IF($J26="","",INDEX('顧客一覧'!$L$5:$L$104,$J26)&"") | G26: =IF($J26="","",INDEX('顧客一覧'!$G$5:$G$104,$J26)&"") | H26: =IF($J26="","",INDEX('顧客一覧'!$H$5:$H$104,$J26)&"") | I26: =IF($J26="","",INDEX('顧客一覧'!$J$5:$J$104,$J26)) | J26: =IFERROR(MATCH(SMALL('顧客一覧'!$O$5:$O$104,22),'顧客一覧'!$O$5:$O$104,0),"")
A27: =IF($J27="","",23) | B27: =IF($J27="","",IF(INDEX('顧客一覧'!$M$5:$M$104,$J27)="","期日未定",INDEX('顧客一覧'!$M$5:$M$104,$J27))) | C27: =IF($J27="","",IF(ISNUMBER($B27),$B27-$B$2,"")) | D27: =IF($J27="","",INDEX('顧客一覧'!$A$5:$A$104,$J27)) | E27: =IF($J27="","",INDEX('顧客一覧'!$C$5:$C$104,$J27)&"") | F27: =IF($J27="","",INDEX('顧客一覧'!$L$5:$L$104,$J27)&"") | G27: =IF($J27="","",INDEX('顧客一覧'!$G$5:$G$104,$J27)&"") | H27: =IF($J27="","",INDEX('顧客一覧'!$H$5:$H$104,$J27)&"") | I27: =IF($J27="","",INDEX('顧客一覧'!$J$5:$J$104,$J27)) | J27: =IFERROR(MATCH(SMALL('顧客一覧'!$O$5:$O$104,23),'顧客一覧'!$O$5:$O$104,0),"")
A28: =IF($J28="","",24) | B28: =IF($J28="","",IF(INDEX('顧客一覧'!$M$5:$M$104,$J28)="","期日未定",INDEX('顧客一覧'!$M$5:$M$104,$J28))) | C28: =IF($J28="","",IF(ISNUMBER($B28),$B28-$B$2,"")) | D28: =IF($J28="","",INDEX('顧客一覧'!$A$5:$A$104,$J28)) | E28: =IF($J28="","",INDEX('顧客一覧'!$C$5:$C$104,$J28)&"") | F28: =IF($J28="","",INDEX('顧客一覧'!$L$5:$L$104,$J28)&"") | G28: =IF($J28="","",INDEX('顧客一覧'!$G$5:$G$104,$J28)&"") | H28: =IF($J28="","",INDEX('顧客一覧'!$H$5:$H$104,$J28)&"") | I28: =IF($J28="","",INDEX('顧客一覧'!$J$5:$J$104,$J28)) | J28: =IFERROR(MATCH(SMALL('顧客一覧'!$O$5:$O$104,24),'顧客一覧'!$O$5:$O$104,0),"")
A29: =IF($J29="","",25) | B29: =IF($J29="","",IF(INDEX('顧客一覧'!$M$5:$M$104,$J29)="","期日未定",INDEX('顧客一覧'!$M$5:$M$104,$J29))) | C29: =IF($J29="","",IF(ISNUMBER($B29),$B29-$B$2,"")) | D29: =IF($J29="","",INDEX('顧客一覧'!$A$5:$A$104,$J29)) | E29: =IF($J29="","",INDEX('顧客一覧'!$C$5:$C$104,$J29)&"") | F29: =IF($J29="","",INDEX('顧客一覧'!$L$5:$L$104,$J29)&"") | G29: =IF($J29="","",INDEX('顧客一覧'!$G$5:$G$104,$J29)&"") | H29: =IF($J29="","",INDEX('顧客一覧'!$H$5:$H$104,$J29)&"") | I29: =IF($J29="","",INDEX('顧客一覧'!$J$5:$J$104,$J29)) | J29: =IFERROR(MATCH(SMALL('顧客一覧'!$O$5:$O$104,25),'顧客一覧'!$O$5:$O$104,0),"")
A30: =IF($J30="","",26) | B30: =IF($J30="","",IF(INDEX('顧客一覧'!$M$5:$M$104,$J30)="","期日未定",INDEX('顧客一覧'!$M$5:$M$104,$J30))) | C30: =IF($J30="","",IF(ISNUMBER($B30),$B30-$B$2,"")) | D30: =IF($J30="","",INDEX('顧客一覧'!$A$5:$A$104,$J30)) | E30: =IF($J30="","",INDEX('顧客一覧'!$C$5:$C$104,$J30)&"") | F30: =IF($J30="","",INDEX('顧客一覧'!$L$5:$L$104,$J30)&"") | G30: =IF($J30="","",INDEX('顧客一覧'!$G$5:$G$104,$J30)&"") | H30: =IF($J30="","",INDEX('顧客一覧'!$H$5:$H$104,$J30)&"") | I30: =IF($J30="","",INDEX('顧客一覧'!$J$5:$J$104,$J30)) | J30: =IFERROR(MATCH(SMALL('顧客一覧'!$O$5:$O$104,26),'顧客一覧'!$O$5:$O$104,0),"")
A31: =IF($J31="","",27) | B31: =IF($J31="","",IF(INDEX('顧客一覧'!$M$5:$M$104,$J31)="","期日未定",INDEX('顧客一覧'!$M$5:$M$104,$J31))) | C31: =IF($J31="","",IF(ISNUMBER($B31),$B31-$B$2,"")) | D31: =IF($J31="","",INDEX('顧客一覧'!$A$5:$A$104,$J31)) | E31: =IF($J31="","",INDEX('顧客一覧'!$C$5:$C$104,$J31)&"") | F31: =IF($J31="","",INDEX('顧客一覧'!$L$5:$L$104,$J31)&"") | G31: =IF($J31="","",INDEX('顧客一覧'!$G$5:$G$104,$J31)&"") | H31: =IF($J31="","",INDEX('顧客一覧'!$H$5:$H$104,$J31)&"") | I31: =IF($J31="","",INDEX('顧客一覧'!$J$5:$J$104,$J31)) | J31: =IFERROR(MATCH(SMALL('顧客一覧'!$O$5:$O$104,27),'顧客一覧'!$O$5:$O$104,0),"")
A32: =IF($J32="","",28) | B32: =IF($J32="","",IF(INDEX('顧客一覧'!$M$5:$M$104,$J32)="","期日未定",INDEX('顧客一覧'!$M$5:$M$104,$J32))) | C32: =IF($J32="","",IF(ISNUMBER($B32),$B32-$B$2,"")) | D32: =IF($J32="","",INDEX('顧客一覧'!$A$5:$A$104,$J32)) | E32: =IF($J32="","",INDEX('顧客一覧'!$C$5:$C$104,$J32)&"") | F32: =IF($J32="","",INDEX('顧客一覧'!$L$5:$L$104,$J32)&"") | G32: =IF($J32="","",INDEX('顧客一覧'!$G$5:$G$104,$J32)&"") | H32: =IF($J32="","",INDEX('顧客一覧'!$H$5:$H$104,$J32)&"") | I32: =IF($J32="","",INDEX('顧客一覧'!$J$5:$J$104,$J32)) | J32: =IFERROR(MATCH(SMALL('顧客一覧'!$O$5:$O$104,28),'顧客一覧'!$O$5:$O$104,0),"")
A33: =IF($J33="","",29) | B33: =IF($J33="","",IF(INDEX('顧客一覧'!$M$5:$M$104,$J33)="","期日未定",INDEX('顧客一覧'!$M$5:$M$104,$J33))) | C33: =IF($J33="","",IF(ISNUMBER($B33),$B33-$B$2,"")) | D33: =IF($J33="","",INDEX('顧客一覧'!$A$5:$A$104,$J33)) | E33: =IF($J33="","",INDEX('顧客一覧'!$C$5:$C$104,$J33)&"") | F33: =IF($J33="","",INDEX('顧客一覧'!$L$5:$L$104,$J33)&"") | G33: =IF($J33="","",INDEX('顧客一覧'!$G$5:$G$104,$J33)&"") | H33: =IF($J33="","",INDEX('顧客一覧'!$H$5:$H$104,$J33)&"") | I33: =IF($J33="","",INDEX('顧客一覧'!$J$5:$J$104,$J33)) | J33: =IFERROR(MATCH(SMALL('顧客一覧'!$O$5:$O$104,29),'顧客一覧'!$O$5:$O$104,0),"")
A34: =IF($J34="","",30) | B34: =IF($J34="","",IF(INDEX('顧客一覧'!$M$5:$M$104,$J34)="","期日未定",INDEX('顧客一覧'!$M$5:$M$104,$J34))) | C34: =IF($J34="","",IF(ISNUMBER($B34),$B34-$B$2,"")) | D34: =IF($J34="","",INDEX('顧客一覧'!$A$5:$A$104,$J34)) | E34: =IF($J34="","",INDEX('顧客一覧'!$C$5:$C$104,$J34)&"") | F34: =IF($J34="","",INDEX('顧客一覧'!$L$5:$L$104,$J34)&"") | G34: =IF($J34="","",INDEX('顧客一覧'!$G$5:$G$104,$J34)&"") | H34: =IF($J34="","",INDEX('顧客一覧'!$H$5:$H$104,$J34)&"") | I34: =IF($J34="","",INDEX('顧客一覧'!$J$5:$J$104,$J34)) | J34: =IFERROR(MATCH(SMALL('顧客一覧'!$O$5:$O$104,30),'顧客一覧'!$O$5:$O$104,0),"")
A35: =IF($J35="","",31) | B35: =IF($J35="","",IF(INDEX('顧客一覧'!$M$5:$M$104,$J35)="","期日未定",INDEX('顧客一覧'!$M$5:$M$104,$J35))) | C35: =IF($J35="","",IF(ISNUMBER($B35),$B35-$B$2,"")) | D35: =IF($J35="","",INDEX('顧客一覧'!$A$5:$A$104,$J35)) | E35: =IF($J35="","",INDEX('顧客一覧'!$C$5:$C$104,$J35)&"") | F35: =IF($J35="","",INDEX('顧客一覧'!$L$5:$L$104,$J35)&"") | G35: =IF($J35="","",INDEX('顧客一覧'!$G$5:$G$104,$J35)&"") | H35: =IF($J35="","",INDEX('顧客一覧'!$H$5:$H$104,$J35)&"") | I35: =IF($J35="","",INDEX('顧客一覧'!$J$5:$J$104,$J35)) | J35: =IFERROR(MATCH(SMALL('顧客一覧'!$O$5:$O$104,31),'顧客一覧'!$O$5:$O$104,0),"")
A36: =IF($J36="","",32) | B36: =IF($J36="","",IF(INDEX('顧客一覧'!$M$5:$M$104,$J36)="","期日未定",INDEX('顧客一覧'!$M$5:$M$104,$J36))) | C36: =IF($J36="","",IF(ISNUMBER($B36),$B36-$B$2,"")) | D36: =IF($J36="","",INDEX('顧客一覧'!$A$5:$A$104,$J36)) | E36: =IF($J36="","",INDEX('顧客一覧'!$C$5:$C$104,$J36)&"") | F36: =IF($J36="","",INDEX('顧客一覧'!$L$5:$L$104,$J36)&"") | G36: =IF($J36="","",INDEX('顧客一覧'!$G$5:$G$104,$J36)&"") | H36: =IF($J36="","",INDEX('顧客一覧'!$H$5:$H$104,$J36)&"") | I36: =IF($J36="","",INDEX('顧客一覧'!$J$5:$J$104,$J36)) | J36: =IFERROR(MATCH(SMALL('顧客一覧'!$O$5:$O$104,32),'顧客一覧'!$O$5:$O$104,0),"")
A37: =IF($J37="","",33) | B37: =IF($J37="","",IF(INDEX('顧客一覧'!$M$5:$M$104,$J37)="","期日未定",INDEX('顧客一覧'!$M$5:$M$104,$J37))) | C37: =IF($J37="","",IF(ISNUMBER($B37),$B37-$B$2,"")) | D37: =IF($J37="","",INDEX('顧客一覧'!$A$5:$A$104,$J37)) | E37: =IF($J37="","",INDEX('顧客一覧'!$C$5:$C$104,$J37)&"") | F37: =IF($J37="","",INDEX('顧客一覧'!$L$5:$L$104,$J37)&"") | G37: =IF($J37="","",INDEX('顧客一覧'!$G$5:$G$104,$J37)&"") | H37: =IF($J37="","",INDEX('顧客一覧'!$H$5:$H$104,$J37)&"") | I37: =IF($J37="","",INDEX('顧客一覧'!$J$5:$J$104,$J37)) | J37: =IFERROR(MATCH(SMALL('顧客一覧'!$O$5:$O$104,33),'顧客一覧'!$O$5:$O$104,0),"")
A38: =IF($J38="","",34) | B38: =IF($J38="","",IF(INDEX('顧客一覧'!$M$5:$M$104,$J38)="","期日未定",INDEX('顧客一覧'!$M$5:$M$104,$J38))) | C38: =IF($J38="","",IF(ISNUMBER($B38),$B38-$B$2,"")) | D38: =IF($J38="","",INDEX('顧客一覧'!$A$5:$A$104,$J38)) | E38: =IF($J38="","",INDEX('顧客一覧'!$C$5:$C$104,$J38)&"") | F38: =IF($J38="","",INDEX('顧客一覧'!$L$5:$L$104,$J38)&"") | G38: =IF($J38="","",INDEX('顧客一覧'!$G$5:$G$104,$J38)&"") | H38: =IF($J38="","",INDEX('顧客一覧'!$H$5:$H$104,$J38)&"") | I38: =IF($J38="","",INDEX('顧客一覧'!$J$5:$J$104,$J38)) | J38: =IFERROR(MATCH(SMALL('顧客一覧'!$O$5:$O$104,34),'顧客一覧'!$O$5:$O$104,0),"")
A39: =IF($J39="","",35) | B39: =IF($J39="","",IF(INDEX('顧客一覧'!$M$5:$M$104,$J39)="","期日未定",INDEX('顧客一覧'!$M$5:$M$104,$J39))) | C39: =IF($J39="","",IF(ISNUMBER($B39),$B39-$B$2,"")) | D39: =IF($J39="","",INDEX('顧客一覧'!$A$5:$A$104,$J39)) | E39: =IF($J39="","",INDEX('顧客一覧'!$C$5:$C$104,$J39)&"") | F39: =IF($J39="","",INDEX('顧客一覧'!$L$5:$L$104,$J39)&"") | G39: =IF($J39="","",INDEX('顧客一覧'!$G$5:$G$104,$J39)&"") | H39: =IF($J39="","",INDEX('顧客一覧'!$H$5:$H$104,$J39)&"") | I39: =IF($J39="","",INDEX('顧客一覧'!$J$5:$J$104,$J39)) | J39: =IFERROR(MATCH(SMALL('顧客一覧'!$O$5:$O$104,35),'顧客一覧'!$O$5:$O$104,0),"")
A40: =IF($J40="","",36) | B40: =IF($J40="","",IF(INDEX('顧客一覧'!$M$5:$M$104,$J40)="","期日未定",INDEX('顧客一覧'!$M$5:$M$104,$J40))) | C40: =IF($J40="","",IF(ISNUMBER($B40),$B40-$B$2,"")) | D40: =IF($J40="","",INDEX('顧客一覧'!$A$5:$A$104,$J40)) | E40: =IF($J40="","",INDEX('顧客一覧'!$C$5:$C$104,$J40)&"") | F40: =IF($J40="","",INDEX('顧客一覧'!$L$5:$L$104,$J40)&"") | G40: =IF($J40="","",INDEX('顧客一覧'!$G$5:$G$104,$J40)&"") | H40: =IF($J40="","",INDEX('顧客一覧'!$H$5:$H$104,$J40)&"") | I40: =IF($J40="","",INDEX('顧客一覧'!$J$5:$J$104,$J40)) | J40: =IFERROR(MATCH(SMALL('顧客一覧'!$O$5:$O$104,36),'顧客一覧'!$O$5:$O$104,0),"")
A41: =IF($J41="","",37) | B41: =IF($J41="","",IF(INDEX('顧客一覧'!$M$5:$M$104,$J41)="","期日未定",INDEX('顧客一覧'!$M$5:$M$104,$J41))) | C41: =IF($J41="","",IF(ISNUMBER($B41),$B41-$B$2,"")) | D41: =IF($J41="","",INDEX('顧客一覧'!$A$5:$A$104,$J41)) | E41: =IF($J41="","",INDEX('顧客一覧'!$C$5:$C$104,$J41)&"") | F41: =IF($J41="","",INDEX('顧客一覧'!$L$5:$L$104,$J41)&"") | G41: =IF($J41="","",INDEX('顧客一覧'!$G$5:$G$104,$J41)&"") | H41: =IF($J41="","",INDEX('顧客一覧'!$H$5:$H$104,$J41)&"") | I41: =IF($J41="","",INDEX('顧客一覧'!$J$5:$J$104,$J41)) | J41: =IFERROR(MATCH(SMALL('顧客一覧'!$O$5:$O$104,37),'顧客一覧'!$O$5:$O$104,0),"")
A42: =IF($J42="","",38) | B42: =IF($J42="","",IF(INDEX('顧客一覧'!$M$5:$M$104,$J42)="","期日未定",INDEX('顧客一覧'!$M$5:$M$104,$J42))) | C42: =IF($J42="","",IF(ISNUMBER($B42),$B42-$B$2,"")) | D42: =IF($J42="","",INDEX('顧客一覧'!$A$5:$A$104,$J42)) | E42: =IF($J42="","",INDEX('顧客一覧'!$C$5:$C$104,$J42)&"") | F42: =IF($J42="","",INDEX('顧客一覧'!$L$5:$L$104,$J42)&"") | G42: =IF($J42="","",INDEX('顧客一覧'!$G$5:$G$104,$J42)&"") | H42: =IF($J42="","",INDEX('顧客一覧'!$H$5:$H$104,$J42)&"") | I42: =IF($J42="","",INDEX('顧客一覧'!$J$5:$J$104,$J42)) | J42: =IFERROR(MATCH(SMALL('顧客一覧'!$O$5:$O$104,38),'顧客一覧'!$O$5:$O$104,0),"")
A43: =IF($J43="","",39) | B43: =IF($J43="","",IF(INDEX('顧客一覧'!$M$5:$M$104,$J43)="","期日未定",INDEX('顧客一覧'!$M$5:$M$104,$J43))) | C43: =IF($J43="","",IF(ISNUMBER($B43),$B43-$B$2,"")) | D43: =IF($J43="","",INDEX('顧客一覧'!$A$5:$A$104,$J43)) | E43: =IF($J43="","",INDEX('顧客一覧'!$C$5:$C$104,$J43)&"") | F43: =IF($J43="","",INDEX('顧客一覧'!$L$5:$L$104,$J43)&"") | G43: =IF($J43="","",INDEX('顧客一覧'!$G$5:$G$104,$J43)&"") | H43: =IF($J43="","",INDEX('顧客一覧'!$H$5:$H$104,$J43)&"") | I43: =IF($J43="","",INDEX('顧客一覧'!$J$5:$J$104,$J43)) | J43: =IFERROR(MATCH(SMALL('顧客一覧'!$O$5:$O$104,39),'顧客一覧'!$O$5:$O$104,0),"")
A44: =IF($J44="","",40) | B44: =IF($J44="","",IF(INDEX('顧客一覧'!$M$5:$M$104,$J44)="","期日未定",INDEX('顧客一覧'!$M$5:$M$104,$J44))) | C44: =IF($J44="","",IF(ISNUMBER($B44),$B44-$B$2,"")) | D44: =IF($J44="","",INDEX('顧客一覧'!$A$5:$A$104,$J44)) | E44: =IF($J44="","",INDEX('顧客一覧'!$C$5:$C$104,$J44)&"") | F44: =IF($J44="","",INDEX('顧客一覧'!$L$5:$L$104,$J44)&"") | G44: =IF($J44="","",INDEX('顧客一覧'!$G$5:$G$104,$J44)&"") | H44: =IF($J44="","",INDEX('顧客一覧'!$H$5:$H$104,$J44)&"") | I44: =IF($J44="","",INDEX('顧客一覧'!$J$5:$J$104,$J44)) | J44: =IFERROR(MATCH(SMALL('顧客一覧'!$O$5:$O$104,40),'顧客一覧'!$O$5:$O$104,0),"")
A45: =IF($J45="","",41) | B45: =IF($J45="","",IF(INDEX('顧客一覧'!$M$5:$M$104,$J45)="","期日未定",INDEX('顧客一覧'!$M$5:$M$104,$J45))) | C45: =IF($J45="","",IF(ISNUMBER($B45),$B45-$B$2,"")) | D45: =IF($J45="","",INDEX('顧客一覧'!$A$5:$A$104,$J45)) | E45: =IF($J45="","",INDEX('顧客一覧'!$C$5:$C$104,$J45)&"") | F45: =IF($J45="","",INDEX('顧客一覧'!$L$5:$L$104,$J45)&"") | G45: =IF($J45="","",INDEX('顧客一覧'!$G$5:$G$104,$J45)&"") | H45: =IF($J45="","",INDEX('顧客一覧'!$H$5:$H$104,$J45)&"") | I45: =IF($J45="","",INDEX('顧客一覧'!$J$5:$J$104,$J45)) | J45: =IFERROR(MATCH(SMALL('顧客一覧'!$O$5:$O$104,41),'顧客一覧'!$O$5:$O$104,0),"")
A46: =IF($J46="","",42) | B46: =IF($J46="","",IF(INDEX('顧客一覧'!$M$5:$M$104,$J46)="","期日未定",INDEX('顧客一覧'!$M$5:$M$104,$J46))) | C46: =IF($J46="","",IF(ISNUMBER($B46),$B46-$B$2,"")) | D46: =IF($J46="","",INDEX('顧客一覧'!$A$5:$A$104,$J46)) | E46: =IF($J46="","",INDEX('顧客一覧'!$C$5:$C$104,$J46)&"") | F46: =IF($J46="","",INDEX('顧客一覧'!$L$5:$L$104,$J46)&"") | G46: =IF($J46="","",INDEX('顧客一覧'!$G$5:$G$104,$J46)&"") | H46: =IF($J46="","",INDEX('顧客一覧'!$H$5:$H$104,$J46)&"") | I46: =IF($J46="","",INDEX('顧客一覧'!$J$5:$J$104,$J46)) | J46: =IFERROR(MATCH(SMALL('顧客一覧'!$O$5:$O$104,42),'顧客一覧'!$O$5:$O$104,0),"")
A47: =IF($J47="","",43) | B47: =IF($J47="","",IF(INDEX('顧客一覧'!$M$5:$M$104,$J47)="","期日未定",INDEX('顧客一覧'!$M$5:$M$104,$J47))) | C47: =IF($J47="","",IF(ISNUMBER($B47),$B47-$B$2,"")) | D47: =IF($J47="","",INDEX('顧客一覧'!$A$5:$A$104,$J47)) | E47: =IF($J47="","",INDEX('顧客一覧'!$C$5:$C$104,$J47)&"") | F47: =IF($J47="","",INDEX('顧客一覧'!$L$5:$L$104,$J47)&"") | G47: =IF($J47="","",INDEX('顧客一覧'!$G$5:$G$104,$J47)&"") | H47: =IF($J47="","",INDEX('顧客一覧'!$H$5:$H$104,$J47)&"") | I47: =IF($J47="","",INDEX('顧客一覧'!$J$5:$J$104,$J47)) | J47: =IFERROR(MATCH(SMALL('顧客一覧'!$O$5:$O$104,43),'顧客一覧'!$O$5:$O$104,0),"")
A48: =IF($J48="","",44) | B48: =IF($J48="","",IF(INDEX('顧客一覧'!$M$5:$M$104,$J48)="","期日未定",INDEX('顧客一覧'!$M$5:$M$104,$J48))) | C48: =IF($J48="","",IF(ISNUMBER($B48),$B48-$B$2,"")) | D48: =IF($J48="","",INDEX('顧客一覧'!$A$5:$A$104,$J48)) | E48: =IF($J48="","",INDEX('顧客一覧'!$C$5:$C$104,$J48)&"") | F48: =IF($J48="","",INDEX('顧客一覧'!$L$5:$L$104,$J48)&"") | G48: =IF($J48="","",INDEX('顧客一覧'!$G$5:$G$104,$J48)&"") | H48: =IF($J48="","",INDEX('顧客一覧'!$H$5:$H$104,$J48)&"") | I48: =IF($J48="","",INDEX('顧客一覧'!$J$5:$J$104,$J48)) | J48: =IFERROR(MATCH(SMALL('顧客一覧'!$O$5:$O$104,44),'顧客一覧'!$O$5:$O$104,0),"")
A49: =IF($J49="","",45) | B49: =IF($J49="","",IF(INDEX('顧客一覧'!$M$5:$M$104,$J49)="","期日未定",INDEX('顧客一覧'!$M$5:$M$104,$J49))) | C49: =IF($J49="","",IF(ISNUMBER($B49),$B49-$B$2,"")) | D49: =IF($J49="","",INDEX('顧客一覧'!$A$5:$A$104,$J49)) | E49: =IF($J49="","",INDEX('顧客一覧'!$C$5:$C$104,$J49)&"") | F49: =IF($J49="","",INDEX('顧客一覧'!$L$5:$L$104,$J49)&"") | G49: =IF($J49="","",INDEX('顧客一覧'!$G$5:$G$104,$J49)&"") | H49: =IF($J49="","",INDEX('顧客一覧'!$H$5:$H$104,$J49)&"") | I49: =IF($J49="","",INDEX('顧客一覧'!$J$5:$J$104,$J49)) | J49: =IFERROR(MATCH(SMALL('顧客一覧'!$O$5:$O$104,45),'顧客一覧'!$O$5:$O$104,0),"")
A50: =IF($J50="","",46) | B50: =IF($J50="","",IF(INDEX('顧客一覧'!$M$5:$M$104,$J50)="","期日未定",INDEX('顧客一覧'!$M$5:$M$104,$J50))) | C50: =IF($J50="","",IF(ISNUMBER($B50),$B50-$B$2,"")) | D50: =IF($J50="","",INDEX('顧客一覧'!$A$5:$A$104,$J50)) | E50: =IF($J50="","",INDEX('顧客一覧'!$C$5:$C$104,$J50)&"") | F50: =IF($J50="","",INDEX('顧客一覧'!$L$5:$L$104,$J50)&"") | G50: =IF($J50="","",INDEX('顧客一覧'!$G$5:$G$104,$J50)&"") | H50: =IF($J50="","",INDEX('顧客一覧'!$H$5:$H$104,$J50)&"") | I50: =IF($J50="","",INDEX('顧客一覧'!$J$5:$J$104,$J50)) | J50: =IFERROR(MATCH(SMALL('顧客一覧'!$O$5:$O$104,46),'顧客一覧'!$O$5:$O$104,0),"")
A51: =IF($J51="","",47) | B51: =IF($J51="","",IF(INDEX('顧客一覧'!$M$5:$M$104,$J51)="","期日未定",INDEX('顧客一覧'!$M$5:$M$104,$J51))) | C51: =IF($J51="","",IF(ISNUMBER($B51),$B51-$B$2,"")) | D51: =IF($J51="","",INDEX('顧客一覧'!$A$5:$A$104,$J51)) | E51: =IF($J51="","",INDEX('顧客一覧'!$C$5:$C$104,$J51)&"") | F51: =IF($J51="","",INDEX('顧客一覧'!$L$5:$L$104,$J51)&"") | G51: =IF($J51="","",INDEX('顧客一覧'!$G$5:$G$104,$J51)&"") | H51: =IF($J51="","",INDEX('顧客一覧'!$H$5:$H$104,$J51)&"") | I51: =IF($J51="","",INDEX('顧客一覧'!$J$5:$J$104,$J51)) | J51: =IFERROR(MATCH(SMALL('顧客一覧'!$O$5:$O$104,47),'顧客一覧'!$O$5:$O$104,0),"")
A52: =IF($J52="","",48) | B52: =IF($J52="","",IF(INDEX('顧客一覧'!$M$5:$M$104,$J52)="","期日未定",INDEX('顧客一覧'!$M$5:$M$104,$J52))) | C52: =IF($J52="","",IF(ISNUMBER($B52),$B52-$B$2,"")) | D52: =IF($J52="","",INDEX('顧客一覧'!$A$5:$A$104,$J52)) | E52: =IF($J52="","",INDEX('顧客一覧'!$C$5:$C$104,$J52)&"") | F52: =IF($J52="","",INDEX('顧客一覧'!$L$5:$L$104,$J52)&"") | G52: =IF($J52="","",INDEX('顧客一覧'!$G$5:$G$104,$J52)&"") | H52: =IF($J52="","",INDEX('顧客一覧'!$H$5:$H$104,$J52)&"") | I52: =IF($J52="","",INDEX('顧客一覧'!$J$5:$J$104,$J52)) | J52: =IFERROR(MATCH(SMALL('顧客一覧'!$O$5:$O$104,48),'顧客一覧'!$O$5:$O$104,0),"")
A53: =IF($J53="","",49) | B53: =IF($J53="","",IF(INDEX('顧客一覧'!$M$5:$M$104,$J53)="","期日未定",INDEX('顧客一覧'!$M$5:$M$104,$J53))) | C53: =IF($J53="","",IF(ISNUMBER($B53),$B53-$B$2,"")) | D53: =IF($J53="","",INDEX('顧客一覧'!$A$5:$A$104,$J53)) | E53: =IF($J53="","",INDEX('顧客一覧'!$C$5:$C$104,$J53)&"") | F53: =IF($J53="","",INDEX('顧客一覧'!$L$5:$L$104,$J53)&"") | G53: =IF($J53="","",INDEX('顧客一覧'!$G$5:$G$104,$J53)&"") | H53: =IF($J53="","",INDEX('顧客一覧'!$H$5:$H$104,$J53)&"") | I53: =IF($J53="","",INDEX('顧客一覧'!$J$5:$J$104,$J53)) | J53: =IFERROR(MATCH(SMALL('顧客一覧'!$O$5:$O$104,49),'顧客一覧'!$O$5:$O$104,0),"")
A54: =IF($J54="","",50) | B54: =IF($J54="","",IF(INDEX('顧客一覧'!$M$5:$M$104,$J54)="","期日未定",INDEX('顧客一覧'!$M$5:$M$104,$J54))) | C54: =IF($J54="","",IF(ISNUMBER($B54),$B54-$B$2,"")) | D54: =IF($J54="","",INDEX('顧客一覧'!$A$5:$A$104,$J54)) | E54: =IF($J54="","",INDEX('顧客一覧'!$C$5:$C$104,$J54)&"") | F54: =IF($J54="","",INDEX('顧客一覧'!$L$5:$L$104,$J54)&"") | G54: =IF($J54="","",INDEX('顧客一覧'!$G$5:$G$104,$J54)&"") | H54: =IF($J54="","",INDEX('顧客一覧'!$H$5:$H$104,$J54)&"") | I54: =IF($J54="","",INDEX('顧客一覧'!$J$5:$J$104,$J54)) | J54: =IFERROR(MATCH(SMALL('顧客一覧'!$O$5:$O$104,50),'顧客一覧'!$O$5:$O$104,0),"")
A55: =IF($J55="","",51) | B55: =IF($J55="","",IF(INDEX('顧客一覧'!$M$5:$M$104,$J55)="","期日未定",INDEX('顧客一覧'!$M$5:$M$104,$J55))) | C55: =IF($J55="","",IF(ISNUMBER($B55),$B55-$B$2,"")) | D55: =IF($J55="","",INDEX('顧客一覧'!$A$5:$A$104,$J55)) | E55: =IF($J55="","",INDEX('顧客一覧'!$C$5:$C$104,$J55)&"") | F55: =IF($J55="","",INDEX('顧客一覧'!$L$5:$L$104,$J55)&"") | G55: =IF($J55="","",INDEX('顧客一覧'!$G$5:$G$104,$J55)&"") | H55: =IF($J55="","",INDEX('顧客一覧'!$H$5:$H$104,$J55)&"") | I55: =IF($J55="","",INDEX('顧客一覧'!$J$5:$J$104,$J55)) | J55: =IFERROR(MATCH(SMALL('顧客一覧'!$O$5:$O$104,51),'顧客一覧'!$O$5:$O$104,0),"")
A56: =IF($J56="","",52) | B56: =IF($J56="","",IF(INDEX('顧客一覧'!$M$5:$M$104,$J56)="","期日未定",INDEX('顧客一覧'!$M$5:$M$104,$J56))) | C56: =IF($J56="","",IF(ISNUMBER($B56),$B56-$B$2,"")) | D56: =IF($J56="","",INDEX('顧客一覧'!$A$5:$A$104,$J56)) | E56: =IF($J56="","",INDEX('顧客一覧'!$C$5:$C$104,$J56)&"") | F56: =IF($J56="","",INDEX('顧客一覧'!$L$5:$L$104,$J56)&"") | G56: =IF($J56="","",INDEX('顧客一覧'!$G$5:$G$104,$J56)&"") | H56: =IF($J56="","",INDEX('顧客一覧'!$H$5:$H$104,$J56)&"") | I56: =IF($J56="","",INDEX('顧客一覧'!$J$5:$J$104,$J56)) | J56: =IFERROR(MATCH(SMALL('顧客一覧'!$O$5:$O$104,52),'顧客一覧'!$O$5:$O$104,0),"")
A57: =IF($J57="","",53) | B57: =IF($J57="","",IF(INDEX('顧客一覧'!$M$5:$M$104,$J57)="","期日未定",INDEX('顧客一覧'!$M$5:$M$104,$J57))) | C57: =IF($J57="","",IF(ISNUMBER($B57),$B57-$B$2,"")) | D57: =IF($J57="","",INDEX('顧客一覧'!$A$5:$A$104,$J57)) | E57: =IF($J57="","",INDEX('顧客一覧'!$C$5:$C$104,$J57)&"") | F57: =IF($J57="","",INDEX('顧客一覧'!$L$5:$L$104,$J57)&"") | G57: =IF($J57="","",INDEX('顧客一覧'!$G$5:$G$104,$J57)&"") | H57: =IF($J57="","",INDEX('顧客一覧'!$H$5:$H$104,$J57)&"") | I57: =IF($J57="","",INDEX('顧客一覧'!$J$5:$J$104,$J57)) | J57: =IFERROR(MATCH(SMALL('顧客一覧'!$O$5:$O$104,53),'顧客一覧'!$O$5:$O$104,0),"")
A58: =IF($J58="","",54) | B58: =IF($J58="","",IF(INDEX('顧客一覧'!$M$5:$M$104,$J58)="","期日未定",INDEX('顧客一覧'!$M$5:$M$104,$J58))) | C58: =IF($J58="","",IF(ISNUMBER($B58),$B58-$B$2,"")) | D58: =IF($J58="","",INDEX('顧客一覧'!$A$5:$A$104,$J58)) | E58: =IF($J58="","",INDEX('顧客一覧'!$C$5:$C$104,$J58)&"") | F58: =IF($J58="","",INDEX('顧客一覧'!$L$5:$L$104,$J58)&"") | G58: =IF($J58="","",INDEX('顧客一覧'!$G$5:$G$104,$J58)&"") | H58: =IF($J58="","",INDEX('顧客一覧'!$H$5:$H$104,$J58)&"") | I58: =IF($J58="","",INDEX('顧客一覧'!$J$5:$J$104,$J58)) | J58: =IFERROR(MATCH(SMALL('顧客一覧'!$O$5:$O$104,54),'顧客一覧'!$O$5:$O$104,0),"")
A59: =IF($J59="","",55) | B59: =IF($J59="","",IF(INDEX('顧客一覧'!$M$5:$M$104,$J59)="","期日未定",INDEX('顧客一覧'!$M$5:$M$104,$J59))) | C59: =IF($J59="","",IF(ISNUMBER($B59),$B59-$B$2,"")) | D59: =IF($J59="","",INDEX('顧客一覧'!$A$5:$A$104,$J59)) | E59: =IF($J59="","",INDEX('顧客一覧'!$C$5:$C$104,$J59)&"") | F59: =IF($J59="","",INDEX('顧客一覧'!$L$5:$L$104,$J59)&"") | G59: =IF($J59="","",INDEX('顧客一覧'!$G$5:$G$104,$J59)&"") | H59: =IF($J59="","",INDEX('顧客一覧'!$H$5:$H$104,$J59)&"") | I59: =IF($J59="","",INDEX('顧客一覧'!$J$5:$J$104,$J59)) | J59: =IFERROR(MATCH(SMALL('顧客一覧'!$O$5:$O$104,55),'顧客一覧'!$O$5:$O$104,0),"")
A60: =IF($J60="","",56) | B60: =IF($J60="","",IF(INDEX('顧客一覧'!$M$5:$M$104,$J60)="","期日未定",INDEX('顧客一覧'!$M$5:$M$104,$J60))) | C60: =IF($J60="","",IF(ISNUMBER($B60),$B60-$B$2,"")) | D60: =IF($J60="","",INDEX('顧客一覧'!$A$5:$A$104,$J60)) | E60: =IF($J60="","",INDEX('顧客一覧'!$C$5:$C$104,$J60)&"") | F60: =IF($J60="","",INDEX('顧客一覧'!$L$5:$L$104,$J60)&"") | G60: =IF($J60="","",INDEX('顧客一覧'!$G$5:$G$104,$J60)&"") | H60: =IF($J60="","",INDEX('顧客一覧'!$H$5:$H$104,$J60)&"") | I60: =IF($J60="","",INDEX('顧客一覧'!$J$5:$J$104,$J60)) | J60: =IFERROR(MATCH(SMALL('顧客一覧'!$O$5:$O$104,56),'顧客一覧'!$O$5:$O$104,0),"")
A61: =IF($J61="","",57) | B61: =IF($J61="","",IF(INDEX('顧客一覧'!$M$5:$M$104,$J61)="","期日未定",INDEX('顧客一覧'!$M$5:$M$104,$J61))) | C61: =IF($J61="","",IF(ISNUMBER($B61),$B61-$B$2,"")) | D61: =IF($J61="","",INDEX('顧客一覧'!$A$5:$A$104,$J61)) | E61: =IF($J61="","",INDEX('顧客一覧'!$C$5:$C$104,$J61)&"") | F61: =IF($J61="","",INDEX('顧客一覧'!$L$5:$L$104,$J61)&"") | G61: =IF($J61="","",INDEX('顧客一覧'!$G$5:$G$104,$J61)&"") | H61: =IF($J61="","",INDEX('顧客一覧'!$H$5:$H$104,$J61)&"") | I61: =IF($J61="","",INDEX('顧客一覧'!$J$5:$J$104,$J61)) | J61: =IFERROR(MATCH(SMALL('顧客一覧'!$O$5:$O$104,57),'顧客一覧'!$O$5:$O$104,0),"")
A62: =IF($J62="","",58) | B62: =IF($J62="","",IF(INDEX('顧客一覧'!$M$5:$M$104,$J62)="","期日未定",INDEX('顧客一覧'!$M$5:$M$104,$J62))) | C62: =IF($J62="","",IF(ISNUMBER($B62),$B62-$B$2,"")) | D62: =IF($J62="","",INDEX('顧客一覧'!$A$5:$A$104,$J62)) | E62: =IF($J62="","",INDEX('顧客一覧'!$C$5:$C$104,$J62)&"") | F62: =IF($J62="","",INDEX('顧客一覧'!$L$5:$L$104,$J62)&"") | G62: =IF($J62="","",INDEX('顧客一覧'!$G$5:$G$104,$J62)&"") | H62: =IF($J62="","",INDEX('顧客一覧'!$H$5:$H$104,$J62)&"") | I62: =IF($J62="","",INDEX('顧客一覧'!$J$5:$J$104,$J62)) | J62: =IFERROR(MATCH(SMALL('顧客一覧'!$O$5:$O$104,58),'顧客一覧'!$O$5:$O$104,0),"")
A63: =IF($J63="","",59) | B63: =IF($J63="","",IF(INDEX('顧客一覧'!$M$5:$M$104,$J63)="","期日未定",INDEX('顧客一覧'!$M$5:$M$104,$J63))) | C63: =IF($J63="","",IF(ISNUMBER($B63),$B63-$B$2,"")) | D63: =IF($J63="","",INDEX('顧客一覧'!$A$5:$A$104,$J63)) | E63: =IF($J63="","",INDEX('顧客一覧'!$C$5:$C$104,$J63)&"") | F63: =IF($J63="","",INDEX('顧客一覧'!$L$5:$L$104,$J63)&"") | G63: =IF($J63="","",INDEX('顧客一覧'!$G$5:$G$104,$J63)&"") | H63: =IF($J63="","",INDEX('顧客一覧'!$H$5:$H$104,$J63)&"") | I63: =IF($J63="","",INDEX('顧客一覧'!$J$5:$J$104,$J63)) | J63: =IFERROR(MATCH(SMALL('顧客一覧'!$O$5:$O$104,59),'顧客一覧'!$O$5:$O$104,0),"")
A64: =IF($J64="","",60) | B64: =IF($J64="","",IF(INDEX('顧客一覧'!$M$5:$M$104,$J64)="","期日未定",INDEX('顧客一覧'!$M$5:$M$104,$J64))) | C64: =IF($J64="","",IF(ISNUMBER($B64),$B64-$B$2,"")) | D64: =IF($J64="","",INDEX('顧客一覧'!$A$5:$A$104,$J64)) | E64: =IF($J64="","",INDEX('顧客一覧'!$C$5:$C$104,$J64)&"") | F64: =IF($J64="","",INDEX('顧客一覧'!$L$5:$L$104,$J64)&"") | G64: =IF($J64="","",INDEX('顧客一覧'!$G$5:$G$104,$J64)&"") | H64: =IF($J64="","",INDEX('顧客一覧'!$H$5:$H$104,$J64)&"") | I64: =IF($J64="","",INDEX('顧客一覧'!$J$5:$J$104,$J64)) | J64: =IFERROR(MATCH(SMALL('顧客一覧'!$O$5:$O$104,60),'顧客一覧'!$O$5:$O$104,0),"")
A65: =IF($J65="","",61) | B65: =IF($J65="","",IF(INDEX('顧客一覧'!$M$5:$M$104,$J65)="","期日未定",INDEX('顧客一覧'!$M$5:$M$104,$J65))) | C65: =IF($J65="","",IF(ISNUMBER($B65),$B65-$B$2,"")) | D65: =IF($J65="","",INDEX('顧客一覧'!$A$5:$A$104,$J65)) | E65: =IF($J65="","",INDEX('顧客一覧'!$C$5:$C$104,$J65)&"") | F65: =IF($J65="","",INDEX('顧客一覧'!$L$5:$L$104,$J65)&"") | G65: =IF($J65="","",INDEX('顧客一覧'!$G$5:$G$104,$J65)&"") | H65: =IF($J65="","",INDEX('顧客一覧'!$H$5:$H$104,$J65)&"") | I65: =IF($J65="","",INDEX('顧客一覧'!$J$5:$J$104,$J65)) | J65: =IFERROR(MATCH(SMALL('顧客一覧'!$O$5:$O$104,61),'顧客一覧'!$O$5:$O$104,0),"")
A66: =IF($J66="","",62) | B66: =IF($J66="","",IF(INDEX('顧客一覧'!$M$5:$M$104,$J66)="","期日未定",INDEX('顧客一覧'!$M$5:$M$104,$J66))) | C66: =IF($J66="","",IF(ISNUMBER($B66),$B66-$B$2,"")) | D66: =IF($J66="","",INDEX('顧客一覧'!$A$5:$A$104,$J66)) | E66: =IF($J66="","",INDEX('顧客一覧'!$C$5:$C$104,$J66)&"") | F66: =IF($J66="","",INDEX('顧客一覧'!$L$5:$L$104,$J66)&"") | G66: =IF($J66="","",INDEX('顧客一覧'!$G$5:$G$104,$J66)&"") | H66: =IF($J66="","",INDEX('顧客一覧'!$H$5:$H$104,$J66)&"") | I66: =IF($J66="","",INDEX('顧客一覧'!$J$5:$J$104,$J66)) | J66: =IFERROR(MATCH(SMALL('顧客一覧'!$O$5:$O$104,62),'顧客一覧'!$O$5:$O$104,0),"")
A67: =IF($J67="","",63) | B67: =IF($J67="","",IF(INDEX('顧客一覧'!$M$5:$M$104,$J67)="","期日未定",INDEX('顧客一覧'!$M$5:$M$104,$J67))) | C67: =IF($J67="","",IF(ISNUMBER($B67),$B67-$B$2,"")) | D67: =IF($J67="","",INDEX('顧客一覧'!$A$5:$A$104,$J67)) | E67: =IF($J67="","",INDEX('顧客一覧'!$C$5:$C$104,$J67)&"") | F67: =IF($J67="","",INDEX('顧客一覧'!$L$5:$L$104,$J67)&"") | G67: =IF($J67="","",INDEX('顧客一覧'!$G$5:$G$104,$J67)&"") | H67: =IF($J67="","",INDEX('顧客一覧'!$H$5:$H$104,$J67)&"") | I67: =IF($J67="","",INDEX('顧客一覧'!$J$5:$J$104,$J67)) | J67: =IFERROR(MATCH(SMALL('顧客一覧'!$O$5:$O$104,63),'顧客一覧'!$O$5:$O$104,0),"")
A68: =IF($J68="","",64) | B68: =IF($J68="","",IF(INDEX('顧客一覧'!$M$5:$M$104,$J68)="","期日未定",INDEX('顧客一覧'!$M$5:$M$104,$J68))) | C68: =IF($J68="","",IF(ISNUMBER($B68),$B68-$B$2,"")) | D68: =IF($J68="","",INDEX('顧客一覧'!$A$5:$A$104,$J68)) | E68: =IF($J68="","",INDEX('顧客一覧'!$C$5:$C$104,$J68)&"") | F68: =IF($J68="","",INDEX('顧客一覧'!$L$5:$L$104,$J68)&"") | G68: =IF($J68="","",INDEX('顧客一覧'!$G$5:$G$104,$J68)&"") | H68: =IF($J68="","",INDEX('顧客一覧'!$H$5:$H$104,$J68)&"") | I68: =IF($J68="","",INDEX('顧客一覧'!$J$5:$J$104,$J68)) | J68: =IFERROR(MATCH(SMALL('顧客一覧'!$O$5:$O$104,64),'顧客一覧'!$O$5:$O$104,0),"")
A69: =IF($J69="","",65) | B69: =IF($J69="","",IF(INDEX('顧客一覧'!$M$5:$M$104,$J69)="","期日未定",INDEX('顧客一覧'!$M$5:$M$104,$J69))) | C69: =IF($J69="","",IF(ISNUMBER($B69),$B69-$B$2,"")) | D69: =IF($J69="","",INDEX('顧客一覧'!$A$5:$A$104,$J69)) | E69: =IF($J69="","",INDEX('顧客一覧'!$C$5:$C$104,$J69)&"") | F69: =IF($J69="","",INDEX('顧客一覧'!$L$5:$L$104,$J69)&"") | G69: =IF($J69="","",INDEX('顧客一覧'!$G$5:$G$104,$J69)&"") | H69: =IF($J69="","",INDEX('顧客一覧'!$H$5:$H$104,$J69)&"") | I69: =IF($J69="","",INDEX('顧客一覧'!$J$5:$J$104,$J69)) | J69: =IFERROR(MATCH(SMALL('顧客一覧'!$O$5:$O$104,65),'顧客一覧'!$O$5:$O$104,0),"")
A70: =IF($J70="","",66) | B70: =IF($J70="","",IF(INDEX('顧客一覧'!$M$5:$M$104,$J70)="","期日未定",INDEX('顧客一覧'!$M$5:$M$104,$J70))) | C70: =IF($J70="","",IF(ISNUMBER($B70),$B70-$B$2,"")) | D70: =IF($J70="","",INDEX('顧客一覧'!$A$5:$A$104,$J70)) | E70: =IF($J70="","",INDEX('顧客一覧'!$C$5:$C$104,$J70)&"") | F70: =IF($J70="","",INDEX('顧客一覧'!$L$5:$L$104,$J70)&"") | G70: =IF($J70="","",INDEX('顧客一覧'!$G$5:$G$104,$J70)&"") | H70: =IF($J70="","",INDEX('顧客一覧'!$H$5:$H$104,$J70)&"") | I70: =IF($J70="","",INDEX('顧客一覧'!$J$5:$J$104,$J70)) | J70: =IFERROR(MATCH(SMALL('顧客一覧'!$O$5:$O$104,66),'顧客一覧'!$O$5:$O$104,0),"")
A71: =IF($J71="","",67) | B71: =IF($J71="","",IF(INDEX('顧客一覧'!$M$5:$M$104,$J71)="","期日未定",INDEX('顧客一覧'!$M$5:$M$104,$J71))) | C71: =IF($J71="","",IF(ISNUMBER($B71),$B71-$B$2,"")) | D71: =IF($J71="","",INDEX('顧客一覧'!$A$5:$A$104,$J71)) | E71: =IF($J71="","",INDEX('顧客一覧'!$C$5:$C$104,$J71)&"") | F71: =IF($J71="","",INDEX('顧客一覧'!$L$5:$L$104,$J71)&"") | G71: =IF($J71="","",INDEX('顧客一覧'!$G$5:$G$104,$J71)&"") | H71: =IF($J71="","",INDEX('顧客一覧'!$H$5:$H$104,$J71)&"") | I71: =IF($J71="","",INDEX('顧客一覧'!$J$5:$J$104,$J71)) | J71: =IFERROR(MATCH(SMALL('顧客一覧'!$O$5:$O$104,67),'顧客一覧'!$O$5:$O$104,0),"")
A72: =IF($J72="","",68) | B72: =IF($J72="","",IF(INDEX('顧客一覧'!$M$5:$M$104,$J72)="","期日未定",INDEX('顧客一覧'!$M$5:$M$104,$J72))) | C72: =IF($J72="","",IF(ISNUMBER($B72),$B72-$B$2,"")) | D72: =IF($J72="","",INDEX('顧客一覧'!$A$5:$A$104,$J72)) | E72: =IF($J72="","",INDEX('顧客一覧'!$C$5:$C$104,$J72)&"") | F72: =IF($J72="","",INDEX('顧客一覧'!$L$5:$L$104,$J72)&"") | G72: =IF($J72="","",INDEX('顧客一覧'!$G$5:$G$104,$J72)&"") | H72: =IF($J72="","",INDEX('顧客一覧'!$H$5:$H$104,$J72)&"") | I72: =IF($J72="","",INDEX('顧客一覧'!$J$5:$J$104,$J72)) | J72: =IFERROR(MATCH(SMALL('顧客一覧'!$O$5:$O$104,68),'顧客一覧'!$O$5:$O$104,0),"")
A73: =IF($J73="","",69) | B73: =IF($J73="","",IF(INDEX('顧客一覧'!$M$5:$M$104,$J73)="","期日未定",INDEX('顧客一覧'!$M$5:$M$104,$J73))) | C73: =IF($J73="","",IF(ISNUMBER($B73),$B73-$B$2,"")) | D73: =IF($J73="","",INDEX('顧客一覧'!$A$5:$A$104,$J73)) | E73: =IF($J73="","",INDEX('顧客一覧'!$C$5:$C$104,$J73)&"") | F73: =IF($J73="","",INDEX('顧客一覧'!$L$5:$L$104,$J73)&"") | G73: =IF($J73="","",INDEX('顧客一覧'!$G$5:$G$104,$J73)&"") | H73: =IF($J73="","",INDEX('顧客一覧'!$H$5:$H$104,$J73)&"") | I73: =IF($J73="","",INDEX('顧客一覧'!$J$5:$J$104,$J73)) | J73: =IFERROR(MATCH(SMALL('顧客一覧'!$O$5:$O$104,69),'顧客一覧'!$O$5:$O$104,0),"")
A74: =IF($J74="","",70) | B74: =IF($J74="","",IF(INDEX('顧客一覧'!$M$5:$M$104,$J74)="","期日未定",INDEX('顧客一覧'!$M$5:$M$104,$J74))) | C74: =IF($J74="","",IF(ISNUMBER($B74),$B74-$B$2,"")) | D74: =IF($J74="","",INDEX('顧客一覧'!$A$5:$A$104,$J74)) | E74: =IF($J74="","",INDEX('顧客一覧'!$C$5:$C$104,$J74)&"") | F74: =IF($J74="","",INDEX('顧客一覧'!$L$5:$L$104,$J74)&"") | G74: =IF($J74="","",INDEX('顧客一覧'!$G$5:$G$104,$J74)&"") | H74: =IF($J74="","",INDEX('顧客一覧'!$H$5:$H$104,$J74)&"") | I74: =IF($J74="","",INDEX('顧客一覧'!$J$5:$J$104,$J74)) | J74: =IFERROR(MATCH(SMALL('顧客一覧'!$O$5:$O$104,70),'顧客一覧'!$O$5:$O$104,0),"")
A75: =IF($J75="","",71) | B75: =IF($J75="","",IF(INDEX('顧客一覧'!$M$5:$M$104,$J75)="","期日未定",INDEX('顧客一覧'!$M$5:$M$104,$J75))) | C75: =IF($J75="","",IF(ISNUMBER($B75),$B75-$B$2,"")) | D75: =IF($J75="","",INDEX('顧客一覧'!$A$5:$A$104,$J75)) | E75: =IF($J75="","",INDEX('顧客一覧'!$C$5:$C$104,$J75)&"") | F75: =IF($J75="","",INDEX('顧客一覧'!$L$5:$L$104,$J75)&"") | G75: =IF($J75="","",INDEX('顧客一覧'!$G$5:$G$104,$J75)&"") | H75: =IF($J75="","",INDEX('顧客一覧'!$H$5:$H$104,$J75)&"") | I75: =IF($J75="","",INDEX('顧客一覧'!$J$5:$J$104,$J75)) | J75: =IFERROR(MATCH(SMALL('顧客一覧'!$O$5:$O$104,71),'顧客一覧'!$O$5:$O$104,0),"")
A76: =IF($J76="","",72) | B76: =IF($J76="","",IF(INDEX('顧客一覧'!$M$5:$M$104,$J76)="","期日未定",INDEX('顧客一覧'!$M$5:$M$104,$J76))) | C76: =IF($J76="","",IF(ISNUMBER($B76),$B76-$B$2,"")) | D76: =IF($J76="","",INDEX('顧客一覧'!$A$5:$A$104,$J76)) | E76: =IF($J76="","",INDEX('顧客一覧'!$C$5:$C$104,$J76)&"") | F76: =IF($J76="","",INDEX('顧客一覧'!$L$5:$L$104,$J76)&"") | G76: =IF($J76="","",INDEX('顧客一覧'!$G$5:$G$104,$J76)&"") | H76: =IF($J76="","",INDEX('顧客一覧'!$H$5:$H$104,$J76)&"") | I76: =IF($J76="","",INDEX('顧客一覧'!$J$5:$J$104,$J76)) | J76: =IFERROR(MATCH(SMALL('顧客一覧'!$O$5:$O$104,72),'顧客一覧'!$O$5:$O$104,0),"")
A77: =IF($J77="","",73) | B77: =IF($J77="","",IF(INDEX('顧客一覧'!$M$5:$M$104,$J77)="","期日未定",INDEX('顧客一覧'!$M$5:$M$104,$J77))) | C77: =IF($J77="","",IF(ISNUMBER($B77),$B77-$B$2,"")) | D77: =IF($J77="","",INDEX('顧客一覧'!$A$5:$A$104,$J77)) | E77: =IF($J77="","",INDEX('顧客一覧'!$C$5:$C$104,$J77)&"") | F77: =IF($J77="","",INDEX('顧客一覧'!$L$5:$L$104,$J77)&"") | G77: =IF($J77="","",INDEX('顧客一覧'!$G$5:$G$104,$J77)&"") | H77: =IF($J77="","",INDEX('顧客一覧'!$H$5:$H$104,$J77)&"") | I77: =IF($J77="","",INDEX('顧客一覧'!$J$5:$J$104,$J77)) | J77: =IFERROR(MATCH(SMALL('顧客一覧'!$O$5:$O$104,73),'顧客一覧'!$O$5:$O$104,0),"")
A78: =IF($J78="","",74) | B78: =IF($J78="","",IF(INDEX('顧客一覧'!$M$5:$M$104,$J78)="","期日未定",INDEX('顧客一覧'!$M$5:$M$104,$J78))) | C78: =IF($J78="","",IF(ISNUMBER($B78),$B78-$B$2,"")) | D78: =IF($J78="","",INDEX('顧客一覧'!$A$5:$A$104,$J78)) | E78: =IF($J78="","",INDEX('顧客一覧'!$C$5:$C$104,$J78)&"") | F78: =IF($J78="","",INDEX('顧客一覧'!$L$5:$L$104,$J78)&"") | G78: =IF($J78="","",INDEX('顧客一覧'!$G$5:$G$104,$J78)&"") | H78: =IF($J78="","",INDEX('顧客一覧'!$H$5:$H$104,$J78)&"") | I78: =IF($J78="","",INDEX('顧客一覧'!$J$5:$J$104,$J78)) | J78: =IFERROR(MATCH(SMALL('顧客一覧'!$O$5:$O$104,74),'顧客一覧'!$O$5:$O$104,0),"")
A79: =IF($J79="","",75) | B79: =IF($J79="","",IF(INDEX('顧客一覧'!$M$5:$M$104,$J79)="","期日未定",INDEX('顧客一覧'!$M$5:$M$104,$J79))) | C79: =IF($J79="","",IF(ISNUMBER($B79),$B79-$B$2,"")) | D79: =IF($J79="","",INDEX('顧客一覧'!$A$5:$A$104,$J79)) | E79: =IF($J79="","",INDEX('顧客一覧'!$C$5:$C$104,$J79)&"") | F79: =IF($J79="","",INDEX('顧客一覧'!$L$5:$L$104,$J79)&"") | G79: =IF($J79="","",INDEX('顧客一覧'!$G$5:$G$104,$J79)&"") | H79: =IF($J79="","",INDEX('顧客一覧'!$H$5:$H$104,$J79)&"") | I79: =IF($J79="","",INDEX('顧客一覧'!$J$5:$J$104,$J79)) | J79: =IFERROR(MATCH(SMALL('顧客一覧'!$O$5:$O$104,75),'顧客一覧'!$O$5:$O$104,0),"")
A80: =IF($J80="","",76) | B80: =IF($J80="","",IF(INDEX('顧客一覧'!$M$5:$M$104,$J80)="","期日未定",INDEX('顧客一覧'!$M$5:$M$104,$J80))) | C80: =IF($J80="","",IF(ISNUMBER($B80),$B80-$B$2,"")) | D80: =IF($J80="","",INDEX('顧客一覧'!$A$5:$A$104,$J80)) | E80: =IF($J80="","",INDEX('顧客一覧'!$C$5:$C$104,$J80)&"") | F80: =IF($J80="","",INDEX('顧客一覧'!$L$5:$L$104,$J80)&"") | G80: =IF($J80="","",INDEX('顧客一覧'!$G$5:$G$104,$J80)&"") | H80: =IF($J80="","",INDEX('顧客一覧'!$H$5:$H$104,$J80)&"") | I80: =IF($J80="","",INDEX('顧客一覧'!$J$5:$J$104,$J80)) | J80: =IFERROR(MATCH(SMALL('顧客一覧'!$O$5:$O$104,76),'顧客一覧'!$O$5:$O$104,0),"")
A81: =IF($J81="","",77) | B81: =IF($J81="","",IF(INDEX('顧客一覧'!$M$5:$M$104,$J81)="","期日未定",INDEX('顧客一覧'!$M$5:$M$104,$J81))) | C81: =IF($J81="","",IF(ISNUMBER($B81),$B81-$B$2,"")) | D81: =IF($J81="","",INDEX('顧客一覧'!$A$5:$A$104,$J81)) | E81: =IF($J81="","",INDEX('顧客一覧'!$C$5:$C$104,$J81)&"") | F81: =IF($J81="","",INDEX('顧客一覧'!$L$5:$L$104,$J81)&"") | G81: =IF($J81="","",INDEX('顧客一覧'!$G$5:$G$104,$J81)&"") | H81: =IF($J81="","",INDEX('顧客一覧'!$H$5:$H$104,$J81)&"") | I81: =IF($J81="","",INDEX('顧客一覧'!$J$5:$J$104,$J81)) | J81: =IFERROR(MATCH(SMALL('顧客一覧'!$O$5:$O$104,77),'顧客一覧'!$O$5:$O$104,0),"")
A82: =IF($J82="","",78) | B82: =IF($J82="","",IF(INDEX('顧客一覧'!$M$5:$M$104,$J82)="","期日未定",INDEX('顧客一覧'!$M$5:$M$104,$J82))) | C82: =IF($J82="","",IF(ISNUMBER($B82),$B82-$B$2,"")) | D82: =IF($J82="","",INDEX('顧客一覧'!$A$5:$A$104,$J82)) | E82: =IF($J82="","",INDEX('顧客一覧'!$C$5:$C$104,$J82)&"") | F82: =IF($J82="","",INDEX('顧客一覧'!$L$5:$L$104,$J82)&"") | G82: =IF($J82="","",INDEX('顧客一覧'!$G$5:$G$104,$J82)&"") | H82: =IF($J82="","",INDEX('顧客一覧'!$H$5:$H$104,$J82)&"") | I82: =IF($J82="","",INDEX('顧客一覧'!$J$5:$J$104,$J82)) | J82: =IFERROR(MATCH(SMALL('顧客一覧'!$O$5:$O$104,78),'顧客一覧'!$O$5:$O$104,0),"")
A83: =IF($J83="","",79) | B83: =IF($J83="","",IF(INDEX('顧客一覧'!$M$5:$M$104,$J83)="","期日未定",INDEX('顧客一覧'!$M$5:$M$104,$J83))) | C83: =IF($J83="","",IF(ISNUMBER($B83),$B83-$B$2,"")) | D83: =IF($J83="","",INDEX('顧客一覧'!$A$5:$A$104,$J83)) | E83: =IF($J83="","",INDEX('顧客一覧'!$C$5:$C$104,$J83)&"") | F83: =IF($J83="","",INDEX('顧客一覧'!$L$5:$L$104,$J83)&"") | G83: =IF($J83="","",INDEX('顧客一覧'!$G$5:$G$104,$J83)&"") | H83: =IF($J83="","",INDEX('顧客一覧'!$H$5:$H$104,$J83)&"") | I83: =IF($J83="","",INDEX('顧客一覧'!$J$5:$J$104,$J83)) | J83: =IFERROR(MATCH(SMALL('顧客一覧'!$O$5:$O$104,79),'顧客一覧'!$O$5:$O$104,0),"")
A84: =IF($J84="","",80) | B84: =IF($J84="","",IF(INDEX('顧客一覧'!$M$5:$M$104,$J84)="","期日未定",INDEX('顧客一覧'!$M$5:$M$104,$J84))) | C84: =IF($J84="","",IF(ISNUMBER($B84),$B84-$B$2,"")) | D84: =IF($J84="","",INDEX('顧客一覧'!$A$5:$A$104,$J84)) | E84: =IF($J84="","",INDEX('顧客一覧'!$C$5:$C$104,$J84)&"") | F84: =IF($J84="","",INDEX('顧客一覧'!$L$5:$L$104,$J84)&"") | G84: =IF($J84="","",INDEX('顧客一覧'!$G$5:$G$104,$J84)&"") | H84: =IF($J84="","",INDEX('顧客一覧'!$H$5:$H$104,$J84)&"") | I84: =IF($J84="","",INDEX('顧客一覧'!$J$5:$J$104,$J84)) | J84: =IFERROR(MATCH(SMALL('顧客一覧'!$O$5:$O$104,80),'顧客一覧'!$O$5:$O$104,0),"")
A85: =IF($J85="","",81) | B85: =IF($J85="","",IF(INDEX('顧客一覧'!$M$5:$M$104,$J85)="","期日未定",INDEX('顧客一覧'!$M$5:$M$104,$J85))) | C85: =IF($J85="","",IF(ISNUMBER($B85),$B85-$B$2,"")) | D85: =IF($J85="","",INDEX('顧客一覧'!$A$5:$A$104,$J85)) | E85: =IF($J85="","",INDEX('顧客一覧'!$C$5:$C$104,$J85)&"") | F85: =IF($J85="","",INDEX('顧客一覧'!$L$5:$L$104,$J85)&"") | G85: =IF($J85="","",INDEX('顧客一覧'!$G$5:$G$104,$J85)&"") | H85: =IF($J85="","",INDEX('顧客一覧'!$H$5:$H$104,$J85)&"") | I85: =IF($J85="","",INDEX('顧客一覧'!$J$5:$J$104,$J85)) | J85: =IFERROR(MATCH(SMALL('顧客一覧'!$O$5:$O$104,81),'顧客一覧'!$O$5:$O$104,0),"")
A86: =IF($J86="","",82) | B86: =IF($J86="","",IF(INDEX('顧客一覧'!$M$5:$M$104,$J86)="","期日未定",INDEX('顧客一覧'!$M$5:$M$104,$J86))) | C86: =IF($J86="","",IF(ISNUMBER($B86),$B86-$B$2,"")) | D86: =IF($J86="","",INDEX('顧客一覧'!$A$5:$A$104,$J86)) | E86: =IF($J86="","",INDEX('顧客一覧'!$C$5:$C$104,$J86)&"") | F86: =IF($J86="","",INDEX('顧客一覧'!$L$5:$L$104,$J86)&"") | G86: =IF($J86="","",INDEX('顧客一覧'!$G$5:$G$104,$J86)&"") | H86: =IF($J86="","",INDEX('顧客一覧'!$H$5:$H$104,$J86)&"") | I86: =IF($J86="","",INDEX('顧客一覧'!$J$5:$J$104,$J86)) | J86: =IFERROR(MATCH(SMALL('顧客一覧'!$O$5:$O$104,82),'顧客一覧'!$O$5:$O$104,0),"")
A87: =IF($J87="","",83) | B87: =IF($J87="","",IF(INDEX('顧客一覧'!$M$5:$M$104,$J87)="","期日未定",INDEX('顧客一覧'!$M$5:$M$104,$J87))) | C87: =IF($J87="","",IF(ISNUMBER($B87),$B87-$B$2,"")) | D87: =IF($J87="","",INDEX('顧客一覧'!$A$5:$A$104,$J87)) | E87: =IF($J87="","",INDEX('顧客一覧'!$C$5:$C$104,$J87)&"") | F87: =IF($J87="","",INDEX('顧客一覧'!$L$5:$L$104,$J87)&"") | G87: =IF($J87="","",INDEX('顧客一覧'!$G$5:$G$104,$J87)&"") | H87: =IF($J87="","",INDEX('顧客一覧'!$H$5:$H$104,$J87)&"") | I87: =IF($J87="","",INDEX('顧客一覧'!$J$5:$J$104,$J87)) | J87: =IFERROR(MATCH(SMALL('顧客一覧'!$O$5:$O$104,83),'顧客一覧'!$O$5:$O$104,0),"")
A88: =IF($J88="","",84) | B88: =IF($J88="","",IF(INDEX('顧客一覧'!$M$5:$M$104,$J88)="","期日未定",INDEX('顧客一覧'!$M$5:$M$104,$J88))) | C88: =IF($J88="","",IF(ISNUMBER($B88),$B88-$B$2,"")) | D88: =IF($J88="","",INDEX('顧客一覧'!$A$5:$A$104,$J88)) | E88: =IF($J88="","",INDEX('顧客一覧'!$C$5:$C$104,$J88)&"") | F88: =IF($J88="","",INDEX('顧客一覧'!$L$5:$L$104,$J88)&"") | G88: =IF($J88="","",INDEX('顧客一覧'!$G$5:$G$104,$J88)&"") | H88: =IF($J88="","",INDEX('顧客一覧'!$H$5:$H$104,$J88)&"") | I88: =IF($J88="","",INDEX('顧客一覧'!$J$5:$J$104,$J88)) | J88: =IFERROR(MATCH(SMALL('顧客一覧'!$O$5:$O$104,84),'顧客一覧'!$O$5:$O$104,0),"")
A89: =IF($J89="","",85) | B89: =IF($J89="","",IF(INDEX('顧客一覧'!$M$5:$M$104,$J89)="","期日未定",INDEX('顧客一覧'!$M$5:$M$104,$J89))) | C89: =IF($J89="","",IF(ISNUMBER($B89),$B89-$B$2,"")) | D89: =IF($J89="","",INDEX('顧客一覧'!$A$5:$A$104,$J89)) | E89: =IF($J89="","",INDEX('顧客一覧'!$C$5:$C$104,$J89)&"") | F89: =IF($J89="","",INDEX('顧客一覧'!$L$5:$L$104,$J89)&"") | G89: =IF($J89="","",INDEX('顧客一覧'!$G$5:$G$104,$J89)&"") | H89: =IF($J89="","",INDEX('顧客一覧'!$H$5:$H$104,$J89)&"") | I89: =IF($J89="","",INDEX('顧客一覧'!$J$5:$J$104,$J89)) | J89: =IFERROR(MATCH(SMALL('顧客一覧'!$O$5:$O$104,85),'顧客一覧'!$O$5:$O$104,0),"")
A90: =IF($J90="","",86) | B90: =IF($J90="","",IF(INDEX('顧客一覧'!$M$5:$M$104,$J90)="","期日未定",INDEX('顧客一覧'!$M$5:$M$104,$J90))) | C90: =IF($J90="","",IF(ISNUMBER($B90),$B90-$B$2,"")) | D90: =IF($J90="","",INDEX('顧客一覧'!$A$5:$A$104,$J90)) | E90: =IF($J90="","",INDEX('顧客一覧'!$C$5:$C$104,$J90)&"") | F90: =IF($J90="","",INDEX('顧客一覧'!$L$5:$L$104,$J90)&"") | G90: =IF($J90="","",INDEX('顧客一覧'!$G$5:$G$104,$J90)&"") | H90: =IF($J90="","",INDEX('顧客一覧'!$H$5:$H$104,$J90)&"") | I90: =IF($J90="","",INDEX('顧客一覧'!$J$5:$J$104,$J90)) | J90: =IFERROR(MATCH(SMALL('顧客一覧'!$O$5:$O$104,86),'顧客一覧'!$O$5:$O$104,0),"")
A91: =IF($J91="","",87) | B91: =IF($J91="","",IF(INDEX('顧客一覧'!$M$5:$M$104,$J91)="","期日未定",INDEX('顧客一覧'!$M$5:$M$104,$J91))) | C91: =IF($J91="","",IF(ISNUMBER($B91),$B91-$B$2,"")) | D91: =IF($J91="","",INDEX('顧客一覧'!$A$5:$A$104,$J91)) | E91: =IF($J91="","",INDEX('顧客一覧'!$C$5:$C$104,$J91)&"") | F91: =IF($J91="","",INDEX('顧客一覧'!$L$5:$L$104,$J91)&"") | G91: =IF($J91="","",INDEX('顧客一覧'!$G$5:$G$104,$J91)&"") | H91: =IF($J91="","",INDEX('顧客一覧'!$H$5:$H$104,$J91)&"") | I91: =IF($J91="","",INDEX('顧客一覧'!$J$5:$J$104,$J91)) | J91: =IFERROR(MATCH(SMALL('顧客一覧'!$O$5:$O$104,87),'顧客一覧'!$O$5:$O$104,0),"")
A92: =IF($J92="","",88) | B92: =IF($J92="","",IF(INDEX('顧客一覧'!$M$5:$M$104,$J92)="","期日未定",INDEX('顧客一覧'!$M$5:$M$104,$J92))) | C92: =IF($J92="","",IF(ISNUMBER($B92),$B92-$B$2,"")) | D92: =IF($J92="","",INDEX('顧客一覧'!$A$5:$A$104,$J92)) | E92: =IF($J92="","",INDEX('顧客一覧'!$C$5:$C$104,$J92)&"") | F92: =IF($J92="","",INDEX('顧客一覧'!$L$5:$L$104,$J92)&"") | G92: =IF($J92="","",INDEX('顧客一覧'!$G$5:$G$104,$J92)&"") | H92: =IF($J92="","",INDEX('顧客一覧'!$H$5:$H$104,$J92)&"") | I92: =IF($J92="","",INDEX('顧客一覧'!$J$5:$J$104,$J92)) | J92: =IFERROR(MATCH(SMALL('顧客一覧'!$O$5:$O$104,88),'顧客一覧'!$O$5:$O$104,0),"")
A93: =IF($J93="","",89) | B93: =IF($J93="","",IF(INDEX('顧客一覧'!$M$5:$M$104,$J93)="","期日未定",INDEX('顧客一覧'!$M$5:$M$104,$J93))) | C93: =IF($J93="","",IF(ISNUMBER($B93),$B93-$B$2,"")) | D93: =IF($J93="","",INDEX('顧客一覧'!$A$5:$A$104,$J93)) | E93: =IF($J93="","",INDEX('顧客一覧'!$C$5:$C$104,$J93)&"") | F93: =IF($J93="","",INDEX('顧客一覧'!$L$5:$L$104,$J93)&"") | G93: =IF($J93="","",INDEX('顧客一覧'!$G$5:$G$104,$J93)&"") | H93: =IF($J93="","",INDEX('顧客一覧'!$H$5:$H$104,$J93)&"") | I93: =IF($J93="","",INDEX('顧客一覧'!$J$5:$J$104,$J93)) | J93: =IFERROR(MATCH(SMALL('顧客一覧'!$O$5:$O$104,89),'顧客一覧'!$O$5:$O$104,0),"")
A94: =IF($J94="","",90) | B94: =IF($J94="","",IF(INDEX('顧客一覧'!$M$5:$M$104,$J94)="","期日未定",INDEX('顧客一覧'!$M$5:$M$104,$J94))) | C94: =IF($J94="","",IF(ISNUMBER($B94),$B94-$B$2,"")) | D94: =IF($J94="","",INDEX('顧客一覧'!$A$5:$A$104,$J94)) | E94: =IF($J94="","",INDEX('顧客一覧'!$C$5:$C$104,$J94)&"") | F94: =IF($J94="","",INDEX('顧客一覧'!$L$5:$L$104,$J94)&"") | G94: =IF($J94="","",INDEX('顧客一覧'!$G$5:$G$104,$J94)&"") | H94: =IF($J94="","",INDEX('顧客一覧'!$H$5:$H$104,$J94)&"") | I94: =IF($J94="","",INDEX('顧客一覧'!$J$5:$J$104,$J94)) | J94: =IFERROR(MATCH(SMALL('顧客一覧'!$O$5:$O$104,90),'顧客一覧'!$O$5:$O$104,0),"")
A95: =IF($J95="","",91) | B95: =IF($J95="","",IF(INDEX('顧客一覧'!$M$5:$M$104,$J95)="","期日未定",INDEX('顧客一覧'!$M$5:$M$104,$J95))) | C95: =IF($J95="","",IF(ISNUMBER($B95),$B95-$B$2,"")) | D95: =IF($J95="","",INDEX('顧客一覧'!$A$5:$A$104,$J95)) | E95: =IF($J95="","",INDEX('顧客一覧'!$C$5:$C$104,$J95)&"") | F95: =IF($J95="","",INDEX('顧客一覧'!$L$5:$L$104,$J95)&"") | G95: =IF($J95="","",INDEX('顧客一覧'!$G$5:$G$104,$J95)&"") | H95: =IF($J95="","",INDEX('顧客一覧'!$H$5:$H$104,$J95)&"") | I95: =IF($J95="","",INDEX('顧客一覧'!$J$5:$J$104,$J95)) | J95: =IFERROR(MATCH(SMALL('顧客一覧'!$O$5:$O$104,91),'顧客一覧'!$O$5:$O$104,0),"")
A96: =IF($J96="","",92) | B96: =IF($J96="","",IF(INDEX('顧客一覧'!$M$5:$M$104,$J96)="","期日未定",INDEX('顧客一覧'!$M$5:$M$104,$J96))) | C96: =IF($J96="","",IF(ISNUMBER($B96),$B96-$B$2,"")) | D96: =IF($J96="","",INDEX('顧客一覧'!$A$5:$A$104,$J96)) | E96: =IF($J96="","",INDEX('顧客一覧'!$C$5:$C$104,$J96)&"") | F96: =IF($J96="","",INDEX('顧客一覧'!$L$5:$L$104,$J96)&"") | G96: =IF($J96="","",INDEX('顧客一覧'!$G$5:$G$104,$J96)&"") | H96: =IF($J96="","",INDEX('顧客一覧'!$H$5:$H$104,$J96)&"") | I96: =IF($J96="","",INDEX('顧客一覧'!$J$5:$J$104,$J96)) | J96: =IFERROR(MATCH(SMALL('顧客一覧'!$O$5:$O$104,92),'顧客一覧'!$O$5:$O$104,0),"")
A97: =IF($J97="","",93) | B97: =IF($J97="","",IF(INDEX('顧客一覧'!$M$5:$M$104,$J97)="","期日未定",INDEX('顧客一覧'!$M$5:$M$104,$J97))) | C97: =IF($J97="","",IF(ISNUMBER($B97),$B97-$B$2,"")) | D97: =IF($J97="","",INDEX('顧客一覧'!$A$5:$A$104,$J97)) | E97: =IF($J97="","",INDEX('顧客一覧'!$C$5:$C$104,$J97)&"") | F97: =IF($J97="","",INDEX('顧客一覧'!$L$5:$L$104,$J97)&"") | G97: =IF($J97="","",INDEX('顧客一覧'!$G$5:$G$104,$J97)&"") | H97: =IF($J97="","",INDEX('顧客一覧'!$H$5:$H$104,$J97)&"") | I97: =IF($J97="","",INDEX('顧客一覧'!$J$5:$J$104,$J97)) | J97: =IFERROR(MATCH(SMALL('顧客一覧'!$O$5:$O$104,93),'顧客一覧'!$O$5:$O$104,0),"")
A98: =IF($J98="","",94) | B98: =IF($J98="","",IF(INDEX('顧客一覧'!$M$5:$M$104,$J98)="","期日未定",INDEX('顧客一覧'!$M$5:$M$104,$J98))) | C98: =IF($J98="","",IF(ISNUMBER($B98),$B98-$B$2,"")) | D98: =IF($J98="","",INDEX('顧客一覧'!$A$5:$A$104,$J98)) | E98: =IF($J98="","",INDEX('顧客一覧'!$C$5:$C$104,$J98)&"") | F98: =IF($J98="","",INDEX('顧客一覧'!$L$5:$L$104,$J98)&"") | G98: =IF($J98="","",INDEX('顧客一覧'!$G$5:$G$104,$J98)&"") | H98: =IF($J98="","",INDEX('顧客一覧'!$H$5:$H$104,$J98)&"") | I98: =IF($J98="","",INDEX('顧客一覧'!$J$5:$J$104,$J98)) | J98: =IFERROR(MATCH(SMALL('顧客一覧'!$O$5:$O$104,94),'顧客一覧'!$O$5:$O$104,0),"")
A99: =IF($J99="","",95) | B99: =IF($J99="","",IF(INDEX('顧客一覧'!$M$5:$M$104,$J99)="","期日未定",INDEX('顧客一覧'!$M$5:$M$104,$J99))) | C99: =IF($J99="","",IF(ISNUMBER($B99),$B99-$B$2,"")) | D99: =IF($J99="","",INDEX('顧客一覧'!$A$5:$A$104,$J99)) | E99: =IF($J99="","",INDEX('顧客一覧'!$C$5:$C$104,$J99)&"") | F99: =IF($J99="","",INDEX('顧客一覧'!$L$5:$L$104,$J99)&"") | G99: =IF($J99="","",INDEX('顧客一覧'!$G$5:$G$104,$J99)&"") | H99: =IF($J99="","",INDEX('顧客一覧'!$H$5:$H$104,$J99)&"") | I99: =IF($J99="","",INDEX('顧客一覧'!$J$5:$J$104,$J99)) | J99: =IFERROR(MATCH(SMALL('顧客一覧'!$O$5:$O$104,95),'顧客一覧'!$O$5:$O$104,0),"")
A100: =IF($J100="","",96) | B100: =IF($J100="","",IF(INDEX('顧客一覧'!$M$5:$M$104,$J100)="","期日未定",INDEX('顧客一覧'!$M$5:$M$104,$J100))) | C100: =IF($J100="","",IF(ISNUMBER($B100),$B100-$B$2,"")) | D100: =IF($J100="","",INDEX('顧客一覧'!$A$5:$A$104,$J100)) | E100: =IF($J100="","",INDEX('顧客一覧'!$C$5:$C$104,$J100)&"") | F100: =IF($J100="","",INDEX('顧客一覧'!$L$5:$L$104,$J100)&"") | G100: =IF($J100="","",INDEX('顧客一覧'!$G$5:$G$104,$J100)&"") | H100: =IF($J100="","",INDEX('顧客一覧'!$H$5:$H$104,$J100)&"") | I100: =IF($J100="","",INDEX('顧客一覧'!$J$5:$J$104,$J100)) | J100: =IFERROR(MATCH(SMALL('顧客一覧'!$O$5:$O$104,96),'顧客一覧'!$O$5:$O$104,0),"")
...

Sheet 例_顧客一覧
A1: 顧客一覧（記入例・架空の5社）
A2: 黄色は入力、灰色は数式です（触らない）。最終対応日・対応回数・次回アクション・状況は「対応履歴」から自動で出ます。記入例の基準日は 2026/10/1 に固定してあります。
J3: ▼ 対応履歴から自動で出る列 | O3: ▼ 作業列
A4: 顧客ID | B4: 区分 | C4: 会社名・氏名 | D4: 先方の担当者 | E4: 電話 | F4: メール | G4: 自社担当 | H4: 見込み度 | I4: 備考 | J4: 最終対応日 | K4: 対応回数 | L4: 次回アクション | M4: 次回アクション日 | N4: 状況 | O4: 並べ替え用 | P4: 最新行キー
A5: C001 | B5: 法人 | C5: 株式会社サンプル商事 | D5: 山田 花子（仕入課） | E5: 03-0000-0001 | F5: yamada@example.com | G5: 佐藤 | H5: A | I5: 月末締め。請求書は郵送 | J5: =IF($A5="","",IF($K5=0,"",_xlfn.MAXIFS('例_対応履歴'!$A$5:$A$304,'例_対応履歴'!$B$5:$B$304,$A5))) | K5: =IF($A5="","",COUNTIF('例_対応履歴'!$B$5:$B$304,$A5)) | L5: =IF($P5="","",IFERROR(INDEX('例_対応履歴'!$G$5:$G$304,MATCH($P5,'例_対応履歴'!$J$5:$J$304,0))&"","")) | M5: =IF($P5="","",IFERROR(IF(INDEX('例_対応履歴'!$H$5:$H$304,MATCH($P5,'例_対応履歴'!$J$5:$J$304,0))="","",INDEX('例_対応履歴'!$H$5:$H$304,MATCH($P5,'例_対応履歴'!$J$5:$J$304,0))),"")) | N5: =IF($A5="","",IF($K5=0,"対応履歴なし",IF($M5="",IF($L5="","次回予定なし","期日未定"),IF($M5<'例_次回アクション'!$B$2,"期日超過 "&('例_次回アクション'!$B$2-$M5)&"日",IF($M5='例_次回アクション'!$B$2,"今日","あと"&($M5-'例_次回アクション'!$B$2)&"日"))))) | O5: =IF($P5="","",IF($M5<>"",$M5+ROW()/100000,IF($L5<>"",100000+ROW()/100000,""))) | P5: =IF(OR($A5="",$K5=0),"",_xlfn.MAXIFS('例_対応履歴'!$J$5:$J$304,'例_対応履歴'!$B$5:$B$304,$A5))
A6: C002 | B6: 法人 | C6: サンプル建設株式会社 | D6: 田中 次郎（総務） | E6: 03-0000-0002 | F6: tanaka@example.com | G6: 鈴木 | H6: B | I6: 現場は月ごとに変わる | J6: =IF($A6="","",IF($K6=0,"",_xlfn.MAXIFS('例_対応履歴'!$A$5:$A$304,'例_対応履歴'!$B$5:$B$304,$A6))) | K6: =IF($A6="","",COUNTIF('例_対応履歴'!$B$5:$B$304,$A6)) | L6: =IF($P6="","",IFERROR(INDEX('例_対応履歴'!$G$5:$G$304,MATCH($P6,'例_対応履歴'!$J$5:$J$304,0))&"","")) | M6: =IF($P6="","",IFERROR(IF(INDEX('例_対応履歴'!$H$5:$H$304,MATCH($P6,'例_対応履歴'!$J$5:$J$304,0))="","",INDEX('例_対応履歴'!$H$5:$H$304,MATCH($P6,'例_対応履歴'!$J$5:$J$304,0))),"")) | N6: =IF($A6="","",IF($K6=0,"対応履歴なし",IF($M6="",IF($L6="","次回予定なし","期日未定"),IF($M6<'例_次回アクション'!$B$2,"期日超過 "&('例_次回アクション'!$B$2-$M6)&"日",IF($M6='例_次回アクション'!$B$2,"今日","あと"&($M6-'例_次回アクション'!$B$2)&"日"))))) | O6: =IF($P6="","",IF($M6<>"",$M6+ROW()/100000,IF($L6<>"",100000+ROW()/100000,""))) | P6: =IF(OR($A6="",$K6=0),"",_xlfn.MAXIFS('例_対応履歴'!$J$5:$J$304,'例_対応履歴'!$B$5:$B$304,$A6))
A7: C003 | B7: 法人 | C7: 株式会社サンプル工業 | D7: 松本 三郎（資材課） | E7: 03-0000-0003 | F7: matsumoto@example.com | G7: 高橋 | H7: B | I7: 問い合わせフォームから来た | J7: =IF($A7="","",IF($K7=0,"",_xlfn.MAXIFS('例_対応履歴'!$A$5:$A$304,'例_対応履歴'!$B$5:$B$304,$A7))) | K7: =IF($A7="","",COUNTIF('例_対応履歴'!$B$5:$B$304,$A7)) | L7: =IF($P7="","",IFERROR(INDEX('例_対応履歴'!$G$5:$G$304,MATCH($P7,'例_対応履歴'!$J$5:$J$304,0))&"","")) | M7: =IF($P7="","",IFERROR(IF(INDEX('例_対応履歴'!$H$5:$H$304,MATCH($P7,'例_対応履歴'!$J$5:$J$304,0))="","",INDEX('例_対応履歴'!$H$5:$H$304,MATCH($P7,'例_対応履歴'!$J$5:$J$304,0))),"")) | N7: =IF($A7="","",IF($K7=0,"対応履歴なし",IF($M7="",IF($L7="","次回予定なし","期日未定"),IF($M7<'例_次回アクション'!$B$2,"期日超過 "&('例_次回アクション'!$B$2-$M7)&"日",IF($M7='例_次回アクション'!$B$2,"今日","あと"&($M7-'例_次回アクション'!$B$2)&"日"))))) | O7: =IF($P7="","",IF($M7<>"",$M7+ROW()/100000,IF($L7<>"",100000+ROW()/100000,""))) | P7: =IF(OR($A7="",$K7=0),"",_xlfn.MAXIFS('例_対応履歴'!$J$5:$J$304,'例_対応履歴'!$B$5:$B$304,$A7))
A8: C004 | B8: 個人 | C8: サンプル 花子 | E8: 090-0000-0004 | F8: hanako@example.com | G8: 鈴木 | H8: 取引中 | I8: 連絡はメールを希望 | J8: =IF($A8="","",IF($K8=0,"",_xlfn.MAXIFS('例_対応履歴'!$A$5:$A$304,'例_対応履歴'!$B$5:$B$304,$A8))) | K8: =IF($A8="","",COUNTIF('例_対応履歴'!$B$5:$B$304,$A8)) | L8: =IF($P8="","",IFERROR(INDEX('例_対応履歴'!$G$5:$G$304,MATCH($P8,'例_対応履歴'!$J$5:$J$304,0))&"","")) | M8: =IF($P8="","",IFERROR(IF(INDEX('例_対応履歴'!$H$5:$H$304,MATCH($P8,'例_対応履歴'!$J$5:$J$304,0))="","",INDEX('例_対応履歴'!$H$5:$H$304,MATCH($P8,'例_対応履歴'!$J$5:$J$304,0))),"")) | N8: =IF($A8="","",IF($K8=0,"対応履歴なし",IF($M8="",IF($L8="","次回予定なし","期日未定"),IF($M8<'例_次回アクション'!$B$2,"期日超過 "&('例_次回アクション'!$B$2-$M8)&"日",IF($M8='例_次回アクション'!$B$2,"今日","あと"&($M8-'例_次回アクション'!$B$2)&"日"))))) | O8: =IF($P8="","",IF($M8<>"",$M8+ROW()/100000,IF($L8<>"",100000+ROW()/100000,""))) | P8: =IF(OR($A8="",$K8=0),"",_xlfn.MAXIFS('例_対応履歴'!$J$5:$J$304,'例_対応履歴'!$B$5:$B$304,$A8))
A9: C005 | B9: 個人 | C9: サンプル 一郎 | E9: 090-0000-0005 | G9: 高橋 | H9: C | I9: 知人の紹介 | J9: =IF($A9="","",IF($K9=0,"",_xlfn.MAXIFS('例_対応履歴'!$A$5:$A$304,'例_対応履歴'!$B$5:$B$304,$A9))) | K9: =IF($A9="","",COUNTIF('例_対応履歴'!$B$5:$B$304,$A9)) | L9: =IF($P9="","",IFERROR(INDEX('例_対応履歴'!$G$5:$G$304,MATCH($P9,'例_対応履歴'!$J$5:$J$304,0))&"","")) | M9: =IF($P9="","",IFERROR(IF(INDEX('例_対応履歴'!$H$5:$H$304,MATCH($P9,'例_対応履歴'!$J$5:$J$304,0))="","",INDEX('例_対応履歴'!$H$5:$H$304,MATCH($P9,'例_対応履歴'!$J$5:$J$304,0))),"")) | N9: =IF($A9="","",IF($K9=0,"対応履歴なし",IF($M9="",IF($L9="","次回予定なし","期日未定"),IF($M9<'例_次回アクション'!$B$2,"期日超過 "&('例_次回アクション'!$B$2-$M9)&"日",IF($M9='例_次回アクション'!$B$2,"今日","あと"&($M9-'例_次回アクション'!$B$2)&"日"))))) | O9: =IF($P9="","",IF($M9<>"",$M9+ROW()/100000,IF($L9<>"",100000+ROW()/100000,""))) | P9: =IF(OR($A9="",$K9=0),"",_xlfn.MAXIFS('例_対応履歴'!$J$5:$J$304,'例_対応履歴'!$B$5:$B$304,$A9))
J10: =IF($A10="","",IF($K10=0,"",_xlfn.MAXIFS('例_対応履歴'!$A$5:$A$304,'例_対応履歴'!$B$5:$B$304,$A10))) | K10: =IF($A10="","",COUNTIF('例_対応履歴'!$B$5:$B$304,$A10)) | L10: =IF($P10="","",IFERROR(INDEX('例_対応履歴'!$G$5:$G$304,MATCH($P10,'例_対応履歴'!$J$5:$J$304,0))&"","")) | M10: =IF($P10="","",IFERROR(IF(INDEX('例_対応履歴'!$H$5:$H$304,MATCH($P10,'例_対応履歴'!$J$5:$J$304,0))="","",INDEX('例_対応履歴'!$H$5:$H$304,MATCH($P10,'例_対応履歴'!$J$5:$J$304,0))),"")) | N10: =IF($A10="","",IF($K10=0,"対応履歴なし",IF($M10="",IF($L10="","次回予定なし","期日未定"),IF($M10<'例_次回アクション'!$B$2,"期日超過 "&('例_次回アクション'!$B$2-$M10)&"日",IF($M10='例_次回アクション'!$B$2,"今日","あと"&($M10-'例_次回アクション'!$B$2)&"日"))))) | O10: =IF($P10="","",IF($M10<>"",$M10+ROW()/100000,IF($L10<>"",100000+ROW()/100000,""))) | P10: =IF(OR($A10="",$K10=0),"",_xlfn.MAXIFS('例_対応履歴'!$J$5:$J$304,'例_対応履歴'!$B$5:$B$304,$A10))
J11: =IF($A11="","",IF($K11=0,"",_xlfn.MAXIFS('例_対応履歴'!$A$5:$A$304,'例_対応履歴'!$B$5:$B$304,$A11))) | K11: =IF($A11="","",COUNTIF('例_対応履歴'!$B$5:$B$304,$A11)) | L11: =IF($P11="","",IFERROR(INDEX('例_対応履歴'!$G$5:$G$304,MATCH($P11,'例_対応履歴'!$J$5:$J$304,0))&"","")) | M11: =IF($P11="","",IFERROR(IF(INDEX('例_対応履歴'!$H$5:$H$304,MATCH($P11,'例_対応履歴'!$J$5:$J$304,0))="","",INDEX('例_対応履歴'!$H$5:$H$304,MATCH($P11,'例_対応履歴'!$J$5:$J$304,0))),"")) | N11: =IF($A11="","",IF($K11=0,"対応履歴なし",IF($M11="",IF($L11="","次回予定なし","期日未定"),IF($M11<'例_次回アクション'!$B$2,"期日超過 "&('例_次回アクション'!$B$2-$M11)&"日",IF($M11='例_次回アクション'!$B$2,"今日","あと"&($M11-'例_次回アクション'!$B$2)&"日"))))) | O11: =IF($P11="","",IF($M11<>"",$M11+ROW()/100000,IF($L11<>"",100000+ROW()/100000,""))) | P11: =IF(OR($A11="",$K11=0),"",_xlfn.MAXIFS('例_対応履歴'!$J$5:$J$304,'例_対応履歴'!$B$5:$B$304,$A11))
J12: =IF($A12="","",IF($K12=0,"",_xlfn.MAXIFS('例_対応履歴'!$A$5:$A$304,'例_対応履歴'!$B$5:$B$304,$A12))) | K12: =IF($A12="","",COUNTIF('例_対応履歴'!$B$5:$B$304,$A12)) | L12: =IF($P12="","",IFERROR(INDEX('例_対応履歴'!$G$5:$G$304,MATCH($P12,'例_対応履歴'!$J$5:$J$304,0))&"","")) | M12: =IF($P12="","",IFERROR(IF(INDEX('例_対応履歴'!$H$5:$H$304,MATCH($P12,'例_対応履歴'!$J$5:$J$304,0))="","",INDEX('例_対応履歴'!$H$5:$H$304,MATCH($P12,'例_対応履歴'!$J$5:$J$304,0))),"")) | N12: =IF($A12="","",IF($K12=0,"対応履歴なし",IF($M12="",IF($L12="","次回予定なし","期日未定"),IF($M12<'例_次回アクション'!$B$2,"期日超過 "&('例_次回アクション'!$B$2-$M12)&"日",IF($M12='例_次回アクション'!$B$2,"今日","あと"&($M12-'例_次回アクション'!$B$2)&"日"))))) | O12: =IF($P12="","",IF($M12<>"",$M12+ROW()/100000,IF($L12<>"",100000+ROW()/100000,""))) | P12: =IF(OR($A12="",$K12=0),"",_xlfn.MAXIFS('例_対応履歴'!$J$5:$J$304,'例_対応履歴'!$B$5:$B$304,$A12))
J13: =IF($A13="","",IF($K13=0,"",_xlfn.MAXIFS('例_対応履歴'!$A$5:$A$304,'例_対応履歴'!$B$5:$B$304,$A13))) | K13: =IF($A13="","",COUNTIF('例_対応履歴'!$B$5:$B$304,$A13)) | L13: =IF($P13="","",IFERROR(INDEX('例_対応履歴'!$G$5:$G$304,MATCH($P13,'例_対応履歴'!$J$5:$J$304,0))&"","")) | M13: =IF($P13="","",IFERROR(IF(INDEX('例_対応履歴'!$H$5:$H$304,MATCH($P13,'例_対応履歴'!$J$5:$J$304,0))="","",INDEX('例_対応履歴'!$H$5:$H$304,MATCH($P13,'例_対応履歴'!$J$5:$J$304,0))),"")) | N13: =IF($A13="","",IF($K13=0,"対応履歴なし",IF($M13="",IF($L13="","次回予定なし","期日未定"),IF($M13<'例_次回アクション'!$B$2,"期日超過 "&('例_次回アクション'!$B$2-$M13)&"日",IF($M13='例_次回アクション'!$B$2,"今日","あと"&($M13-'例_次回アクション'!$B$2)&"日"))))) | O13: =IF($P13="","",IF($M13<>"",$M13+ROW()/100000,IF($L13<>"",100000+ROW()/100000,""))) | P13: =IF(OR($A13="",$K13=0),"",_xlfn.MAXIFS('例_対応履歴'!$J$5:$J$304,'例_対応履歴'!$B$5:$B$304,$A13))
J14: =IF($A14="","",IF($K14=0,"",_xlfn.MAXIFS('例_対応履歴'!$A$5:$A$304,'例_対応履歴'!$B$5:$B$304,$A14))) | K14: =IF($A14="","",COUNTIF('例_対応履歴'!$B$5:$B$304,$A14)) | L14: =IF($P14="","",IFERROR(INDEX('例_対応履歴'!$G$5:$G$304,MATCH($P14,'例_対応履歴'!$J$5:$J$304,0))&"","")) | M14: =IF($P14="","",IFERROR(IF(INDEX('例_対応履歴'!$H$5:$H$304,MATCH($P14,'例_対応履歴'!$J$5:$J$304,0))="","",INDEX('例_対応履歴'!$H$5:$H$304,MATCH($P14,'例_対応履歴'!$J$5:$J$304,0))),"")) | N14: =IF($A14="","",IF($K14=0,"対応履歴なし",IF($M14="",IF($L14="","次回予定なし","期日未定"),IF($M14<'例_次回アクション'!$B$2,"期日超過 "&('例_次回アクション'!$B$2-$M14)&"日",IF($M14='例_次回アクション'!$B$2,"今日","あと"&($M14-'例_次回アクション'!$B$2)&"日"))))) | O14: =IF($P14="","",IF($M14<>"",$M14+ROW()/100000,IF($L14<>"",100000+ROW()/100000,""))) | P14: =IF(OR($A14="",$K14=0),"",_xlfn.MAXIFS('例_対応履歴'!$J$5:$J$304,'例_対応履歴'!$B$5:$B$304,$A14))
J15: =IF($A15="","",IF($K15=0,"",_xlfn.MAXIFS('例_対応履歴'!$A$5:$A$304,'例_対応履歴'!$B$5:$B$304,$A15))) | K15: =IF($A15="","",COUNTIF('例_対応履歴'!$B$5:$B$304,$A15)) | L15: =IF($P15="","",IFERROR(INDEX('例_対応履歴'!$G$5:$G$304,MATCH($P15,'例_対応履歴'!$J$5:$J$304,0))&"","")) | M15: =IF($P15="","",IFERROR(IF(INDEX('例_対応履歴'!$H$5:$H$304,MATCH($P15,'例_対応履歴'!$J$5:$J$304,0))="","",INDEX('例_対応履歴'!$H$5:$H$304,MATCH($P15,'例_対応履歴'!$J$5:$J$304,0))),"")) | N15: =IF($A15="","",IF($K15=0,"対応履歴なし",IF($M15="",IF($L15="","次回予定なし","期日未定"),IF($M15<'例_次回アクション'!$B$2,"期日超過 "&('例_次回アクション'!$B$2-$M15)&"日",IF($M15='例_次回アクション'!$B$2,"今日","あと"&($M15-'例_次回アクション'!$B$2)&"日"))))) | O15: =IF($P15="","",IF($M15<>"",$M15+ROW()/100000,IF($L15<>"",100000+ROW()/100000,""))) | P15: =IF(OR($A15="",$K15=0),"",_xlfn.MAXIFS('例_対応履歴'!$J$5:$J$304,'例_対応履歴'!$B$5:$B$304,$A15))
J16: =IF($A16="","",IF($K16=0,"",_xlfn.MAXIFS('例_対応履歴'!$A$5:$A$304,'例_対応履歴'!$B$5:$B$304,$A16))) | K16: =IF($A16="","",COUNTIF('例_対応履歴'!$B$5:$B$304,$A16)) | L16: =IF($P16="","",IFERROR(INDEX('例_対応履歴'!$G$5:$G$304,MATCH($P16,'例_対応履歴'!$J$5:$J$304,0))&"","")) | M16: =IF($P16="","",IFERROR(IF(INDEX('例_対応履歴'!$H$5:$H$304,MATCH($P16,'例_対応履歴'!$J$5:$J$304,0))="","",INDEX('例_対応履歴'!$H$5:$H$304,MATCH($P16,'例_対応履歴'!$J$5:$J$304,0))),"")) | N16: =IF($A16="","",IF($K16=0,"対応履歴なし",IF($M16="",IF($L16="","次回予定なし","期日未定"),IF($M16<'例_次回アクション'!$B$2,"期日超過 "&('例_次回アクション'!$B$2-$M16)&"日",IF($M16='例_次回アクション'!$B$2,"今日","あと"&($M16-'例_次回アクション'!$B$2)&"日"))))) | O16: =IF($P16="","",IF($M16<>"",$M16+ROW()/100000,IF($L16<>"",100000+ROW()/100000,""))) | P16: =IF(OR($A16="",$K16=0),"",_xlfn.MAXIFS('例_対応履歴'!$J$5:$J$304,'例_対応履歴'!$B$5:$B$304,$A16))
J17: =IF($A17="","",IF($K17=0,"",_xlfn.MAXIFS('例_対応履歴'!$A$5:$A$304,'例_対応履歴'!$B$5:$B$304,$A17))) | K17: =IF($A17="","",COUNTIF('例_対応履歴'!$B$5:$B$304,$A17)) | L17: =IF($P17="","",IFERROR(INDEX('例_対応履歴'!$G$5:$G$304,MATCH($P17,'例_対応履歴'!$J$5:$J$304,0))&"","")) | M17: =IF($P17="","",IFERROR(IF(INDEX('例_対応履歴'!$H$5:$H$304,MATCH($P17,'例_対応履歴'!$J$5:$J$304,0))="","",INDEX('例_対応履歴'!$H$5:$H$304,MATCH($P17,'例_対応履歴'!$J$5:$J$304,0))),"")) | N17: =IF($A17="","",IF($K17=0,"対応履歴なし",IF($M17="",IF($L17="","次回予定なし","期日未定"),IF($M17<'例_次回アクション'!$B$2,"期日超過 "&('例_次回アクション'!$B$2-$M17)&"日",IF($M17='例_次回アクション'!$B$2,"今日","あと"&($M17-'例_次回アクション'!$B$2)&"日"))))) | O17: =IF($P17="","",IF($M17<>"",$M17+ROW()/100000,IF($L17<>"",100000+ROW()/100000,""))) | P17: =IF(OR($A17="",$K17=0),"",_xlfn.MAXIFS('例_対応履歴'!$J$5:$J$304,'例_対応履歴'!$B$5:$B$304,$A17))
J18: =IF($A18="","",IF($K18=0,"",_xlfn.MAXIFS('例_対応履歴'!$A$5:$A$304,'例_対応履歴'!$B$5:$B$304,$A18))) | K18: =IF($A18="","",COUNTIF('例_対応履歴'!$B$5:$B$304,$A18)) | L18: =IF($P18="","",IFERROR(INDEX('例_対応履歴'!$G$5:$G$304,MATCH($P18,'例_対応履歴'!$J$5:$J$304,0))&"","")) | M18: =IF($P18="","",IFERROR(IF(INDEX('例_対応履歴'!$H$5:$H$304,MATCH($P18,'例_対応履歴'!$J$5:$J$304,0))="","",INDEX('例_対応履歴'!$H$5:$H$304,MATCH($P18,'例_対応履歴'!$J$5:$J$304,0))),"")) | N18: =IF($A18="","",IF($K18=0,"対応履歴なし",IF($M18="",IF($L18="","次回予定なし","期日未定"),IF($M18<'例_次回アクション'!$B$2,"期日超過 "&('例_次回アクション'!$B$2-$M18)&"日",IF($M18='例_次回アクション'!$B$2,"今日","あと"&($M18-'例_次回アクション'!$B$2)&"日"))))) | O18: =IF($P18="","",IF($M18<>"",$M18+ROW()/100000,IF($L18<>"",100000+ROW()/100000,""))) | P18: =IF(OR($A18="",$K18=0),"",_xlfn.MAXIFS('例_対応履歴'!$J$5:$J$304,'例_対応履歴'!$B$5:$B$304,$A18))
J19: =IF($A19="","",IF($K19=0,"",_xlfn.MAXIFS('例_対応履歴'!$A$5:$A$304,'例_対応履歴'!$B$5:$B$304,$A19))) | K19: =IF($A19="","",COUNTIF('例_対応履歴'!$B$5:$B$304,$A19)) | L19: =IF($P19="","",IFERROR(INDEX('例_対応履歴'!$G$5:$G$304,MATCH($P19,'例_対応履歴'!$J$5:$J$304,0))&"","")) | M19: =IF($P19="","",IFERROR(IF(INDEX('例_対応履歴'!$H$5:$H$304,MATCH($P19,'例_対応履歴'!$J$5:$J$304,0))="","",INDEX('例_対応履歴'!$H$5:$H$304,MATCH($P19,'例_対応履歴'!$J$5:$J$304,0))),"")) | N19: =IF($A19="","",IF($K19=0,"対応履歴なし",IF($M19="",IF($L19="","次回予定なし","期日未定"),IF($M19<'例_次回アクション'!$B$2,"期日超過 "&('例_次回アクション'!$B$2-$M19)&"日",IF($M19='例_次回アクション'!$B$2,"今日","あと"&($M19-'例_次回アクション'!$B$2)&"日"))))) | O19: =IF($P19="","",IF($M19<>"",$M19+ROW()/100000,IF($L19<>"",100000+ROW()/100000,""))) | P19: =IF(OR($A19="",$K19=0),"",_xlfn.MAXIFS('例_対応履歴'!$J$5:$J$304,'例_対応履歴'!$B$5:$B$304,$A19))
J20: =IF($A20="","",IF($K20=0,"",_xlfn.MAXIFS('例_対応履歴'!$A$5:$A$304,'例_対応履歴'!$B$5:$B$304,$A20))) | K20: =IF($A20="","",COUNTIF('例_対応履歴'!$B$5:$B$304,$A20)) | L20: =IF($P20="","",IFERROR(INDEX('例_対応履歴'!$G$5:$G$304,MATCH($P20,'例_対応履歴'!$J$5:$J$304,0))&"","")) | M20: =IF($P20="","",IFERROR(IF(INDEX('例_対応履歴'!$H$5:$H$304,MATCH($P20,'例_対応履歴'!$J$5:$J$304,0))="","",INDEX('例_対応履歴'!$H$5:$H$304,MATCH($P20,'例_対応履歴'!$J$5:$J$304,0))),"")) | N20: =IF($A20="","",IF($K20=0,"対応履歴なし",IF($M20="",IF($L20="","次回予定なし","期日未定"),IF($M20<'例_次回アクション'!$B$2,"期日超過 "&('例_次回アクション'!$B$2-$M20)&"日",IF($M20='例_次回アクション'!$B$2,"今日","あと"&($M20-'例_次回アクション'!$B$2)&"日"))))) | O20: =IF($P20="","",IF($M20<>"",$M20+ROW()/100000,IF($L20<>"",100000+ROW()/100000,""))) | P20: =IF(OR($A20="",$K20=0),"",_xlfn.MAXIFS('例_対応履歴'!$J$5:$J$304,'例_対応履歴'!$B$5:$B$304,$A20))
J21: =IF($A21="","",IF($K21=0,"",_xlfn.MAXIFS('例_対応履歴'!$A$5:$A$304,'例_対応履歴'!$B$5:$B$304,$A21))) | K21: =IF($A21="","",COUNTIF('例_対応履歴'!$B$5:$B$304,$A21)) | L21: =IF($P21="","",IFERROR(INDEX('例_対応履歴'!$G$5:$G$304,MATCH($P21,'例_対応履歴'!$J$5:$J$304,0))&"","")) | M21: =IF($P21="","",IFERROR(IF(INDEX('例_対応履歴'!$H$5:$H$304,MATCH($P21,'例_対応履歴'!$J$5:$J$304,0))="","",INDEX('例_対応履歴'!$H$5:$H$304,MATCH($P21,'例_対応履歴'!$J$5:$J$304,0))),"")) | N21: =IF($A21="","",IF($K21=0,"対応履歴なし",IF($M21="",IF($L21="","次回予定なし","期日未定"),IF($M21<'例_次回アクション'!$B$2,"期日超過 "&('例_次回アクション'!$B$2-$M21)&"日",IF($M21='例_次回アクション'!$B$2,"今日","あと"&($M21-'例_次回アクション'!$B$2)&"日"))))) | O21: =IF($P21="","",IF($M21<>"",$M21+ROW()/100000,IF($L21<>"",100000+ROW()/100000,""))) | P21: =IF(OR($A21="",$K21=0),"",_xlfn.MAXIFS('例_対応履歴'!$J$5:$J$304,'例_対応履歴'!$B$5:$B$304,$A21))
... J104: =IF($A104="","",IF($K104=0,"",_xlfn.MAXIFS('例_対応履歴'!$A$5:$A$304,'例_対応履歴'!$B$5:$B$304,$A104))) | K104: =IF($A104="","",COUNTIF('例_対応履歴'!$B$5:$B$304,$A104)) | L104: =IF($P104="","",IFERROR(INDEX('例_対応履歴'!$G$5:$G$304,MATCH($P104,'例_対応履歴'!$J$5:$J$304,0))&"","")) | M104: =IF($P104="","",IFERROR(IF(INDEX('例_対応履歴'!$H$5:$H$304,MATCH($P104,'例_対応履歴'!$J$5:$J$304,0))="","",INDEX('例_対応履歴'!$H$5:$H$304,MATCH($P104,'例_対応履歴'!$J$5:$J$304,0))),"")) | N104: =IF($A104="","",IF($K104=0,"対応履歴なし",IF($M104="",IF($L104="","次回予定なし","期日未定"),IF($M104<'例_次回アクション'!$B$2,"期日超過 "&('例_次回アクション'!$B$2-$M104)&"日",IF($M104='例_次回アクション'!$B$2,"今日","あと"&($M104-'例_次回アクション'!$B$2)&"日"))))) | O104: =IF($P104="","",IF($M104<>"",$M104+ROW()/100000,IF($L104<>"",100000+ROW()/100000,""))) | P104: =IF(OR($A104="",$K104=0),"",_xlfn.MAXIFS('例_対応履歴'!$J$5:$J$304,'例_対応履歴'!$B$5:$B$304,$A104))

Sheet 例_対応履歴
A1: 対応履歴（記入例・19件）
A2: 顧客IDは「顧客一覧」に登録したものから選びます。同じ日に2回書いたときは、下の行を新しい対応として数えます。次にやることが無いときは、次回アクションと期日を空にします。
J3: ▼ 作業列
A4: 日付 | B4: 顧客ID | C4: 顧客名 | D4: 自社担当 | E4: 手段 | F4: 内容（何を聞いた・話した・決めた） | G4: 次回アクション | H4: 期日 | J4: 行キー | K4: カルテ用
A5: 46209 | B5: C001 | C5: =IF($B5="","",IFERROR(INDEX('例_顧客一覧'!$C$5:$C$104,MATCH($B5,'例_顧客一覧'!$A$5:$A$104,0))&"","※顧客一覧にないID")) | D5: 佐藤 | E5: 訪問 | F5: 事務用品の年間契約を相談された。いまの仕入先は3社。 | G5: 見積書を作って送る | H5: 46216 | J5: =IF(ISNUMBER($A5),$A5+ROW()/100000,"") | K5: =IF(AND(ISNUMBER($J5),$B5<>"",$B5='例_顧客カルテ'!$C$3),$J5,"")
A6: 46212 | B6: C002 | C6: =IF($B6="","",IFERROR(INDEX('例_顧客一覧'!$C$5:$C$104,MATCH($B6,'例_顧客一覧'!$A$5:$A$104,0))&"","※顧客一覧にないID")) | D6: 鈴木 | E6: 訪問 | F6: 現場事務所の備品を入れ替えたいとのこと。 | G6: カタログを送る | H6: 46219 | J6: =IF(ISNUMBER($A6),$A6+ROW()/100000,"") | K6: =IF(AND(ISNUMBER($J6),$B6<>"",$B6='例_顧客カルテ'!$C$3),$J6,"")
A7: 46216 | B7: C001 | C7: =IF($B7="","",IFERROR(INDEX('例_顧客一覧'!$C$5:$C$104,MATCH($B7,'例_顧客一覧'!$A$5:$A$104,0))&"","※顧客一覧にないID")) | D7: 佐藤 | E7: メール | F7: 見積書を送った。 | G7: 電話で反応を聞く | H7: 46220 | J7: =IF(ISNUMBER($A7),$A7+ROW()/100000,"") | K7: =IF(AND(ISNUMBER($J7),$B7<>"",$B7='例_顧客カルテ'!$C$3),$J7,"")
A8: 46219 | B8: C002 | C8: =IF($B8="","",IFERROR(INDEX('例_顧客一覧'!$C$5:$C$104,MATCH($B8,'例_顧客一覧'!$A$5:$A$104,0))&"","※顧客一覧にないID")) | D8: 鈴木 | E8: メール | F8: カタログを送った。 | G8: 希望の品目を電話で聞く | H8: 46226 | J8: =IF(ISNUMBER($A8),$A8+ROW()/100000,"") | K8: =IF(AND(ISNUMBER($J8),$B8<>"",$B8='例_顧客カルテ'!$C$3),$J8,"")
A9: 46220 | B9: C001 | C9: =IF($B9="","",IFERROR(INDEX('例_顧客一覧'!$C$5:$C$104,MATCH($B9,'例_顧客一覧'!$A$5:$A$104,0))&"","※顧客一覧にないID")) | D9: 佐藤 | E9: 電話 | F9: 単価の見直しを頼まれた。月500点の前提で再見積。 | G9: 再見積を持っていく | H9: 46239 | J9: =IF(ISNUMBER($A9),$A9+ROW()/100000,"") | K9: =IF(AND(ISNUMBER($J9),$B9<>"",$B9='例_顧客カルテ'!$C$3),$J9,"")
A10: 46225 | B10: C003 | C10: =IF($B10="","",IFERROR(INDEX('例_顧客一覧'!$C$5:$C$104,MATCH($B10,'例_顧客一覧'!$A$5:$A$104,0))&"","※顧客一覧にないID")) | D10: 高橋 | E10: 電話 | F10: 問い合わせフォームから連絡あり。梱包資材を探している。 | G10: サンプルを送る | H10: 46232 | J10: =IF(ISNUMBER($A10),$A10+ROW()/100000,"") | K10: =IF(AND(ISNUMBER($J10),$B10<>"",$B10='例_顧客カルテ'!$C$3),$J10,"")
A11: 46232 | B11: C003 | C11: =IF($B11="","",IFERROR(INDEX('例_顧客一覧'!$C$5:$C$104,MATCH($B11,'例_顧客一覧'!$A$5:$A$104,0))&"","※顧客一覧にないID")) | D11: 高橋 | E11: メール | F11: サンプルを送った。 | G11: 使い心地を電話で聞く | H11: 46241 | J11: =IF(ISNUMBER($A11),$A11+ROW()/100000,"") | K11: =IF(AND(ISNUMBER($J11),$B11<>"",$B11='例_顧客カルテ'!$C$3),$J11,"")
A12: 46239 | B12: C001 | C12: =IF($B12="","",IFERROR(INDEX('例_顧客一覧'!$C$5:$C$104,MATCH($B12,'例_顧客一覧'!$A$5:$A$104,0))&"","※顧客一覧にないID")) | D12: 鈴木 | E12: 訪問 | F12: 再見積を持参。決裁者の部長が同席した。 | G12: 稟議の結果を確認する | H12: 46259 | J12: =IF(ISNUMBER($A12),$A12+ROW()/100000,"") | K12: =IF(AND(ISNUMBER($J12),$B12<>"",$B12='例_顧客カルテ'!$C$3),$J12,"")
A13: 46241 | B13: C003 | C13: =IF($B13="","",IFERROR(INDEX('例_顧客一覧'!$C$5:$C$104,MATCH($B13,'例_顧客一覧'!$A$5:$A$104,0))&"","※顧客一覧にないID")) | D13: 高橋 | E13: 電話 | F13: サイズ違いのものがほしいと言われた。 | G13: サイズ違いのサンプルを送る | H13: 46248 | J13: =IF(ISNUMBER($A13),$A13+ROW()/100000,"") | K13: =IF(AND(ISNUMBER($J13),$B13<>"",$B13='例_顧客カルテ'!$C$3),$J13,"")
A14: 46248 | B14: C003 | C14: =IF($B14="","",IFERROR(INDEX('例_顧客一覧'!$C$5:$C$104,MATCH($B14,'例_顧客一覧'!$A$5:$A$104,0))&"","※顧客一覧にないID")) | D14: 高橋 | E14: メール | F14: サイズ違いのサンプルを送った。 | G14: 見積を出す | H14: 46266 | J14: =IF(ISNUMBER($A14),$A14+ROW()/100000,"") | K14: =IF(AND(ISNUMBER($J14),$B14<>"",$B14='例_顧客カルテ'!$C$3),$J14,"")
A15: 46254 | B15: C002 | C15: =IF($B15="","",IFERROR(INDEX('例_顧客一覧'!$C$5:$C$104,MATCH($B15,'例_顧客一覧'!$A$5:$A$104,0))&"","※顧客一覧にないID")) | D15: 鈴木 | E15: 電話 | F15: 秋に現場が始まるので、9月に決めたいとのこと。 | G15: 見積を出す | H15: 46275 | J15: =IF(ISNUMBER($A15),$A15+ROW()/100000,"") | K15: =IF(AND(ISNUMBER($J15),$B15<>"",$B15='例_顧客カルテ'!$C$3),$J15,"")
A16: 46256 | B16: C004 | C16: =IF($B16="","",IFERROR(INDEX('例_顧客一覧'!$C$5:$C$104,MATCH($B16,'例_顧客一覧'!$A$5:$A$104,0))&"","※顧客一覧にないID")) | D16: 鈴木 | E16: 来店 | F16: 初めて来店。用途と予算を聞いた。 | G16: お礼のメールを送る | H16: 46257 | J16: =IF(ISNUMBER($A16),$A16+ROW()/100000,"") | K16: =IF(AND(ISNUMBER($J16),$B16<>"",$B16='例_顧客カルテ'!$C$3),$J16,"")
... A19: 46284 | B19: C004 | C19: =IF($B19="","",IFERROR(INDEX('例_顧客一覧'!$C$5:$C$104,MATCH($B19,'例_顧客一覧'!$A$5:$A$104,0))&"","※顧客一覧にないID")) | D19: 鈴木 | E19: 来店 | F19: 2回目の来店。前回の商品の使い心地を聞いた。 | G19: 次回の来店予約を確認する | H19: 46305 | J19: =IF(ISNUMBER($A19),$A19+ROW()/100000,"") | K19: =IF(AND(ISNUMBER($J19),$B19<>"",$B19='例_顧客カルテ'!$C$3),$J19,"")
A20: 46291 | B20: C005 | C20: =IF($B20="","",IFERROR(INDEX('例_顧客一覧'!$C$5:$C$104,MATCH($B20,'例_顧客一覧'!$A$5:$A$104,0))&"","※顧客一覧にないID")) | D20: 高橋 | E20: 電話 | F20: 知人の紹介で問い合わせ。時期は決まっていない。 | G20: 年内に一度連絡する | J20: =IF(ISNUMBER($A20),$A20+ROW()/100000,"") | K20: =IF(AND(ISNUMBER($J20),$B20<>"",$B20='例_顧客カルテ'!$C$3),$J20,"")
A21: 46294 | B21: C003 | C21: =IF($B21="","",IFERROR(INDEX('例_顧客一覧'!$C$5:$C$104,MATCH($B21,'例_顧客一覧'!$A$5:$A$104,0))&"","※顧客一覧にないID")) | D21: 高橋 | E21: 訪問 | F21: 見積書を持参して説明。社内で検討するとのこと。 | G21: 検討結果を電話で確認する | H21: 46295 | J21: =IF(ISNUMBER($A21),$A21+ROW()/100000,"") | K21: =IF(AND(ISNUMBER($J21),$B21<>"",$B21='例_顧客カルテ'!$C$3),$J21,"")
A22: 46295 | B22: C001 | C22: =IF($B22="","",IFERROR(INDEX('例_顧客一覧'!$C$5:$C$104,MATCH($B22,'例_顧客一覧'!$A$5:$A$104,0))&"","※顧客一覧にないID")) | D22: 佐藤 | E22: 電話 | F22: 10月納品分から発注すると連絡あり。 | G22: 発注書の到着を待つ | H22: 46297 | J22: =IF(ISNUMBER($A22),$A22+ROW()/100000,"") | K22: =IF(AND(ISNUMBER($J22),$B22<>"",$B22='例_顧客カルテ'!$C$3),$J22,"")
A23: 46295 | B23: C001 | C23: =IF($B23="","",IFERROR(INDEX('例_顧客一覧'!$C$5:$C$104,MATCH($B23,'例_顧客一覧'!$A$5:$A$104,0))&"","※顧客一覧にないID")) | D23: 佐藤 | E23: メール | F23: 発注書を受け取った。 | G23: 初回の納品日を調整して連絡する | H23: 46300 | J23: =IF(ISNUMBER($A23),$A23+ROW()/100000,"") | K23: =IF(AND(ISNUMBER($J23),$B23<>"",$B23='例_顧客カルテ'!$C$3),$J23,"")
C24: =IF($B24="","",IFERROR(INDEX('例_顧客一覧'!$C$5:$C$104,MATCH($B24,'例_顧客一覧'!$A$5:$A$104,0))&"","※顧客一覧にないID")) | J24: =IF(ISNUMBER($A24),$A24+ROW()/100000,"") | K24: =IF(AND(ISNUMBER($J24),$B24<>"",$B24='例_顧客カルテ'!$C$3),$J24,"")
C25: =IF($B25="","",IFERROR(INDEX('例_顧客一覧'!$C$5:$C$104,MATCH($B25,'例_顧客一覧'!$A$5:$A$104,0))&"","※顧客一覧にないID")) | J25: =IF(ISNUMBER($A25),$A25+ROW()/100000,"") | K25: =IF(AND(ISNUMBER($J25),$B25<>"",$B25='例_顧客カルテ'!$C$3),$J25,"")
C26: =IF($B26="","",IFERROR(INDEX('例_顧客一覧'!$C$5:$C$104,MATCH($B26,'例_顧客一覧'!$A$5:$A$104,0))&"","※顧客一覧にないID")) | J26: =IF(ISNUMBER($A26),$A26+ROW()/100000,"") | K26: =IF(AND(ISNUMBER($J26),$B26<>"",$B26='例_顧客カルテ'!$C$3),$J26,"")
C27: =IF($B27="","",IFERROR(INDEX('例_顧客一覧'!$C$5:$C$104,MATCH($B27,'例_顧客一覧'!$A$5:$A$104,0))&"","※顧客一覧にないID")) | J27: =IF(ISNUMBER($A27),$A27+ROW()/100000,"") | K27: =IF(AND(ISNUMBER($J27),$B27<>"",$B27='例_顧客カルテ'!$C$3),$J27,"")
C28: =IF($B28="","",IFERROR(INDEX('例_顧客一覧'!$C$5:$C$104,MATCH($B28,'例_顧客一覧'!$A$5:$A$104,0))&"","※顧客一覧にないID")) | J28: =IF(ISNUMBER($A28),$A28+ROW()/100000,"") | K28: =IF(AND(ISNUMBER($J28),$B28<>"",$B28='例_顧客カルテ'!$C$3),$J28,"")
C29: =IF($B29="","",IFERROR(INDEX('例_顧客一覧'!$C$5:$C$104,MATCH($B29,'例_顧客一覧'!$A$5:$A$104,0))&"","※顧客一覧にないID")) | J29: =IF(ISNUMBER($A29),$A29+ROW()/100000,"") | K29: =IF(AND(ISNUMBER($J29),$B29<>"",$B29='例_顧客カルテ'!$C$3),$J29,"")
C30: =IF($B30="","",IFERROR(INDEX('例_顧客一覧'!$C$5:$C$104,MATCH($B30,'例_顧客一覧'!$A$5:$A$104,0))&"","※顧客一覧にないID")) | J30: =IF(ISNUMBER($A30),$A30+ROW()/100000,"") | K30: =IF(AND(ISNUMBER($J30),$B30<>"",$B30='例_顧客カルテ'!$C$3),$J30,"")
C31: =IF($B31="","",IFERROR(INDEX('例_顧客一覧'!$C$5:$C$104,MATCH($B31,'例_顧客一覧'!$A$5:$A$104,0))&"","※顧客一覧にないID")) | J31: =IF(ISNUMBER($A31),$A31+ROW()/100000,"") | K31: =IF(AND(ISNUMBER($J31),$B31<>"",$B31='例_顧客カルテ'!$C$3),$J31,"")
C32: =IF($B32="","",IFERROR(INDEX('例_顧客一覧'!$C$5:$C$104,MATCH($B32,'例_顧客一覧'!$A$5:$A$104,0))&"","※顧客一覧にないID")) | J32: =IF(ISNUMBER($A32),$A32+ROW()/100000,"") | K32: =IF(AND(ISNUMBER($J32),$B32<>"",$B32='例_顧客カルテ'!$C$3),$J32,"")
C33: =IF($B33="","",IFERROR(INDEX('例_顧客一覧'!$C$5:$C$104,MATCH($B33,'例_顧客一覧'!$A$5:$A$104,0))&"","※顧客一覧にないID")) | J33: =IF(ISNUMBER($A33),$A33+ROW()/100000,"") | K33: =IF(AND(ISNUMBER($J33),$B33<>"",$B33='例_顧客カルテ'!$C$3),$J33,"")
C34: =IF($B34="","",IFERROR(INDEX('例_顧客一覧'!$C$5:$C$104,MATCH($B34,'例_顧客一覧'!$A$5:$A$104,0))&"","※顧客一覧にないID")) | J34: =IF(ISNUMBER($A34),$A34+ROW()/100000,"") | K34: =IF(AND(ISNUMBER($J34),$B34<>"",$B34='例_顧客カルテ'!$C$3),$J34,"")
C35: =IF($B35="","",IFERROR(INDEX('例_顧客一覧'!$C$5:$C$104,MATCH($B35,'例_顧客一覧'!$A$5:$A$104,0))&"","※顧客一覧にないID")) | J35: =IF(ISNUMBER($A35),$A35+ROW()/100000,"") | K35: =IF(AND(ISNUMBER($J35),$B35<>"",$B35='例_顧客カルテ'!$C$3),$J35,"")
... C304: =IF($B304="","",IFERROR(INDEX('例_顧客一覧'!$C$5:$C$104,MATCH($B304,'例_顧客一覧'!$A$5:$A$104,0))&"","※顧客一覧にないID")) | J304: =IF(ISNUMBER($A304),$A304+ROW()/100000,"") | K304: =IF(AND(ISNUMBER($J304),$B304<>"",$B304='例_顧客カルテ'!$C$3),$J304,"")

Sheet 例_顧客カルテ
A1: 顧客カルテ（記入例）
A2: C3 で顧客IDを選ぶと、基本情報と直近の対応履歴が出ます。そのまま印刷できます（A4縦・1枚）。 | H2: 作業列
A3: 顧客ID | C3: C001 | D3: ← プルダウンで選びます（顧客一覧に登録したID） | H3: =IF($C$3="","",IFERROR(MATCH($C$3,'例_顧客一覧'!$A$5:$A$104,0),""))
A5: 基本情報
A6: 会社名・氏名 | C6: =IF($H$3="","",INDEX('例_顧客一覧'!$C$5:$C$104,$H$3)&"")
A7: 区分 | C7: =IF($H$3="","",INDEX('例_顧客一覧'!$B$5:$B$104,$H$3)&"")
A8: 先方の担当者 | C8: =IF($H$3="","",INDEX('例_顧客一覧'!$D$5:$D$104,$H$3)&"")
A9: 電話 | C9: =IF($H$3="","",INDEX('例_顧客一覧'!$E$5:$E$104,$H$3)&"")
A10: メール | C10: =IF($H$3="","",INDEX('例_顧客一覧'!$F$5:$F$104,$H$3)&"")
A11: 自社担当 | C11: =IF($H$3="","",INDEX('例_顧客一覧'!$G$5:$G$104,$H$3)&"")
A12: 見込み度 | C12: =IF($H$3="","",INDEX('例_顧客一覧'!$H$5:$H$104,$H$3)&"")
A13: 備考 | C13: =IF($H$3="","",INDEX('例_顧客一覧'!$I$5:$I$104,$H$3)&"")
A15: 対応の状況（対応履歴から自動）
A16: 最終対応日 | C16: =IF($H$3="","",INDEX('例_顧客一覧'!$J$5:$J$104,$H$3))
A17: 対応回数 | C17: =IF($H$3="","",INDEX('例_顧客一覧'!$K$5:$K$104,$H$3))
A18: 次回アクション | C18: =IF($H$3="","",INDEX('例_顧客一覧'!$L$5:$L$104,$H$3))
A19: 次回アクションの期日 | C19: =IF($H$3="","",INDEX('例_顧客一覧'!$M$5:$M$104,$H$3))
A20: 状況 | C20: =IF($H$3="","",INDEX('例_顧客一覧'!$N$5:$N$104,$H$3))
A22: 直近の対応履歴（新しい順・10件まで） | H22: 作業列
A23: 日付 | B23: 手段 | C23: 担当 | D23: 内容 | E23: 次回アクション | F23: 期日
A24: =IF($H24="","",IF(INDEX('例_対応履歴'!$A$5:$A$304,$H24)="","",INDEX('例_対応履歴'!$A$5:$A$304,$H24))) | B24: =IF($H24="","",INDEX('例_対応履歴'!$E$5:$E$304,$H24)&"") | C24: =IF($H24="","",INDEX('例_対応履歴'!$D$5:$D$304,$H24)&"") | D24: =IF($H24="","",INDEX('例_対応履歴'!$F$5:$F$304,$H24)&"") | E24: =IF($H24="","",INDEX('例_対応履歴'!$G$5:$G$304,$H24)&"") | F24: =IF($H24="","",IF(INDEX('例_対応履歴'!$H$5:$H$304,$H24)="","",INDEX('例_対応履歴'!$H$5:$H$304,$H24))) | H24: =IFERROR(MATCH(LARGE('例_対応履歴'!$K$5:$K$304,1),'例_対応履歴'!$K$5:$K$304,0),"")
A25: =IF($H25="","",IF(INDEX('例_対応履歴'!$A$5:$A$304,$H25)="","",INDEX('例_対応履歴'!$A$5:$A$304,$H25))) | B25: =IF($H25="","",INDEX('例_対応履歴'!$E$5:$E$304,$H25)&"") | C25: =IF($H25="","",INDEX('例_対応履歴'!$D$5:$D$304,$H25)&"") | D25: =IF($H25="","",INDEX('例_対応履歴'!$F$5:$F$304,$H25)&"") | E25: =IF($H25="","",INDEX('例_対応履歴'!$G$5:$G$304,$H25)&"") | F25: =IF($H25="","",IF(INDEX('例_対応履歴'!$H$5:$H$304,$H25)="","",INDEX('例_対応履歴'!$H$5:$H$304,$H25))) | H25: =IFERROR(MATCH(LARGE('例_対応履歴'!$K$5:$K$304,2),'例_対応履歴'!$K$5:$K$304,0),"")
A26: =IF($H26="","",IF(INDEX('例_対応履歴'!$A$5:$A$304,$H26)="","",INDEX('例_対応履歴'!$A$5:$A$304,$H26))) | B26: =IF($H26="","",INDEX('例_対応履歴'!$E$5:$E$304,$H26)&"") | C26: =IF($H26="","",INDEX('例_対応履歴'!$D$5:$D$304,$H26)&"") | D26: =IF($H26="","",INDEX('例_対応履歴'!$F$5:$F$304,$H26)&"") | E26: =IF($H26="","",INDEX('例_対応履歴'!$G$5:$G$304,$H26)&"") | F26: =IF($H26="","",IF(INDEX('例_対応履歴'!$H$5:$H$304,$H26)="","",INDEX('例_対応履歴'!$H$5:$H$304,$H26))) | H26: =IFERROR(MATCH(LARGE('例_対応履歴'!$K$5:$K$304,3),'例_対応履歴'!$K$5:$K$304,0),"")
A27: =IF($H27="","",IF(INDEX('例_対応履歴'!$A$5:$A$304,$H27)="","",INDEX('例_対応履歴'!$A$5:$A$304,$H27))) | B27: =IF($H27="","",INDEX('例_対応履歴'!$E$5:$E$304,$H27)&"") | C27: =IF($H27="","",INDEX('例_対応履歴'!$D$5:$D$304,$H27)&"") | D27: =IF($H27="","",INDEX('例_対応履歴'!$F$5:$F$304,$H27)&"") | E27: =IF($H27="","",INDEX('例_対応履歴'!$G$5:$G$304,$H27)&"") | F27: =IF($H27="","",IF(INDEX('例_対応履歴'!$H$5:$H$304,$H27)="","",INDEX('例_対応履歴'!$H$5:$H$304,$H27))) | H27: =IFERROR(MATCH(LARGE('例_対応履歴'!$K$5:$K$304,4),'例_対応履歴'!$K$5:$K$304,0),"")
A28: =IF($H28="","",IF(INDEX('例_対応履歴'!$A$5:$A$304,$H28)="","",INDEX('例_対応履歴'!$A$5:$A$304,$H28))) | B28: =IF($H28="","",INDEX('例_対応履歴'!$E$5:$E$304,$H28)&"") | C28: =IF($H28="","",INDEX('例_対応履歴'!$D$5:$D$304,$H28)&"") | D28: =IF($H28="","",INDEX('例_対応履歴'!$F$5:$F$304,$H28)&"") | E28: =IF($H28="","",INDEX('例_対応履歴'!$G$5:$G$304,$H28)&"") | F28: =IF($H28="","",IF(INDEX('例_対応履歴'!$H$5:$H$304,$H28)="","",INDEX('例_対応履歴'!$H$5:$H$304,$H28))) | H28: =IFERROR(MATCH(LARGE('例_対応履歴'!$K$5:$K$304,5),'例_対応履歴'!$K$5:$K$304,0),"")
A29: =IF($H29="","",IF(INDEX('例_対応履歴'!$A$5:$A$304,$H29)="","",INDEX('例_対応履歴'!$A$5:$A$304,$H29))) | B29: =IF($H29="","",INDEX('例_対応履歴'!$E$5:$E$304,$H29)&"") | C29: =IF($H29="","",INDEX('例_対応履歴'!$D$5:$D$304,$H29)&"") | D29: =IF($H29="","",INDEX('例_対応履歴'!$F$5:$F$304,$H29)&"") | E29: =IF($H29="","",INDEX('例_対応履歴'!$G$5:$G$304,$H29)&"") | F29: =IF($H29="","",IF(INDEX('例_対応履歴'!$H$5:$H$304,$H29)="","",INDEX('例_対応履歴'!$H$5:$H$304,$H29))) | H29: =IFERROR(MATCH(LARGE('例_対応履歴'!$K$5:$K$304,6),'例_対応履歴'!$K$5:$K$304,0),"")
A30: =IF($H30="","",IF(INDEX('例_対応履歴'!$A$5:$A$304,$H30)="","",INDEX('例_対応履歴'!$A$5:$A$304,$H30))) | B30: =IF($H30="","",INDEX('例_対応履歴'!$E$5:$E$304,$H30)&"") | C30: =IF($H30="","",INDEX('例_対応履歴'!$D$5:$D$304,$H30)&"") | D30: =IF($H30="","",INDEX('例_対応履歴'!$F$5:$F$304,$H30)&"") | E30: =IF($H30="","",INDEX('例_対応履歴'!$G$5:$G$304,$H30)&"") | F30: =IF($H30="","",IF(INDEX('例_対応履歴'!$H$5:$H$304,$H30)="","",INDEX('例_対応履歴'!$H$5:$H$304,$H30))) | H30: =IFERROR(MATCH(LARGE('例_対応履歴'!$K$5:$K$304,7),'例_対応履歴'!$K$5:$K$304,0),"")
A31: =IF($H31="","",IF(INDEX('例_対応履歴'!$A$5:$A$304,$H31)="","",INDEX('例_対応履歴'!$A$5:$A$304,$H31))) | B31: =IF($H31="","",INDEX('例_対応履歴'!$E$5:$E$304,$H31)&"") | C31: =IF($H31="","",INDEX('例_対応履歴'!$D$5:$D$304,$H31)&"") | D31: =IF($H31="","",INDEX('例_対応履歴'!$F$5:$F$304,$H31)&"") | E31: =IF($H31="","",INDEX('例_対応履歴'!$G$5:$G$304,$H31)&"") | F31: =IF($H31="","",IF(INDEX('例_対応履歴'!$H$5:$H$304,$H31)="","",INDEX('例_対応履歴'!$H$5:$H$304,$H31))) | H31: =IFERROR(MATCH(LARGE('例_対応履歴'!$K$5:$K$304,8),'例_対応履歴'!$K$5:$K$304,0),"")
A32: =IF($H32="","",IF(INDEX('例_対応履歴'!$A$5:$A$304,$H32)="","",INDEX('例_対応履歴'!$A$5:$A$304,$H32))) | B32: =IF($H32="","",INDEX('例_対応履歴'!$E$5:$E$304,$H32)&"") | C32: =IF($H32="","",INDEX('例_対応履歴'!$D$5:$D$304,$H32)&"") | D32: =IF($H32="","",INDEX('例_対応履歴'!$F$5:$F$304,$H32)&"") | E32: =IF($H32="","",INDEX('例_対応履歴'!$G$5:$G$304,$H32)&"") | F32: =IF($H32="","",IF(INDEX('例_対応履歴'!$H$5:$H$304,$H32)="","",INDEX('例_対応履歴'!$H$5:$H$304,$H32))) | H32: =IFERROR(MATCH(LARGE('例_対応履歴'!$K$5:$K$304,9),'例_対応履歴'!$K$5:$K$304,0),"")
A33: =IF($H33="","",IF(INDEX('例_対応履歴'!$A$5:$A$304,$H33)="","",INDEX('例_対応履歴'!$A$5:$A$304,$H33))) | B33: =IF($H33="","",INDEX('例_対応履歴'!$E$5:$E$304,$H33)&"") | C33: =IF($H33="","",INDEX('例_対応履歴'!$D$5:$D$304,$H33)&"") | D33: =IF($H33="","",INDEX('例_対応履歴'!$F$5:$F$304,$H33)&"") | E33: =IF($H33="","",INDEX('例_対応履歴'!$G$5:$G$304,$H33)&"") | F33: =IF($H33="","",IF(INDEX('例_対応履歴'!$H$5:$H$304,$H33)="","",INDEX('例_対応履歴'!$H$5:$H$304,$H33))) | H33: =IFERROR(MATCH(LARGE('例_対応履歴'!$K$5:$K$304,10),'例_対応履歴'!$K$5:$K$304,0),"")
A34: =IF($H$3="","","この顧客の対応履歴は全"&INDEX('例_顧客一覧'!$K$5:$K$104,$H$3)&"件です。10件を超える分は「例_対応履歴」シートで顧客IDを絞り込んでください。")

Sheet 例_次回アクション
A1: 次回アクション一覧（記入例）
A2: 基準日 | B2: 46296 | C2: ← 記入例は下の表と数字が合うように 2026/10/1 に固定してあります。ここを =TODAY() にすると今日の日付で判定します。
A3: 顧客ごとに、いちばん新しい対応に書いた次回アクションだけを出します。赤=期日超過、黄=3日以内。次回アクションを空にした顧客は出ません（対応終了として扱います）。
A4: No | B4: 期日 | C4: 残り日数 | D4: 顧客ID | E4: 会社名・氏名 | F4: 次回アクション | G4: 自社担当 | H4: 見込み度 | I4: 最終対応日 | J4: 作業列
A5: =IF($J5="","",1) | B5: =IF($J5="","",IF(INDEX('例_顧客一覧'!$M$5:$M$104,$J5)="","期日未定",INDEX('例_顧客一覧'!$M$5:$M$104,$J5))) | C5: =IF($J5="","",IF(ISNUMBER($B5),$B5-$B$2,"")) | D5: =IF($J5="","",INDEX('例_顧客一覧'!$A$5:$A$104,$J5)) | E5: =IF($J5="","",INDEX('例_顧客一覧'!$C$5:$C$104,$J5)&"") | F5: =IF($J5="","",INDEX('例_顧客一覧'!$L$5:$L$104,$J5)&"") | G5: =IF($J5="","",INDEX('例_顧客一覧'!$G$5:$G$104,$J5)&"") | H5: =IF($J5="","",INDEX('例_顧客一覧'!$H$5:$H$104,$J5)&"") | I5: =IF($J5="","",INDEX('例_顧客一覧'!$J$5:$J$104,$J5)) | J5: =IFERROR(MATCH(SMALL('例_顧客一覧'!$O$5:$O$104,1),'例_顧客一覧'!$O$5:$O$104,0),"")
A6: =IF($J6="","",2) | B6: =IF($J6="","",IF(INDEX('例_顧客一覧'!$M$5:$M$104,$J6)="","期日未定",INDEX('例_顧客一覧'!$M$5:$M$104,$J6))) | C6: =IF($J6="","",IF(ISNUMBER($B6),$B6-$B$2,"")) | D6: =IF($J6="","",INDEX('例_顧客一覧'!$A$5:$A$104,$J6)) | E6: =IF($J6="","",INDEX('例_顧客一覧'!$C$5:$C$104,$J6)&"") | F6: =IF($J6="","",INDEX('例_顧客一覧'!$L$5:$L$104,$J6)&"") | G6: =IF($J6="","",INDEX('例_顧客一覧'!$G$5:$G$104,$J6)&"") | H6: =IF($J6="","",INDEX('例_顧客一覧'!$H$5:$H$104,$J6)&"") | I6: =IF($J6="","",INDEX('例_顧客一覧'!$J$5:$J$104,$J6)) | J6: =IFERROR(MATCH(SMALL('例_顧客一覧'!$O$5:$O$104,2),'例_顧客一覧'!$O$5:$O$104,0),"")
A7: =IF($J7="","",3) | B7: =IF($J7="","",IF(INDEX('例_顧客一覧'!$M$5:$M$104,$J7)="","期日未定",INDEX('例_顧客一覧'!$M$5:$M$104,$J7))) | C7: =IF($J7="","",IF(ISNUMBER($B7),$B7-$B$2,"")) | D7: =IF($J7="","",INDEX('例_顧客一覧'!$A$5:$A$104,$J7)) | E7: =IF($J7="","",INDEX('例_顧客一覧'!$C$5:$C$104,$J7)&"") | F7: =IF($J7="","",INDEX('例_顧客一覧'!$L$5:$L$104,$J7)&"") | G7: =IF($J7="","",INDEX('例_顧客一覧'!$G$5:$G$104,$J7)&"") | H7: =IF($J7="","",INDEX('例_顧客一覧'!$H$5:$H$104,$J7)&"") | I7: =IF($J7="","",INDEX('例_顧客一覧'!$J$5:$J$104,$J7)) | J7: =IFERROR(MATCH(SMALL('例_顧客一覧'!$O$5:$O$104,3),'例_顧客一覧'!$O$5:$O$104,0),"")
A8: =IF($J8="","",4) | B8: =IF($J8="","",IF(INDEX('例_顧客一覧'!$M$5:$M$104,$J8)="","期日未定",INDEX('例_顧客一覧'!$M$5:$M$104,$J8))) | C8: =IF($J8="","",IF(ISNUMBER($B8),$B8-$B$2,"")) | D8: =IF($J8="","",INDEX('例_顧客一覧'!$A$5:$A$104,$J8)) | E8: =IF($J8="","",INDEX('例_顧客一覧'!$C$5:$C$104,$J8)&"") | F8: =IF($J8="","",INDEX('例_顧客一覧'!$L$5:$L$104,$J8)&"") | G8: =IF($J8="","",INDEX('例_顧客一覧'!$G$5:$G$104,$J8)&"") | H8: =IF($J8="","",INDEX('例_顧客一覧'!$H$5:$H$104,$J8)&"") | I8: =IF($J8="","",INDEX('例_顧客一覧'!$J$5:$J$104,$J8)) | J8: =IFERROR(MATCH(SMALL('例_顧客一覧'!$O$5:$O$104,4),'例_顧客一覧'!$O$5:$O$104,0),"")
A9: =IF($J9="","",5) | B9: =IF($J9="","",IF(INDEX('例_顧客一覧'!$M$5:$M$104,$J9)="","期日未定",INDEX('例_顧客一覧'!$M$5:$M$104,$J9))) | C9: =IF($J9="","",IF(ISNUMBER($B9),$B9-$B$2,"")) | D9: =IF($J9="","",INDEX('例_顧客一覧'!$A$5:$A$104,$J9)) | E9: =IF($J9="","",INDEX('例_顧客一覧'!$C$5:$C$104,$J9)&"") | F9: =IF($J9="","",INDEX('例_顧客一覧'!$L$5:$L$104,$J9)&"") | G9: =IF($J9="","",INDEX('例_顧客一覧'!$G$5:$G$104,$J9)&"") | H9: =IF($J9="","",INDEX('例_顧客一覧'!$H$5:$H$104,$J9)&"") | I9: =IF($J9="","",INDEX('例_顧客一覧'!$J$5:$J$104,$J9)) | J9: =IFERROR(MATCH(SMALL('例_顧客一覧'!$O$5:$O$104,5),'例_顧客一覧'!$O$5:$O$104,0),"")
A10: =IF($J10="","",6) | B10: =IF($J10="","",IF(INDEX('例_顧客一覧'!$M$5:$M$104,$J10)="","期日未定",INDEX('例_顧客一覧'!$M$5:$M$104,$J10))) | C10: =IF($J10="","",IF(ISNUMBER($B10),$B10-$B$2,"")) | D10: =IF($J10="","",INDEX('例_顧客一覧'!$A$5:$A$104,$J10)) | E10: =IF($J10="","",INDEX('例_顧客一覧'!$C$5:$C$104,$J10)&"") | F10: =IF($J10="","",INDEX('例_顧客一覧'!$L$5:$L$104,$J10)&"") | G10: =IF($J10="","",INDEX('例_顧客一覧'!$G$5:$G$104,$J10)&"") | H10: =IF($J10="","",INDEX('例_顧客一覧'!$H$5:$H$104,$J10)&"") | I10: =IF($J10="","",INDEX('例_顧客一覧'!$J$5:$J$104,$J10)) | J10: =IFERROR(MATCH(SMALL('例_顧客一覧'!$O$5:$O$104,6),'例_顧客一覧'!$O$5:$O$104,0),"")
A11: =IF($J11="","",7) | B11: =IF($J11="","",IF(INDEX('例_顧客一覧'!$M$5:$M$104,$J11)="","期日未定",INDEX('例_顧客一覧'!$M$5:$M$104,$J11))) | C11: =IF($J11="","",IF(ISNUMBER($B11),$B11-$B$2,"")) | D11: =IF($J11="","",INDEX('例_顧客一覧'!$A$5:$A$104,$J11)) | E11: =IF($J11="","",INDEX('例_顧客一覧'!$C$5:$C$104,$J11)&"") | F11: =IF($J11="","",INDEX('例_顧客一覧'!$L$5:$L$104,$J11)&"") | G11: =IF($J11="","",INDEX('例_顧客一覧'!$G$5:$G$104,$J11)&"") | H11: =IF($J11="","",INDEX('例_顧客一覧'!$H$5:$H$104,$J11)&"") | I11: =IF($J11="","",INDEX('例_顧客一覧'!$J$5:$J$104,$J11)) | J11: =IFERROR(MATCH(SMALL('例_顧客一覧'!$O$5:$O$104,7),'例_顧客一覧'!$O$5:$O$104,0),"")
A12: =IF($J12="","",8) | B12: =IF($J12="","",IF(INDEX('例_顧客一覧'!$M$5:$M$104,$J12)="","期日未定",INDEX('例_顧客一覧'!$M$5:$M$104,$J12))) | C12: =IF($J12="","",IF(ISNUMBER($B12),$B12-$B$2,"")) | D12: =IF($J12="","",INDEX('例_顧客一覧'!$A$5:$A$104,$J12)) | E12: =IF($J12="","",INDEX('例_顧客一覧'!$C$5:$C$104,$J12)&"") | F12: =IF($J12="","",INDEX('例_顧客一覧'!$L$5:$L$104,$J12)&"") | G12: =IF($J12="","",INDEX('例_顧客一覧'!$G$5:$G$104,$J12)&"") | H12: =IF($J12="","",INDEX('例_顧客一覧'!$H$5:$H$104,$J12)&"") | I12: =IF($J12="","",INDEX('例_顧客一覧'!$J$5:$J$104,$J12)) | J12: =IFERROR(MATCH(SMALL('例_顧客一覧'!$O$5:$O$104,8),'例_顧客一覧'!$O$5:$O$104,0),"")
A13: =IF($J13="","",9) | B13: =IF($J13="","",IF(INDEX('例_顧客一覧'!$M$5:$M$104,$J13)="","期日未定",INDEX('例_顧客一覧'!$M$5:$M$104,$J13))) | C13: =IF($J13="","",IF(ISNUMBER($B13),$B13-$B$2,"")) | D13: =IF($J13="","",INDEX('例_顧客一覧'!$A$5:$A$104,$J13)) | E13: =IF($J13="","",INDEX('例_顧客一覧'!$C$5:$C$104,$J13)&"") | F13: =IF($J13="","",INDEX('例_顧客一覧'!$L$5:$L$104,$J13)&"") | G13: =IF($J13="","",INDEX('例_顧客一覧'!$G$5:$G$104,$J13)&"") | H13: =IF($J13="","",INDEX('例_顧客一覧'!$H$5:$H$104,$J13)&"") | I13: =IF($J13="","",INDEX('例_顧客一覧'!$J$5:$J$104,$J13)) | J13: =IFERROR(MATCH(SMALL('例_顧客一覧'!$O$5:$O$104,9),'例_顧客一覧'!$O$5:$O$104,0),"")
A14: =IF($J14="","",10) | B14: =IF($J14="","",IF(INDEX('例_顧客一覧'!$M$5:$M$104,$J14)="","期日未定",INDEX('例_顧客一覧'!$M$5:$M$104,$J14))) | C14: =IF($J14="","",IF(ISNUMBER($B14),$B14-$B$2,"")) | D14: =IF($J14="","",INDEX('例_顧客一覧'!$A$5:$A$104,$J14)) | E14: =IF($J14="","",INDEX('例_顧客一覧'!$C$5:$C$104,$J14)&"") | F14: =IF($J14="","",INDEX('例_顧客一覧'!$L$5:$L$104,$J14)&"") | G14: =IF($J14="","",INDEX('例_顧客一覧'!$G$5:$G$104,$J14)&"") | H14: =IF($J14="","",INDEX('例_顧客一覧'!$H$5:$H$104,$J14)&"") | I14: =IF($J14="","",INDEX('例_顧客一覧'!$J$5:$J$104,$J14)) | J14: =IFERROR(MATCH(SMALL('例_顧客一覧'!$O$5:$O$104,10),'例_顧客一覧'!$O$5:$O$104,0),"")
A15: =IF($J15="","",11) | B15: =IF($J15="","",IF(INDEX('例_顧客一覧'!$M$5:$M$104,$J15)="","期日未定",INDEX('例_顧客一覧'!$M$5:$M$104,$J15))) | C15: =IF($J15="","",IF(ISNUMBER($B15),$B15-$B$2,"")) | D15: =IF($J15="","",INDEX('例_顧客一覧'!$A$5:$A$104,$J15)) | E15: =IF($J15="","",INDEX('例_顧客一覧'!$C$5:$C$104,$J15)&"") | F15: =IF($J15="","",INDEX('例_顧客一覧'!$L$5:$L$104,$J15)&"") | G15: =IF($J15="","",INDEX('例_顧客一覧'!$G$5:$G$104,$J15)&"") | H15: =IF($J15="","",INDEX('例_顧客一覧'!$H$5:$H$104,$J15)&"") | I15: =IF($J15="","",INDEX('例_顧客一覧'!$J$5:$J$104,$J15)) | J15: =IFERROR(MATCH(SMALL('例_顧客一覧'!$O$5:$O$104,11),'例_顧客一覧'!$O$5:$O$104,0),"")
A16: =IF($J16="","",12) | B16: =IF($J16="","",IF(INDEX('例_顧客一覧'!$M$5:$M$104,$J16)="","期日未定",INDEX('例_顧客一覧'!$M$5:$M$104,$J16))) | C16: =IF($J16="","",IF(ISNUMBER($B16),$B16-$B$2,"")) | D16: =IF($J16="","",INDEX('例_顧客一覧'!$A$5:$A$104,$J16)) | E16: =IF($J16="","",INDEX('例_顧客一覧'!$C$5:$C$104,$J16)&"") | F16: =IF($J16="","",INDEX('例_顧客一覧'!$L$5:$L$104,$J16)&"") | G16: =IF($J16="","",INDEX('例_顧客一覧'!$G$5:$G$104,$J16)&"") | H16: =IF($J16="","",INDEX('例_顧客一覧'!$H$5:$H$104,$J16)&"") | I16: =IF($J16="","",INDEX('例_顧客一覧'!$J$5:$J$104,$J16)) | J16: =IFERROR(MATCH(SMALL('例_顧客一覧'!$O$5:$O$104,12),'例_顧客一覧'!$O$5:$O$104,0),"")
A17: =IF($J17="","",13) | B17: =IF($J17="","",IF(INDEX('例_顧客一覧'!$M$5:$M$104,$J17)="","期日未定",INDEX('例_顧客一覧'!$M$5:$M$104,$J17))) | C17: =IF($J17="","",IF(ISNUMBER($B17),$B17-$B$2,"")) | D17: =IF($J17="","",INDEX('例_顧客一覧'!$A$5:$A$104,$J17)) | E17: =IF($J17="","",INDEX('例_顧客一覧'!$C$5:$C$104,$J17)&"") | F17: =IF($J17="","",INDEX('例_顧客一覧'!$L$5:$L$104,$J17)&"") | G17: =IF($J17="","",INDEX('例_顧客一覧'!$G$5:$G$104,$J17)&"") | H17: =IF($J17="","",INDEX('例_顧客一覧'!$H$5:$H$104,$J17)&"") | I17: =IF($J17="","",INDEX('例_顧客一覧'!$J$5:$J$104,$J17)) | J17: =IFERROR(MATCH(SMALL('例_顧客一覧'!$O$5:$O$104,13),'例_顧客一覧'!$O$5:$O$104,0),"")
A18: =IF($J18="","",14) | B18: =IF($J18="","",IF(INDEX('例_顧客一覧'!$M$5:$M$104,$J18)="","期日未定",INDEX('例_顧客一覧'!$M$5:$M$104,$J18))) | C18: =IF($J18="","",IF(ISNUMBER($B18),$B18-$B$2,"")) | D18: =IF($J18="","",INDEX('例_顧客一覧'!$A$5:$A$104,$J18)) | E18: =IF($J18="","",INDEX('例_顧客一覧'!$C$5:$C$104,$J18)&"") | F18: =IF($J18="","",INDEX('例_顧客一覧'!$L$5:$L$104,$J18)&"") | G18: =IF($J18="","",INDEX('例_顧客一覧'!$G$5:$G$104,$J18)&"") | H18: =IF($J18="","",INDEX('例_顧客一覧'!$H$5:$H$104,$J18)&"") | I18: =IF($J18="","",INDEX('例_顧客一覧'!$J$5:$J$104,$J18)) | J18: =IFERROR(MATCH(SMALL('例_顧客一覧'!$O$5:$O$104,14),'例_顧客一覧'!$O$5:$O$104,0),"")
A19: =IF($J19="","",15) | B19: =IF($J19="","",IF(INDEX('例_顧客一覧'!$M$5:$M$104,$J19)="","期日未定",INDEX('例_顧客一覧'!$M$5:$M$104,$J19))) | C19: =IF($J19="","",IF(ISNUMBER($B19),$B19-$B$2,"")) | D19: =IF($J19="","",INDEX('例_顧客一覧'!$A$5:$A$104,$J19)) | E19: =IF($J19="","",INDEX('例_顧客一覧'!$C$5:$C$104,$J19)&"") | F19: =IF($J19="","",INDEX('例_顧客一覧'!$L$5:$L$104,$J19)&"") | G19: =IF($J19="","",INDEX('例_顧客一覧'!$G$5:$G$104,$J19)&"") | H19: =IF($J19="","",INDEX('例_顧客一覧'!$H$5:$H$104,$J19)&"") | I19: =IF($J19="","",INDEX('例_顧客一覧'!$J$5:$J$104,$J19)) | J19: =IFERROR(MATCH(SMALL('例_顧客一覧'!$O$5:$O$104,15),'例_顧客一覧'!$O$5:$O$104,0),"")
A20: =IF($J20="","",16) | B20: =IF($J20="","",IF(INDEX('例_顧客一覧'!$M$5:$M$104,$J20)="","期日未定",INDEX('例_顧客一覧'!$M$5:$M$104,$J20))) | C20: =IF($J20="","",IF(ISNUMBER($B20),$B20-$B$2,"")) | D20: =IF($J20="","",INDEX('例_顧客一覧'!$A$5:$A$104,$J20)) | E20: =IF($J20="","",INDEX('例_顧客一覧'!$C$5:$C$104,$J20)&"") | F20: =IF($J20="","",INDEX('例_顧客一覧'!$L$5:$L$104,$J20)&"") | G20: =IF($J20="","",INDEX('例_顧客一覧'!$G$5:$G$104,$J20)&"") | H20: =IF($J20="","",INDEX('例_顧客一覧'!$H$5:$H$104,$J20)&"") | I20: =IF($J20="","",INDEX('例_顧客一覧'!$J$5:$J$104,$J20)) | J20: =IFERROR(MATCH(SMALL('例_顧客一覧'!$O$5:$O$104,16),'例_顧客一覧'!$O$5:$O$104,0),"")
A21: =IF($J21="","",17) | B21: =IF($J21="","",IF(INDEX('例_顧客一覧'!$M$5:$M$104,$J21)="","期日未定",INDEX('例_顧客一覧'!$M$5:$M$104,$J21))) | C21: =IF($J21="","",IF(ISNUMBER($B21),$B21-$B$2,"")) | D21: =IF($J21="","",INDEX('例_顧客一覧'!$A$5:$A$104,$J21)) | E21: =IF($J21="","",INDEX('例_顧客一覧'!$C$5:$C$104,$J21)&"") | F21: =IF($J21="","",INDEX('例_顧客一覧'!$L$5:$L$104,$J21)&"") | G21: =IF($J21="","",INDEX('例_顧客一覧'!$G$5:$G$104,$J21)&"") | H21: =IF($J21="","",INDEX('例_顧客一覧'!$H$5:$H$104,$J21)&"") | I21: =IF($J21="","",INDEX('例_顧客一覧'!$J$5:$J$104,$J21)) | J21: =IFERROR(MATCH(SMALL('例_顧客一覧'!$O$5:$O$104,17),'例_顧客一覧'!$O$5:$O$104,0),"")
A22: =IF($J22="","",18) | B22: =IF($J22="","",IF(INDEX('例_顧客一覧'!$M$5:$M$104,$J22)="","期日未定",INDEX('例_顧客一覧'!$M$5:$M$104,$J22))) | C22: =IF($J22="","",IF(ISNUMBER($B22),$B22-$B$2,"")) | D22: =IF($J22="","",INDEX('例_顧客一覧'!$A$5:$A$104,$J22)) | E22: =IF($J22="","",INDEX('例_顧客一覧'!$C$5:$C$104,$J22)&"") | F22: =IF($J22="","",INDEX('例_顧客一覧'!$L$5:$L$104,$J22)&"") | G22: =IF($J22="","",INDEX('例_顧客一覧'!$G$5:$G$104,$J22)&"") | H22: =IF($J22="","",INDEX('例_顧客一覧'!$H$5:$H$104,$J22)&"") | I22: =IF($J22="","",INDEX('例_顧客一覧'!$J$5:$J$104,$J22)) | J22: =IFERROR(MATCH(SMALL('例_顧客一覧'!$O$5:$O$104,18),'例_顧客一覧'!$O$5:$O$104,0),"")
A23: =IF($J23="","",19) | B23: =IF($J23="","",IF(INDEX('例_顧客一覧'!$M$5:$M$104,$J23)="","期日未定",INDEX('例_顧客一覧'!$M$5:$M$104,$J23))) | C23: =IF($J23="","",IF(ISNUMBER($B23),$B23-$B$2,"")) | D23: =IF($J23="","",INDEX('例_顧客一覧'!$A$5:$A$104,$J23)) | E23: =IF($J23="","",INDEX('例_顧客一覧'!$C$5:$C$104,$J23)&"") | F23: =IF($J23="","",INDEX('例_顧客一覧'!$L$5:$L$104,$J23)&"") | G23: =IF($J23="","",INDEX('例_顧客一覧'!$G$5:$G$104,$J23)&"") | H23: =IF($J23="","",INDEX('例_顧客一覧'!$H$5:$H$104,$J23)&"") | I23: =IF($J23="","",INDEX('例_顧客一覧'!$J$5:$J$104,$J23)) | J23: =IFERROR(MATCH(SMALL('例_顧客一覧'!$O$5:$O$104,19),'例_顧客一覧'!$O$5:$O$104,0),"")
A24: =IF($J24="","",20) | B24: =IF($J24="","",IF(INDEX('例_顧客一覧'!$M$5:$M$104,$J24)="","期日未定",INDEX('例_顧客一覧'!$M$5:$M$104,$J24))) | C24: =IF($J24="","",IF(ISNUMBER($B24),$B24-$B$2,"")) | D24: =IF($J24="","",INDEX('例_顧客一覧'!$A$5:$A$104,$J24)) | E24: =IF($J24="","",INDEX('例_顧客一覧'!$C$5:$C$104,$J24)&"") | F24: =IF($J24="","",INDEX('例_顧客一覧'!$L$5:$L$104,$J24)&"") | G24: =IF($J24="","",INDEX('例_顧客一覧'!$G$5:$G$104,$J24)&"") | H24: =IF($J24="","",INDEX('例_顧客一覧'!$H$5:$H$104,$J24)&"") | I24: =IF($J24="","",INDEX('例_顧客一覧'!$J$5:$J$104,$J24)) | J24: =IFERROR(MATCH(SMALL('例_顧客一覧'!$O$5:$O$104,20),'例_顧客一覧'!$O$5:$O$104,0),"")
A25: =IF($J25="","",21) | B25: =IF($J25="","",IF(INDEX('例_顧客一覧'!$M$5:$M$104,$J25)="","期日未定",INDEX('例_顧客一覧'!$M$5:$M$104,$J25))) | C25: =IF($J25="","",IF(ISNUMBER($B25),$B25-$B$2,"")) | D25: =IF($J25="","",INDEX('例_顧客一覧'!$A$5:$A$104,$J25)) | E25: =IF($J25="","",INDEX('例_顧客一覧'!$C$5:$C$104,$J25)&"") | F25: =IF($J25="","",INDEX('例_顧客一覧'!$L$5:$L$104,$J25)&"") | G25: =IF($J25="","",INDEX('例_顧客一覧'!$G$5:$G$104,$J25)&"") | H25: =IF($J25="","",INDEX('例_顧客一覧'!$H$5:$H$104,$J25)&"") | I25: =IF($J25="","",INDEX('例_顧客一覧'!$J$5:$J$104,$J25)) | J25: =IFERROR(MATCH(SMALL('例_顧客一覧'!$O$5:$O$104,21),'例_顧客一覧'!$O$5:$O$104,0),"")
A26: =IF($J26="","",22) | B26: =IF($J26="","",IF(INDEX('例_顧客一覧'!$M$5:$M$104,$J26)="","期日未定",INDEX('例_顧客一覧'!$M$5:$M$104,$J26))) | C26: =IF($J26="","",IF(ISNUMBER($B26),$B26-$B$2,"")) | D26: =IF($J26="","",INDEX('例_顧客一覧'!$A$5:$A$104,$J26)) | E26: =IF($J26="","",INDEX('例_顧客一覧'!$C$5:$C$104,$J26)&"") | F26: =IF($J26="","",INDEX('例_顧客一覧'!$L$5:$L$104,$J26)&"") | G26: =IF($J26="","",INDEX('例_顧客一覧'!$G$5:$G$104,$J26)&"") | H26: =IF($J26="","",INDEX('例_顧客一覧'!$H$5:$H$104,$J26)&"") | I26: =IF($J26="","",INDEX('例_顧客一覧'!$J$5:$J$104,$J26)) | J26: =IFERROR(MATCH(SMALL('例_顧客一覧'!$O$5:$O$104,22),'例_顧客一覧'!$O$5:$O$104,0),"")
A27: =IF($J27="","",23) | B27: =IF($J27="","",IF(INDEX('例_顧客一覧'!$M$5:$M$104,$J27)="","期日未定",INDEX('例_顧客一覧'!$M$5:$M$104,$J27))) | C27: =IF($J27="","",IF(ISNUMBER($B27),$B27-$B$2,"")) | D27: =IF($J27="","",INDEX('例_顧客一覧'!$A$5:$A$104,$J27)) | E27: =IF($J27="","",INDEX('例_顧客一覧'!$C$5:$C$104,$J27)&"") | F27: =IF($J27="","",INDEX('例_顧客一覧'!$L$5:$L$104,$J27)&"") | G27: =IF($J27="","",INDEX('例_顧客一覧'!$G$5:$G$104,$J27)&"") | H27: =IF($J27="","",INDEX('例_顧客一覧'!$H$5:$H$104,$J27)&"") | I27: =IF($J27="","",INDEX('例_顧客一覧'!$J$5:$J$104,$J27)) | J27: =IFERROR(MATCH(SMALL('例_顧客一覧'!$O$5:$O$104,23),'例_顧客一覧'!$O$5:$O$104,0),"")
A28: =IF($J28="","",24) | B28: =IF($J28="","",IF(INDEX('例_顧客一覧'!$M$5:$M$104,$J28)="","期日未定",INDEX('例_顧客一覧'!$M$5:$M$104,$J28))) | C28: =IF($J28="","",IF(ISNUMBER($B28),$B28-$B$2,"")) | D28: =IF($J28="","",INDEX('例_顧客一覧'!$A$5:$A$104,$J28)) | E28: =IF($J28="","",INDEX('例_顧客一覧'!$C$5:$C$104,$J28)&"") | F28: =IF($J28="","",INDEX('例_顧客一覧'!$L$5:$L$104,$J28)&"") | G28: =IF($J28="","",INDEX('例_顧客一覧'!$G$5:$G$104,$J28)&"") | H28: =IF($J28="","",INDEX('例_顧客一覧'!$H$5:$H$104,$J28)&"") | I28: =IF($J28="","",INDEX('例_顧客一覧'!$J$5:$J$104,$J28)) | J28: =IFERROR(MATCH(SMALL('例_顧客一覧'!$O$5:$O$104,24),'例_顧客一覧'!$O$5:$O$104,0),"")
A29: =IF($J29="","",25) | B29: =IF($J29="","",IF(INDEX('例_顧客一覧'!$M$5:$M$104,$J29)="","期日未定",INDEX('例_顧客一覧'!$M$5:$M$104,$J29))) | C29: =IF($J29="","",IF(ISNUMBER($B29),$B29-$B$2,"")) | D29: =IF($J29="","",INDEX('例_顧客一覧'!$A$5:$A$104,$J29)) | E29: =IF($J29="","",INDEX('例_顧客一覧'!$C$5:$C$104,$J29)&"") | F29: =IF($J29="","",INDEX('例_顧客一覧'!$L$5:$L$104,$J29)&"") | G29: =IF($J29="","",INDEX('例_顧客一覧'!$G$5:$G$104,$J29)&"") | H29: =IF($J29="","",INDEX('例_顧客一覧'!$H$5:$H$104,$J29)&"") | I29: =IF($J29="","",INDEX('例_顧客一覧'!$J$5:$J$104,$J29)) | J29: =IFERROR(MATCH(SMALL('例_顧客一覧'!$O$5:$O$104,25),'例_顧客一覧'!$O$5:$O$104,0),"")
A30: =IF($J30="","",26) | B30: =IF($J30="","",IF(INDEX('例_顧客一覧'!$M$5:$M$104,$J30)="","期日未定",INDEX('例_顧客一覧'!$M$5:$M$104,$J30))) | C30: =IF($J30="","",IF(ISNUMBER($B30),$B30-$B$2,"")) | D30: =IF($J30="","",INDEX('例_顧客一覧'!$A$5:$A$104,$J30)) | E30: =IF($J30="","",INDEX('例_顧客一覧'!$C$5:$C$104,$J30)&"") | F30: =IF($J30="","",INDEX('例_顧客一覧'!$L$5:$L$104,$J30)&"") | G30: =IF($J30="","",INDEX('例_顧客一覧'!$G$5:$G$104,$J30)&"") | H30: =IF($J30="","",INDEX('例_顧客一覧'!$H$5:$H$104,$J30)&"") | I30: =IF($J30="","",INDEX('例_顧客一覧'!$J$5:$J$104,$J30)) | J30: =IFERROR(MATCH(SMALL('例_顧客一覧'!$O$5:$O$104,26),'例_顧客一覧'!$O$5:$O$104,0),"")
A31: =IF($J31="","",27) | B31: =IF($J31="","",IF(INDEX('例_顧客一覧'!$M$5:$M$104,$J31)="","期日未定",INDEX('例_顧客一覧'!$M$5:$M$104,$J31))) | C31: =IF($J31="","",IF(ISNUMBER($B31),$B31-$B$2,"")) | D31: =IF($J31="","",INDEX('例_顧客一覧'!$A$5:$A$104,$J31)) | E31: =IF($J31="","",INDEX('例_顧客一覧'!$C$5:$C$104,$J31)&"") | F31: =IF($J31="","",INDEX('例_顧客一覧'!$L$5:$L$104,$J31)&"") | G31: =IF($J31="","",INDEX('例_顧客一覧'!$G$5:$G$104,$J31)&"") | H31: =IF($J31="","",INDEX('例_顧客一覧'!$H$5:$H$104,$J31)&"") | I31: =IF($J31="","",INDEX('例_顧客一覧'!$J$5:$J$104,$J31)) | J31: =IFERROR(MATCH(SMALL('例_顧客一覧'!$O$5:$O$104,27),'例_顧客一覧'!$O$5:$O$104,0),"")
A32: =IF($J32="","",28) | B32: =IF($J32="","",IF(INDEX('例_顧客一覧'!$M$5:$M$104,$J32)="","期日未定",INDEX('例_顧客一覧'!$M$5:$M$104,$J32))) | C32: =IF($J32="","",IF(ISNUMBER($B32),$B32-$B$2,"")) | D32: =IF($J32="","",INDEX('例_顧客一覧'!$A$5:$A$104,$J32)) | E32: =IF($J32="","",INDEX('例_顧客一覧'!$C$5:$C$104,$J32)&"") | F32: =IF($J32="","",INDEX('例_顧客一覧'!$L$5:$L$104,$J32)&"") | G32: =IF($J32="","",INDEX('例_顧客一覧'!$G$5:$G$104,$J32)&"") | H32: =IF($J32="","",INDEX('例_顧客一覧'!$H$5:$H$104,$J32)&"") | I32: =IF($J32="","",INDEX('例_顧客一覧'!$J$5:$J$104,$J32)) | J32: =IFERROR(MATCH(SMALL('例_顧客一覧'!$O$5:$O$104,28),'例_顧客一覧'!$O$5:$O$104,0),"")
A33: =IF($J33="","",29) | B33: =IF($J33="","",IF(INDEX('例_顧客一覧'!$M$5:$M$104,$J33)="","期日未定",INDEX('例_顧客一覧'!$M$5:$M$104,$J33))) | C33: =IF($J33="","",IF(ISNUMBER($B33),$B33-$B$2,"")) | D33: =IF($J33="","",INDEX('例_顧客一覧'!$A$5:$A$104,$J33)) | E33: =IF($J33="","",INDEX('例_顧客一覧'!$C$5:$C$104,$J33)&"") | F33: =IF($J33="","",INDEX('例_顧客一覧'!$L$5:$L$104,$J33)&"") | G33: =IF($J33="","",INDEX('例_顧客一覧'!$G$5:$G$104,$J33)&"") | H33: =IF($J33="","",INDEX('例_顧客一覧'!$H$5:$H$104,$J33)&"") | I33: =IF($J33="","",INDEX('例_顧客一覧'!$J$5:$J$104,$J33)) | J33: =IFERROR(MATCH(SMALL('例_顧客一覧'!$O$5:$O$104,29),'例_顧客一覧'!$O$5:$O$104,0),"")
A34: =IF($J34="","",30) | B34: =IF($J34="","",IF(INDEX('例_顧客一覧'!$M$5:$M$104,$J34)="","期日未定",INDEX('例_顧客一覧'!$M$5:$M$104,$J34))) | C34: =IF($J34="","",IF(ISNUMBER($B34),$B34-$B$2,"")) | D34: =IF($J34="","",INDEX('例_顧客一覧'!$A$5:$A$104,$J34)) | E34: =IF($J34="","",INDEX('例_顧客一覧'!$C$5:$C$104,$J34)&"") | F34: =IF($J34="","",INDEX('例_顧客一覧'!$L$5:$L$104,$J34)&"") | G34: =IF($J34="","",INDEX('例_顧客一覧'!$G$5:$G$104,$J34)&"") | H34: =IF($J34="","",INDEX('例_顧客一覧'!$H$5:$H$104,$J34)&"") | I34: =IF($J34="","",INDEX('例_顧客一覧'!$J$5:$J$104,$J34)) | J34: =IFERROR(MATCH(SMALL('例_顧客一覧'!$O$5:$O$104,30),'例_顧客一覧'!$O$5:$O$104,0),"")
A35: =IF($J35="","",31) | B35: =IF($J35="","",IF(INDEX('例_顧客一覧'!$M$5:$M$104,$J35)="","期日未定",INDEX('例_顧客一覧'!$M$5:$M$104,$J35))) | C35: =IF($J35="","",IF(ISNUMBER($B35),$B35-$B$2,"")) | D35: =IF($J35="","",INDEX('例_顧客一覧'!$A$5:$A$104,$J35)) | E35: =IF($J35="","",INDEX('例_顧客一覧'!$C$5:$C$104,$J35)&"") | F35: =IF($J35="","",INDEX('例_顧客一覧'!$L$5:$L$104,$J35)&"") | G35: =IF($J35="","",INDEX('例_顧客一覧'!$G$5:$G$104,$J35)&"") | H35: =IF($J35="","",INDEX('例_顧客一覧'!$H$5:$H$104,$J35)&"") | I35: =IF($J35="","",INDEX('例_顧客一覧'!$J$5:$J$104,$J35)) | J35: =IFERROR(MATCH(SMALL('例_顧客一覧'!$O$5:$O$104,31),'例_顧客一覧'!$O$5:$O$104,0),"")
A36: =IF($J36="","",32) | B36: =IF($J36="","",IF(INDEX('例_顧客一覧'!$M$5:$M$104,$J36)="","期日未定",INDEX('例_顧客一覧'!$M$5:$M$104,$J36))) | C36: =IF($J36="","",IF(ISNUMBER($B36),$B36-$B$2,"")) | D36: =IF($J36="","",INDEX('例_顧客一覧'!$A$5:$A$104,$J36)) | E36: =IF($J36="","",INDEX('例_顧客一覧'!$C$5:$C$104,$J36)&"") | F36: =IF($J36="","",INDEX('例_顧客一覧'!$L$5:$L$104,$J36)&"") | G36: =IF($J36="","",INDEX('例_顧客一覧'!$G$5:$G$104,$J36)&"") | H36: =IF($J36="","",INDEX('例_顧客一覧'!$H$5:$H$104,$J36)&"") | I36: =IF($J36="","",INDEX('例_顧客一覧'!$J$5:$J$104,$J36)) | J36: =IFERROR(MATCH(SMALL('例_顧客一覧'!$O$5:$O$104,32),'例_顧客一覧'!$O$5:$O$104,0),"")
A37: =IF($J37="","",33) | B37: =IF($J37="","",IF(INDEX('例_顧客一覧'!$M$5:$M$104,$J37)="","期日未定",INDEX('例_顧客一覧'!$M$5:$M$104,$J37))) | C37: =IF($J37="","",IF(ISNUMBER($B37),$B37-$B$2,"")) | D37: =IF($J37="","",INDEX('例_顧客一覧'!$A$5:$A$104,$J37)) | E37: =IF($J37="","",INDEX('例_顧客一覧'!$C$5:$C$104,$J37)&"") | F37: =IF($J37="","",INDEX('例_顧客一覧'!$L$5:$L$104,$J37)&"") | G37: =IF($J37="","",INDEX('例_顧客一覧'!$G$5:$G$104,$J37)&"") | H37: =IF($J37="","",INDEX('例_顧客一覧'!$H$5:$H$104,$J37)&"") | I37: =IF($J37="","",INDEX('例_顧客一覧'!$J$5:$J$104,$J37)) | J37: =IFERROR(MATCH(SMALL('例_顧客一覧'!$O$5:$O$104,33),'例_顧客一覧'!$O$5:$O$104,0),"")
A38: =IF($J38="","",34) | B38: =IF($J38="","",IF(INDEX('例_顧客一覧'!$M$5:$M$104,$J38)="","期日未定",INDEX('例_顧客一覧'!$M$5:$M$104,$J38))) | C38: =IF($J38="","",IF(ISNUMBER($B38),$B38-$B$2,"")) | D38: =IF($J38="","",INDEX('例_顧客一覧'!$A$5:$A$104,$J38)) | E38: =IF($J38="","",INDEX('例_顧客一覧'!$C$5:$C$104,$J38)&"") | F38: =IF($J38="","",INDEX('例_顧客一覧'!$L$5:$L$104,$J38)&"") | G38: =IF($J38="","",INDEX('例_顧客一覧'!$G$5:$G$104,$J38)&"") | H38: =IF($J38="","",INDEX('例_顧客一覧'!$H$5:$H$104,$J38)&"") | I38: =IF($J38="","",INDEX('例_顧客一覧'!$J$5:$J$104,$J38)) | J38: =IFERROR(MATCH(SMALL('例_顧客一覧'!$O$5:$O$104,34),'例_顧客一覧'!$O$5:$O$104,0),"")
A39: =IF($J39="","",35) | B39: =IF($J39="","",IF(INDEX('例_顧客一覧'!$M$5:$M$104,$J39)="","期日未定",INDEX('例_顧客一覧'!$M$5:$M$104,$J39))) | C39: =IF($J39="","",IF(ISNUMBER($B39),$B39-$B$2,"")) | D39: =IF($J39="","",INDEX('例_顧客一覧'!$A$5:$A$104,$J39)) | E39: =IF($J39="","",INDEX('例_顧客一覧'!$C$5:$C$104,$J39)&"") | F39: =IF($J39="","",INDEX('例_顧客一覧'!$L$5:$L$104,$J39)&"") | G39: =IF($J39="","",INDEX('例_顧客一覧'!$G$5:$G$104,$J39)&"") | H39: =IF($J39="","",INDEX('例_顧客一覧'!$H$5:$H$104,$J39)&"") | I39: =IF($J39="","",INDEX('例_顧客一覧'!$J$5:$J$104,$J39)) | J39: =IFERROR(MATCH(SMALL('例_顧客一覧'!$O$5:$O$104,35),'例_顧客一覧'!$O$5:$O$104,0),"")
A40: =IF($J40="","",36) | B40: =IF($J40="","",IF(INDEX('例_顧客一覧'!$M$5:$M$104,$J40)="","期日未定",INDEX('例_顧客一覧'!$M$5:$M$104,$J40))) | C40: =IF($J40="","",IF(ISNUMBER($B40),$B40-$B$2,"")) | D40: =IF($J40="","",INDEX('例_顧客一覧'!$A$5:$A$104,$J40)) | E40: =IF($J40="","",INDEX('例_顧客一覧'!$C$5:$C$104,$J40)&"") | F40: =IF($J40="","",INDEX('例_顧客一覧'!$L$5:$L$104,$J40)&"") | G40: =IF($J40="","",INDEX('例_顧客一覧'!$G$5:$G$104,$J40)&"") | H40: =IF($J40="","",INDEX('例_顧客一覧'!$H$5:$H$104,$J40)&"") | I40: =IF($J40="","",INDEX('例_顧客一覧'!$J$5:$J$104,$J40)) | J40: =IFERROR(MATCH(SMALL('例_顧客一覧'!$O$5:$O$104,36),'例_顧客一覧'!$O$5:$O$104,0),"")
A41: =IF($J41="","",37) | B41: =IF($J41="","",IF(INDEX('例_顧客一覧'!$M$5:$M$104,$J41)="","期日未定",INDEX('例_顧客一覧'!$M$5:$M$104,$J41))) | C41: =IF($J41="","",IF(ISNUMBER($B41),$B41-$B$2,"")) | D41: =IF($J41="","",INDEX('例_顧客一覧'!$A$5:$A$104,$J41)) | E41: =IF($J41="","",INDEX('例_顧客一覧'!$C$5:$C$104,$J41)&"") | F41: =IF($J41="","",INDEX('例_顧客一覧'!$L$5:$L$104,$J41)&"") | G41: =IF($J41="","",INDEX('例_顧客一覧'!$G$5:$G$104,$J41)&"") | H41: =IF($J41="","",INDEX('例_顧客一覧'!$H$5:$H$104,$J41)&"") | I41: =IF($J41="","",INDEX('例_顧客一覧'!$J$5:$J$104,$J41)) | J41: =IFERROR(MATCH(SMALL('例_顧客一覧'!$O$5:$O$104,37),'例_顧客一覧'!$O$5:$O$104,0),"")
A42: =IF($J42="","",38) | B42: =IF($J42="","",IF(INDEX('例_顧客一覧'!$M$5:$M$104,$J42)="","期日未定",INDEX('例_顧客一覧'!$M$5:$M$104,$J42))) | C42: =IF($J42="","",IF(ISNUMBER($B42),$B42-$B$2,"")) | D42: =IF($J42="","",INDEX('例_顧客一覧'!$A$5:$A$104,$J42)) | E42: =IF($J42="","",INDEX('例_顧客一覧'!$C$5:$C$104,$J42)&"") | F42: =IF($J42="","",INDEX('例_顧客一覧'!$L$5:$L$104,$J42)&"") | G42: =IF($J42="","",INDEX('例_顧客一覧'!$G$5:$G$104,$J42)&"") | H42: =IF($J42="","",INDEX('例_顧客一覧'!$H$5:$H$104,$J42)&"") | I42: =IF($J42="","",INDEX('例_顧客一覧'!$J$5:$J$104,$J42)) | J42: =IFERROR(MATCH(SMALL('例_顧客一覧'!$O$5:$O$104,38),'例_顧客一覧'!$O$5:$O$104,0),"")
A43: =IF($J43="","",39) | B43: =IF($J43="","",IF(INDEX('例_顧客一覧'!$M$5:$M$104,$J43)="","期日未定",INDEX('例_顧客一覧'!$M$5:$M$104,$J43))) | C43: =IF($J43="","",IF(ISNUMBER($B43),$B43-$B$2,"")) | D43: =IF($J43="","",INDEX('例_顧客一覧'!$A$5:$A$104,$J43)) | E43: =IF($J43="","",INDEX('例_顧客一覧'!$C$5:$C$104,$J43)&"") | F43: =IF($J43="","",INDEX('例_顧客一覧'!$L$5:$L$104,$J43)&"") | G43: =IF($J43="","",INDEX('例_顧客一覧'!$G$5:$G$104,$J43)&"") | H43: =IF($J43="","",INDEX('例_顧客一覧'!$H$5:$H$104,$J43)&"") | I43: =IF($J43="","",INDEX('例_顧客一覧'!$J$5:$J$104,$J43)) | J43: =IFERROR(MATCH(SMALL('例_顧客一覧'!$O$5:$O$104,39),'例_顧客一覧'!$O$5:$O$104,0),"")
A44: =IF($J44="","",40) | B44: =IF($J44="","",IF(INDEX('例_顧客一覧'!$M$5:$M$104,$J44)="","期日未定",INDEX('例_顧客一覧'!$M$5:$M$104,$J44))) | C44: =IF($J44="","",IF(ISNUMBER($B44),$B44-$B$2,"")) | D44: =IF($J44="","",INDEX('例_顧客一覧'!$A$5:$A$104,$J44)) | E44: =IF($J44="","",INDEX('例_顧客一覧'!$C$5:$C$104,$J44)&"") | F44: =IF($J44="","",INDEX('例_顧客一覧'!$L$5:$L$104,$J44)&"") | G44: =IF($J44="","",INDEX('例_顧客一覧'!$G$5:$G$104,$J44)&"") | H44: =IF($J44="","",INDEX('例_顧客一覧'!$H$5:$H$104,$J44)&"") | I44: =IF($J44="","",INDEX('例_顧客一覧'!$J$5:$J$104,$J44)) | J44: =IFERROR(MATCH(SMALL('例_顧客一覧'!$O$5:$O$104,40),'例_顧客一覧'!$O$5:$O$104,0),"")
A45: =IF($J45="","",41) | B45: =IF($J45="","",IF(INDEX('例_顧客一覧'!$M$5:$M$104,$J45)="","期日未定",INDEX('例_顧客一覧'!$M$5:$M$104,$J45))) | C45: =IF($J45="","",IF(ISNUMBER($B45),$B45-$B$2,"")) | D45: =IF($J45="","",INDEX('例_顧客一覧'!$A$5:$A$104,$J45)) | E45: =IF($J45="","",INDEX('例_顧客一覧'!$C$5:$C$104,$J45)&"") | F45: =IF($J45="","",INDEX('例_顧客一覧'!$L$5:$L$104,$J45)&"") | G45: =IF($J45="","",INDEX('例_顧客一覧'!$G$5:$G$104,$J45)&"") | H45: =IF($J45="","",INDEX('例_顧客一覧'!$H$5:$H$104,$J45)&"") | I45: =IF($J45="","",INDEX('例_顧客一覧'!$J$5:$J$104,$J45)) | J45: =IFERROR(MATCH(SMALL('例_顧客一覧'!$O$5:$O$104,41),'例_顧客一覧'!$O$5:$O$104,0),"")
A46: =IF($J46="","",42) | B46: =IF($J46="","",IF(INDEX('例_顧客一覧'!$M$5:$M$104,$J46)="","期日未定",INDEX('例_顧客一覧'!$M$5:$M$104,$J46))) | C46: =IF($J46="","",IF(ISNUMBER($B46),$B46-$B$2,"")) | D46: =IF($J46="","",INDEX('例_顧客一覧'!$A$5:$A$104,$J46)) | E46: =IF($J46="","",INDEX('例_顧客一覧'!$C$5:$C$104,$J46)&"") | F46: =IF($J46="","",INDEX('例_顧客一覧'!$L$5:$L$104,$J46)&"") | G46: =IF($J46="","",INDEX('例_顧客一覧'!$G$5:$G$104,$J46)&"") | H46: =IF($J46="","",INDEX('例_顧客一覧'!$H$5:$H$104,$J46)&"") | I46: =IF($J46="","",INDEX('例_顧客一覧'!$J$5:$J$104,$J46)) | J46: =IFERROR(MATCH(SMALL('例_顧客一覧'!$O$5:$O$104,42),'例_顧客一覧'!$O$5:$O$104,0),"")
A47: =IF($J47="","",43) | B47: =IF($J47="","",IF(INDEX('例_顧客一覧'!$M$5:$M$104,$J47)="","期日未定",INDEX('例_顧客一覧'!$M$5:$M$104,$J47))) | C47: =IF($J47="","",IF(ISNUMBER($B47),$B47-$B$2,"")) | D47: =IF($J47="","",INDEX('例_顧客一覧'!$A$5:$A$104,$J47)) | E47: =IF($J47="","",INDEX('例_顧客一覧'!$C$5:$C$104,$J47)&"") | F47: =IF($J47="","",INDEX('例_顧客一覧'!$L$5:$L$104,$J47)&"") | G47: =IF($J47="","",INDEX('例_顧客一覧'!$G$5:$G$104,$J47)&"") | H47: =IF($J47="","",INDEX('例_顧客一覧'!$H$5:$H$104,$J47)&"") | I47: =IF($J47="","",INDEX('例_顧客一覧'!$J$5:$J$104,$J47)) | J47: =IFERROR(MATCH(SMALL('例_顧客一覧'!$O$5:$O$104,43),'例_顧客一覧'!$O$5:$O$104,0),"")
A48: =IF($J48="","",44) | B48: =IF($J48="","",IF(INDEX('例_顧客一覧'!$M$5:$M$104,$J48)="","期日未定",INDEX('例_顧客一覧'!$M$5:$M$104,$J48))) | C48: =IF($J48="","",IF(ISNUMBER($B48),$B48-$B$2,"")) | D48: =IF($J48="","",INDEX('例_顧客一覧'!$A$5:$A$104,$J48)) | E48: =IF($J48="","",INDEX('例_顧客一覧'!$C$5:$C$104,$J48)&"") | F48: =IF($J48="","",INDEX('例_顧客一覧'!$L$5:$L$104,$J48)&"") | G48: =IF($J48="","",INDEX('例_顧客一覧'!$G$5:$G$104,$J48)&"") | H48: =IF($J48="","",INDEX('例_顧客一覧'!$H$5:$H$104,$J48)&"") | I48: =IF($J48="","",INDEX('例_顧客一覧'!$J$5:$J$104,$J48)) | J48: =IFERROR(MATCH(SMALL('例_顧客一覧'!$O$5:$O$104,44),'例_顧客一覧'!$O$5:$O$104,0),"")
A49: =IF($J49="","",45) | B49: =IF($J49="","",IF(INDEX('例_顧客一覧'!$M$5:$M$104,$J49)="","期日未定",INDEX('例_顧客一覧'!$M$5:$M$104,$J49))) | C49: =IF($J49="","",IF(ISNUMBER($B49),$B49-$B$2,"")) | D49: =IF($J49="","",INDEX('例_顧客一覧'!$A$5:$A$104,$J49)) | E49: =IF($J49="","",INDEX('例_顧客一覧'!$C$5:$C$104,$J49)&"") | F49: =IF($J49="","",INDEX('例_顧客一覧'!$L$5:$L$104,$J49)&"") | G49: =IF($J49="","",INDEX('例_顧客一覧'!$G$5:$G$104,$J49)&"") | H49: =IF($J49="","",INDEX('例_顧客一覧'!$H$5:$H$104,$J49)&"") | I49: =IF($J49="","",INDEX('例_顧客一覧'!$J$5:$J$104,$J49)) | J49: =IFERROR(MATCH(SMALL('例_顧客一覧'!$O$5:$O$104,45),'例_顧客一覧'!$O$5:$O$104,0),"")
A50: =IF($J50="","",46) | B50: =IF($J50="","",IF(INDEX('例_顧客一覧'!$M$5:$M$104,$J50)="","期日未定",INDEX('例_顧客一覧'!$M$5:$M$104,$J50))) | C50: =IF($J50="","",IF(ISNUMBER($B50),$B50-$B$2,"")) | D50: =IF($J50="","",INDEX('例_顧客一覧'!$A$5:$A$104,$J50)) | E50: =IF($J50="","",INDEX('例_顧客一覧'!$C$5:$C$104,$J50)&"") | F50: =IF($J50="","",INDEX('例_顧客一覧'!$L$5:$L$104,$J50)&"") | G50: =IF($J50="","",INDEX('例_顧客一覧'!$G$5:$G$104,$J50)&"") | H50: =IF($J50="","",INDEX('例_顧客一覧'!$H$5:$H$104,$J50)&"") | I50: =IF($J50="","",INDEX('例_顧客一覧'!$J$5:$J$104,$J50)) | J50: =IFERROR(MATCH(SMALL('例_顧客一覧'!$O$5:$O$104,46),'例_顧客一覧'!$O$5:$O$104,0),"")
A51: =IF($J51="","",47) | B51: =IF($J51="","",IF(INDEX('例_顧客一覧'!$M$5:$M$104,$J51)="","期日未定",INDEX('例_顧客一覧'!$M$5:$M$104,$J51))) | C51: =IF($J51="","",IF(ISNUMBER($B51),$B51-$B$2,"")) | D51: =IF($J51="","",INDEX('例_顧客一覧'!$A$5:$A$104,$J51)) | E51: =IF($J51="","",INDEX('例_顧客一覧'!$C$5:$C$104,$J51)&"") | F51: =IF($J51="","",INDEX('例_顧客一覧'!$L$5:$L$104,$J51)&"") | G51: =IF($J51="","",INDEX('例_顧客一覧'!$G$5:$G$104,$J51)&"") | H51: =IF($J51="","",INDEX('例_顧客一覧'!$H$5:$H$104,$J51)&"") | I51: =IF($J51="","",INDEX('例_顧客一覧'!$J$5:$J$104,$J51)) | J51: =IFERROR(MATCH(SMALL('例_顧客一覧'!$O$5:$O$104,47),'例_顧客一覧'!$O$5:$O$104,0),"")
A52: =IF($J52="","",48) | B52: =IF($J52="","",IF(INDEX('例_顧客一覧'!$M$5:$M$104,$J52)="","期日未定",INDEX('例_顧客一覧'!$M$5:$M$104,$J52))) | C52: =IF($J52="","",IF(ISNUMBER($B52),$B52-$B$2,"")) | D52: =IF($J52="","",INDEX('例_顧客一覧'!$A$5:$A$104,$J52)) | E52: =IF($J52="","",INDEX('例_顧客一覧'!$C$5:$C$104,$J52)&"") | F52: =IF($J52="","",INDEX('例_顧客一覧'!$L$5:$L$104,$J52)&"") | G52: =IF($J52="","",INDEX('例_顧客一覧'!$G$5:$G$104,$J52)&"") | H52: =IF($J52="","",INDEX('例_顧客一覧'!$H$5:$H$104,$J52)&"") | I52: =IF($J52="","",INDEX('例_顧客一覧'!$J$5:$J$104,$J52)) | J52: =IFERROR(MATCH(SMALL('例_顧客一覧'!$O$5:$O$104,48),'例_顧客一覧'!$O$5:$O$104,0),"")
A53: =IF($J53="","",49) | B53: =IF($J53="","",IF(INDEX('例_顧客一覧'!$M$5:$M$104,$J53)="","期日未定",INDEX('例_顧客一覧'!$M$5:$M$104,$J53))) | C53: =IF($J53="","",IF(ISNUMBER($B53),$B53-$B$2,"")) | D53: =IF($J53="","",INDEX('例_顧客一覧'!$A$5:$A$104,$J53)) | E53: =IF($J53="","",INDEX('例_顧客一覧'!$C$5:$C$104,$J53)&"") | F53: =IF($J53="","",INDEX('例_顧客一覧'!$L$5:$L$104,$J53)&"") | G53: =IF($J53="","",INDEX('例_顧客一覧'!$G$5:$G$104,$J53)&"") | H53: =IF($J53="","",INDEX('例_顧客一覧'!$H$5:$H$104,$J53)&"") | I53: =IF($J53="","",INDEX('例_顧客一覧'!$J$5:$J$104,$J53)) | J53: =IFERROR(MATCH(SMALL('例_顧客一覧'!$O$5:$O$104,49),'例_顧客一覧'!$O$5:$O$104,0),"")
A54: =IF($J54="","",50) | B54: =IF($J54="","",IF(INDEX('例_顧客一覧'!$M$5:$M$104,$J54)="","期日未定",INDEX('例_顧客一覧'!$M$5:$M$104,$J54))) | C54: =IF($J54="","",IF(ISNUMBER($B54),$B54-$B$2,"")) | D54: =IF($J54="","",INDEX('例_顧客一覧'!$A$5:$A$104,$J54)) | E54: =IF($J54="","",INDEX('例_顧客一覧'!$C$5:$C$104,$J54)&"") | F54: =IF($J54="","",INDEX('例_顧客一覧'!$L$5:$L$104,$J54)&"") | G54: =IF($J54="","",INDEX('例_顧客一覧'!$G$5:$G$104,$J54)&"") | H54: =IF($J54="","",INDEX('例_顧客一覧'!$H$5:$H$104,$J54)&"") | I54: =IF($J54="","",INDEX('例_顧客一覧'!$J$5:$J$104,$J54)) | J54: =IFERROR(MATCH(SMALL('例_顧客一覧'!$O$5:$O$104,50),'例_顧客一覧'!$O$5:$O$104,0),"")
A55: =IF($J55="","",51) | B55: =IF($J55="","",IF(INDEX('例_顧客一覧'!$M$5:$M$104,$J55)="","期日未定",INDEX('例_顧客一覧'!$M$5:$M$104,$J55))) | C55: =IF($J55="","",IF(ISNUMBER($B55),$B55-$B$2,"")) | D55: =IF($J55="","",INDEX('例_顧客一覧'!$A$5:$A$104,$J55)) | E55: =IF($J55="","",INDEX('例_顧客一覧'!$C$5:$C$104,$J55)&"") | F55: =IF($J55="","",INDEX('例_顧客一覧'!$L$5:$L$104,$J55)&"") | G55: =IF($J55="","",INDEX('例_顧客一覧'!$G$5:$G$104,$J55)&"") | H55: =IF($J55="","",INDEX('例_顧客一覧'!$H$5:$H$104,$J55)&"") | I55: =IF($J55="","",INDEX('例_顧客一覧'!$J$5:$J$104,$J55)) | J55: =IFERROR(MATCH(SMALL('例_顧客一覧'!$O$5:$O$104,51),'例_顧客一覧'!$O$5:$O$104,0),"")
A56: =IF($J56="","",52) | B56: =IF($J56="","",IF(INDEX('例_顧客一覧'!$M$5:$M$104,$J56)="","期日未定",INDEX('例_顧客一覧'!$M$5:$M$104,$J56))) | C56: =IF($J56="","",IF(ISNUMBER($B56),$B56-$B$2,"")) | D56: =IF($J56="","",INDEX('例_顧客一覧'!$A$5:$A$104,$J56)) | E56: =IF($J56="","",INDEX('例_顧客一覧'!$C$5:$C$104,$J56)&"") | F56: =IF($J56="","",INDEX('例_顧客一覧'!$L$5:$L$104,$J56)&"") | G56: =IF($J56="","",INDEX('例_顧客一覧'!$G$5:$G$104,$J56)&"") | H56: =IF($J56="","",INDEX('例_顧客一覧'!$H$5:$H$104,$J56)&"") | I56: =IF($J56="","",INDEX('例_顧客一覧'!$J$5:$J$104,$J56)) | J56: =IFERROR(MATCH(SMALL('例_顧客一覧'!$O$5:$O$104,52),'例_顧客一覧'!$O$5:$O$104,0),"")
A57: =IF($J57="","",53) | B57: =IF($J57="","",IF(INDEX('例_顧客一覧'!$M$5:$M$104,$J57)="","期日未定",INDEX('例_顧客一覧'!$M$5:$M$104,$J57))) | C57: =IF($J57="","",IF(ISNUMBER($B57),$B57-$B$2,"")) | D57: =IF($J57="","",INDEX('例_顧客一覧'!$A$5:$A$104,$J57)) | E57: =IF($J57="","",INDEX('例_顧客一覧'!$C$5:$C$104,$J57)&"") | F57: =IF($J57="","",INDEX('例_顧客一覧'!$L$5:$L$104,$J57)&"") | G57: =IF($J57="","",INDEX('例_顧客一覧'!$G$5:$G$104,$J57)&"") | H57: =IF($J57="","",INDEX('例_顧客一覧'!$H$5:$H$104,$J57)&"") | I57: =IF($J57="","",INDEX('例_顧客一覧'!$J$5:$J$104,$J57)) | J57: =IFERROR(MATCH(SMALL('例_顧客一覧'!$O$5:$O$104,53),'例_顧客一覧'!$O$5:$O$104,0),"")
A58: =IF($J58="","",54) | B58: =IF($J58="","",IF(INDEX('例_顧客一覧'!$M$5:$M$104,$J58)="","期日未定",INDEX('例_顧客一覧'!$M$5:$M$104,$J58))) | C58: =IF($J58="","",IF(ISNUMBER($B58),$B58-$B$2,"")) | D58: =IF($J58="","",INDEX('例_顧客一覧'!$A$5:$A$104,$J58)) | E58: =IF($J58="","",INDEX('例_顧客一覧'!$C$5:$C$104,$J58)&"") | F58: =IF($J58="","",INDEX('例_顧客一覧'!$L$5:$L$104,$J58)&"") | G58: =IF($J58="","",INDEX('例_顧客一覧'!$G$5:$G$104,$J58)&"") | H58: =IF($J58="","",INDEX('例_顧客一覧'!$H$5:$H$104,$J58)&"") | I58: =IF($J58="","",INDEX('例_顧客一覧'!$J$5:$J$104,$J58)) | J58: =IFERROR(MATCH(SMALL('例_顧客一覧'!$O$5:$O$104,54),'例_顧客一覧'!$O$5:$O$104,0),"")
A59: =IF($J59="","",55) | B59: =IF($J59="","",IF(INDEX('例_顧客一覧'!$M$5:$M$104,$J59)="","期日未定",INDEX('例_顧客一覧'!$M$5:$M$104,$J59))) | C59: =IF($J59="","",IF(ISNUMBER($B59),$B59-$B$2,"")) | D59: =IF($J59="","",INDEX('例_顧客一覧'!$A$5:$A$104,$J59)) | E59: =IF($J59="","",INDEX('例_顧客一覧'!$C$5:$C$104,$J59)&"") | F59: =IF($J59="","",INDEX('例_顧客一覧'!$L$5:$L$104,$J59)&"") | G59: =IF($J59="","",INDEX('例_顧客一覧'!$G$5:$G$104,$J59)&"") | H59: =IF($J59="","",INDEX('例_顧客一覧'!$H$5:$H$104,$J59)&"") | I59: =IF($J59="","",INDEX('例_顧客一覧'!$J$5:$J$104,$J59)) | J59: =IFERROR(MATCH(SMALL('例_顧客一覧'!$O$5:$O$104,55),'例_顧客一覧'!$O$5:$O$104,0),"")
A60: =IF($J60="","",56) | B60: =IF($J60="","",IF(INDEX('例_顧客一覧'!$M$5:$M$104,$J60)="","期日未定",INDEX('例_顧客一覧'!$M$5:$M$104,$J60))) | C60: =IF($J60="","",IF(ISNUMBER($B60),$B60-$B$2,"")) | D60: =IF($J60="","",INDEX('例_顧客一覧'!$A$5:$A$104,$J60)) | E60: =IF($J60="","",INDEX('例_顧客一覧'!$C$5:$C$104,$J60)&"") | F60: =IF($J60="","",INDEX('例_顧客一覧'!$L$5:$L$104,$J60)&"") | G60: =IF($J60="","",INDEX('例_顧客一覧'!$G$5:$G$104,$J60)&"") | H60: =IF($J60="","",INDEX('例_顧客一覧'!$H$5:$H$104,$J60)&"") | I60: =IF($J60="","",INDEX('例_顧客一覧'!$J$5:$J$104,$J60)) | J60: =IFERROR(MATCH(SMALL('例_顧客一覧'!$O$5:$O$104,56),'例_顧客一覧'!$O$5:$O$104,0),"")
A61: =IF($J61="","",57) | B61: =IF($J61="","",IF(INDEX('例_顧客一覧'!$M$5:$M$104,$J61)="","期日未定",INDEX('例_顧客一覧'!$M$5:$M$104,$J61))) | C61: =IF($J61="","",IF(ISNUMBER($B61),$B61-$B$2,"")) | D61: =IF($J61="","",INDEX('例_顧客一覧'!$A$5:$A$104,$J61)) | E61: =IF($J61="","",INDEX('例_顧客一覧'!$C$5:$C$104,$J61)&"") | F61: =IF($J61="","",INDEX('例_顧客一覧'!$L$5:$L$104,$J61)&"") | G61: =IF($J61="","",INDEX('例_顧客一覧'!$G$5:$G$104,$J61)&"") | H61: =IF($J61="","",INDEX('例_顧客一覧'!$H$5:$H$104,$J61)&"") | I61: =IF($J61="","",INDEX('例_顧客一覧'!$J$5:$J$104,$J61)) | J61: =IFERROR(MATCH(SMALL('例_顧客一覧'!$O$5:$O$104,57),'例_顧客一覧'!$O$5:$O$104,0),"")
A62: =IF($J62="","",58) | B62: =IF($J62="","",IF(INDEX('例_顧客一覧'!$M$5:$M$104,$J62)="","期日未定",INDEX('例_顧客一覧'!$M$5:$M$104,$J62))) | C62: =IF($J62="","",IF(ISNUMBER($B62),$B62-$B$2,"")) | D62: =IF($J62="","",INDEX('例_顧客一覧'!$A$5:$A$104,$J62)) | E62: =IF($J62="","",INDEX('例_顧客一覧'!$C$5:$C$104,$J62)&"") | F62: =IF($J62="","",INDEX('例_顧客一覧'!$L$5:$L$104,$J62)&"") | G62: =IF($J62="","",INDEX('例_顧客一覧'!$G$5:$G$104,$J62)&"") | H62: =IF($J62="","",INDEX('例_顧客一覧'!$H$5:$H$104,$J62)&"") | I62: =IF($J62="","",INDEX('例_顧客一覧'!$J$5:$J$104,$J62)) | J62: =IFERROR(MATCH(SMALL('例_顧客一覧'!$O$5:$O$104,58),'例_顧客一覧'!$O$5:$O$104,0),"")
A63: =IF($J63="","",59) | B63: =IF($J63="","",IF(INDEX('例_顧客一覧'!$M$5:$M$104,$J63)="","期日未定",INDEX('例_顧客一覧'!$M$5:$M$104,$J63))) | C63: =IF($J63="","",IF(ISNUMBER($B63),$B63-$B$2,"")) | D63: =IF($J63="","",INDEX('例_顧客一覧'!$A$5:$A$104,$J63)) | E63: =IF($J63="","",INDEX('例_顧客一覧'!$C$5:$C$104,$J63)&"") | F63: =IF($J63="","",INDEX('例_顧客一覧'!$L$5:$L$104,$J63)&"") | G63: =IF($J63="","",INDEX('例_顧客一覧'!$G$5:$G$104,$J63)&"") | H63: =IF($J63="","",INDEX('例_顧客一覧'!$H$5:$H$104,$J63)&"") | I63: =IF($J63="","",INDEX('例_顧客一覧'!$J$5:$J$104,$J63)) | J63: =IFERROR(MATCH(SMALL('例_顧客一覧'!$O$5:$O$104,59),'例_顧客一覧'!$O$5:$O$104,0),"")
A64: =IF($J64="","",60) | B64: =IF($J64="","",IF(INDEX('例_顧客一覧'!$M$5:$M$104,$J64)="","期日未定",INDEX('例_顧客一覧'!$M$5:$M$104,$J64))) | C64: =IF($J64="","",IF(ISNUMBER($B64),$B64-$B$2,"")) | D64: =IF($J64="","",INDEX('例_顧客一覧'!$A$5:$A$104,$J64)) | E64: =IF($J64="","",INDEX('例_顧客一覧'!$C$5:$C$104,$J64)&"") | F64: =IF($J64="","",INDEX('例_顧客一覧'!$L$5:$L$104,$J64)&"") | G64: =IF($J64="","",INDEX('例_顧客一覧'!$G$5:$G$104,$J64)&"") | H64: =IF($J64="","",INDEX('例_顧客一覧'!$H$5:$H$104,$J64)&"") | I64: =IF($J64="","",INDEX('例_顧客一覧'!$J$5:$J$104,$J64)) | J64: =IFERROR(MATCH(SMALL('例_顧客一覧'!$O$5:$O$104,60),'例_顧客一覧'!$O$5:$O$104,0),"")
A65: =IF($J65="","",61) | B65: =IF($J65="","",IF(INDEX('例_顧客一覧'!$M$5:$M$104,$J65)="","期日未定",INDEX('例_顧客一覧'!$M$5:$M$104,$J65))) | C65: =IF($J65="","",IF(ISNUMBER($B65),$B65-$B$2,"")) | D65: =IF($J65="","",INDEX('例_顧客一覧'!$A$5:$A$104,$J65)) | E65: =IF($J65="","",INDEX('例_顧客一覧'!$C$5:$C$104,$J65)&"") | F65: =IF($J65="","",INDEX('例_顧客一覧'!$L$5:$L$104,$J65)&"") | G65: =IF($J65="","",INDEX('例_顧客一覧'!$G$5:$G$104,$J65)&"") | H65: =IF($J65="","",INDEX('例_顧客一覧'!$H$5:$H$104,$J65)&"") | I65: =IF($J65="","",INDEX('例_顧客一覧'!$J$5:$J$104,$J65)) | J65: =IFERROR(MATCH(SMALL('例_顧客一覧'!$O$5:$O$104,61),'例_顧客一覧'!$O$5:$O$104,0),"")
A66: =IF($J66="","",62) | B66: =IF($J66="","",IF(INDEX('例_顧客一覧'!$M$5:$M$104,$J66)="","期日未定",INDEX('例_顧客一覧'!$M$5:$M$104,$J66))) | C66: =IF($J66="","",IF(ISNUMBER($B66),$B66-$B$2,"")) | D66: =IF($J66="","",INDEX('例_顧客一覧'!$A$5:$A$104,$J66)) | E66: =IF($J66="","",INDEX('例_顧客一覧'!$C$5:$C$104,$J66)&"") | F66: =IF($J66="","",INDEX('例_顧客一覧'!$L$5:$L$104,$J66)&"") | G66: =IF($J66="","",INDEX('例_顧客一覧'!$G$5:$G$104,$J66)&"") | H66: =IF($J66="","",INDEX('例_顧客一覧'!$H$5:$H$104,$J66)&"") | I66: =IF($J66="","",INDEX('例_顧客一覧'!$J$5:$J$104,$J66)) | J66: =IFERROR(MATCH(SMALL('例_顧客一覧'!$O$5:$O$104,62),'例_顧客一覧'!$O$5:$O$104,0),"")
A67: =IF($J67="","",63) | B67: =IF($J67="","",IF(INDEX('例_顧客一覧'!$M$5:$M$104,$J67)="","期日未定",INDEX('例_顧客一覧'!$M$5:$M$104,$J67))) | C67: =IF($J67="","",IF(ISNUMBER($B67),$B67-$B$2,"")) | D67: =IF($J67="","",INDEX('例_顧客一覧'!$A$5:$A$104,$J67)) | E67: =IF($J67="","",INDEX('例_顧客一覧'!$C$5:$C$104,$J67)&"") | F67: =IF($J67="","",INDEX('例_顧客一覧'!$L$5:$L$104,$J67)&"") | G67: =IF($J67="","",INDEX('例_顧客一覧'!$G$5:$G$104,$J67)&"") | H67: =IF($J67="","",INDEX('例_顧客一覧'!$H$5:$H$104,$J67)&"") | I67: =IF($J67="","",INDEX('例_顧客一覧'!$J$5:$J$104,$J67)) | J67: =IFERROR(MATCH(SMALL('例_顧客一覧'!$O$5:$O$104,63),'例_顧客一覧'!$O$5:$O$104,0),"")
A68: =IF($J68="","",64) | B68: =IF($J68="","",IF(INDEX('例_顧客一覧'!$M$5:$M$104,$J68)="","期日未定",INDEX('例_顧客一覧'!$M$5:$M$104,$J68))) | C68: =IF($J68="","",IF(ISNUMBER($B68),$B68-$B$2,"")) | D68: =IF($J68="","",INDEX('例_顧客一覧'!$A$5:$A$104,$J68)) | E68: =IF($J68="","",INDEX('例_顧客一覧'!$C$5:$C$104,$J68)&"") | F68: =IF($J68="","",INDEX('例_顧客一覧'!$L$5:$L$104,$J68)&"") | G68: =IF($J68="","",INDEX('例_顧客一覧'!$G$5:$G$104,$J68)&"") | H68: =IF($J68="","",INDEX('例_顧客一覧'!$H$5:$H$104,$J68)&"") | I68: =IF($J68="","",INDEX('例_顧客一覧'!$J$5:$J$104,$J68)) | J68: =IFERROR(MATCH(SMALL('例_顧客一覧'!$O$5:$O$104,64),'例_顧客一覧'!$O$5:$O$104,0),"")
A69: =IF($J69="","",65) | B69: =IF($J69="","",IF(INDEX('例_顧客一覧'!$M$5:$M$104,$J69)="","期日未定",INDEX('例_顧客一覧'!$M$5:$M$104,$J69))) | C69: =IF($J69="","",IF(ISNUMBER($B69),$B69-$B$2,"")) | D69: =IF($J69="","",INDEX('例_顧客一覧'!$A$5:$A$104,$J69)) | E69: =IF($J69="","",INDEX('例_顧客一覧'!$C$5:$C$104,$J69)&"") | F69: =IF($J69="","",INDEX('例_顧客一覧'!$L$5:$L$104,$J69)&"") | G69: =IF($J69="","",INDEX('例_顧客一覧'!$G$5:$G$104,$J69)&"") | H69: =IF($J69="","",INDEX('例_顧客一覧'!$H$5:$H$104,$J69)&"") | I69: =IF($J69="","",INDEX('例_顧客一覧'!$J$5:$J$104,$J69)) | J69: =IFERROR(MATCH(SMALL('例_顧客一覧'!$O$5:$O$104,65),'例_顧客一覧'!$O$5:$O$104,0),"")
A70: =IF($J70="","",66) | B70: =IF($J70="","",IF(INDEX('例_顧客一覧'!$M$5:$M$104,$J70)="","期日未定",INDEX('例_顧客一覧'!$M$5:$M$104,$J70))) | C70: =IF($J70="","",IF(ISNUMBER($B70),$B70-$B$2,"")) | D70: =IF($J70="","",INDEX('例_顧客一覧'!$A$5:$A$104,$J70)) | E70: =IF($J70="","",INDEX('例_顧客一覧'!$C$5:$C$104,$J70)&"") | F70: =IF($J70="","",INDEX('例_顧客一覧'!$L$5:$L$104,$J70)&"") | G70: =IF($J70="","",INDEX('例_顧客一覧'!$G$5:$G$104,$J70)&"") | H70: =IF($J70="","",INDEX('例_顧客一覧'!$H$5:$H$104,$J70)&"") | I70: =IF($J70="","",INDEX('例_顧客一覧'!$J$5:$J$104,$J70)) | J70: =IFERROR(MATCH(SMALL('例_顧客一覧'!$O$5:$O$104,66),'例_顧客一覧'!$O$5:$O$104,0),"")
A71: =IF($J71="","",67) | B71: =IF($J71="","",IF(INDEX('例_顧客一覧'!$M$5:$M$104,$J71)="","期日未定",INDEX('例_顧客一覧'!$M$5:$M$104,$J71))) | C71: =IF($J71="","",IF(ISNUMBER($B71),$B71-$B$2,"")) | D71: =IF($J71="","",INDEX('例_顧客一覧'!$A$5:$A$104,$J71)) | E71: =IF($J71="","",INDEX('例_顧客一覧'!$C$5:$C$104,$J71)&"") | F71: =IF($J71="","",INDEX('例_顧客一覧'!$L$5:$L$104,$J71)&"") | G71: =IF($J71="","",INDEX('例_顧客一覧'!$G$5:$G$104,$J71)&"") | H71: =IF($J71="","",INDEX('例_顧客一覧'!$H$5:$H$104,$J71)&"") | I71: =IF($J71="","",INDEX('例_顧客一覧'!$J$5:$J$104,$J71)) | J71: =IFERROR(MATCH(SMALL('例_顧客一覧'!$O$5:$O$104,67),'例_顧客一覧'!$O$5:$O$104,0),"")
A72: =IF($J72="","",68) | B72: =IF($J72="","",IF(INDEX('例_顧客一覧'!$M$5:$M$104,$J72)="","期日未定",INDEX('例_顧客一覧'!$M$5:$M$104,$J72))) | C72: =IF($J72="","",IF(ISNUMBER($B72),$B72-$B$2,"")) | D72: =IF($J72="","",INDEX('例_顧客一覧'!$A$5:$A$104,$J72)) | E72: =IF($J72="","",INDEX('例_顧客一覧'!$C$5:$C$104,$J72)&"") | F72: =IF($J72="","",INDEX('例_顧客一覧'!$L$5:$L$104,$J72)&"") | G72: =IF($J72="","",INDEX('例_顧客一覧'!$G$5:$G$104,$J72)&"") | H72: =IF($J72="","",INDEX('例_顧客一覧'!$H$5:$H$104,$J72)&"") | I72: =IF($J72="","",INDEX('例_顧客一覧'!$J$5:$J$104,$J72)) | J72: =IFERROR(MATCH(SMALL('例_顧客一覧'!$O$5:$O$104,68),'例_顧客一覧'!$O$5:$O$104,0),"")
A73: =IF($J73="","",69) | B73: =IF($J73="","",IF(INDEX('例_顧客一覧'!$M$5:$M$104,$J73)="","期日未定",INDEX('例_顧客一覧'!$M$5:$M$104,$J73))) | C73: =IF($J73="","",IF(ISNUMBER($B73),$B73-$B$2,"")) | D73: =IF($J73="","",INDEX('例_顧客一覧'!$A$5:$A$104,$J73)) | E73: =IF($J73="","",INDEX('例_顧客一覧'!$C$5:$C$104,$J73)&"") | F73: =IF($J73="","",INDEX('例_顧客一覧'!$L$5:$L$104,$J73)&"") | G73: =IF($J73="","",INDEX('例_顧客一覧'!$G$5:$G$104,$J73)&"") | H73: =IF($J73="","",INDEX('例_顧客一覧'!$H$5:$H$104,$J73)&"") | I73: =IF($J73="","",INDEX('例_顧客一覧'!$J$5:$J$104,$J73)) | J73: =IFERROR(MATCH(SMALL('例_顧客一覧'!$O$5:$O$104,69),'例_顧客一覧'!$O$5:$O$104,0),"")
A74: =IF($J74="","",70) | B74: =IF($J74="","",IF(INDEX('例_顧客一覧'!$M$5:$M$104,$J74)="","期日未定",INDEX('例_顧客一覧'!$M$5:$M$104,$J74))) | C74: =IF($J74="","",IF(ISNUMBER($B74),$B74-$B$2,"")) | D74: =IF($J74="","",INDEX('例_顧客一覧'!$A$5:$A$104,$J74)) | E74: =IF($J74="","",INDEX('例_顧客一覧'!$C$5:$C$104,$J74)&"") | F74: =IF($J74="","",INDEX('例_顧客一覧'!$L$5:$L$104,$J74)&"") | G74: =IF($J74="","",INDEX('例_顧客一覧'!$G$5:$G$104,$J74)&"") | H74: =IF($J74="","",INDEX('例_顧客一覧'!$H$5:$H$104,$J74)&"") | I74: =IF($J74="","",INDEX('例_顧客一覧'!$J$5:$J$104,$J74)) | J74: =IFERROR(MATCH(SMALL('例_顧客一覧'!$O$5:$O$104,70),'例_顧客一覧'!$O$5:$O$104,0),"")
A75: =IF($J75="","",71) | B75: =IF($J75="","",IF(INDEX('例_顧客一覧'!$M$5:$M$104,$J75)="","期日未定",INDEX('例_顧客一覧'!$M$5:$M$104,$J75))) | C75: =IF($J75="","",IF(ISNUMBER($B75),$B75-$B$2,"")) | D75: =IF($J75="","",INDEX('例_顧客一覧'!$A$5:$A$104,$J75)) | E75: =IF($J75="","",INDEX('例_顧客一覧'!$C$5:$C$104,$J75)&"") | F75: =IF($J75="","",INDEX('例_顧客一覧'!$L$5:$L$104,$J75)&"") | G75: =IF($J75="","",INDEX('例_顧客一覧'!$G$5:$G$104,$J75)&"") | H75: =IF($J75="","",INDEX('例_顧客一覧'!$H$5:$H$104,$J75)&"") | I75: =IF($J75="","",INDEX('例_顧客一覧'!$J$5:$J$104,$J75)) | J75: =IFERROR(MATCH(SMALL('例_顧客一覧'!$O$5:$O$104,71),'例_顧客一覧'!$O$5:$O$104,0),"")
A76: =IF($J76="","",72) | B76: =IF($J76="","",IF(INDEX('例_顧客一覧'!$M$5:$M$104,$J76)="","期日未定",INDEX('例_顧客一覧'!$M$5:$M$104,$J76))) | C76: =IF($J76="","",IF(ISNUMBER($B76),$B76-$B$2,"")) | D76: =IF($J76="","",INDEX('例_顧客一覧'!$A$5:$A$104,$J76)) | E76: =IF($J76="","",INDEX('例_顧客一覧'!$C$5:$C$104,$J76)&"") | F76: =IF($J76="","",INDEX('例_顧客一覧'!$L$5:$L$104,$J76)&"") | G76: =IF($J76="","",INDEX('例_顧客一覧'!$G$5:$G$104,$J76)&"") | H76: =IF($J76="","",INDEX('例_顧客一覧'!$H$5:$H$104,$J76)&"") | I76: =IF($J76="","",INDEX('例_顧客一覧'!$J$5:$J$104,$J76)) | J76: =IFERROR(MATCH(SMALL('例_顧客一覧'!$O$5:$O$104,72),'例_顧客一覧'!$O$5:$O$104,0),"")
A77: =IF($J77="","",73) | B77: =IF($J77="","",IF(INDEX('例_顧客一覧'!$M$5:$M$104,$J77)="","期日未定",INDEX('例_顧客一覧'!$M$5:$M$104,$J77))) | C77: =IF($J77="","",IF(ISNUMBER($B77),$B77-$B$2,"")) | D77: =IF($J77="","",INDEX('例_顧客一覧'!$A$5:$A$104,$J77)) | E77: =IF($J77="","",INDEX('例_顧客一覧'!$C$5:$C$104,$J77)&"") | F77: =IF($J77="","",INDEX('例_顧客一覧'!$L$5:$L$104,$J77)&"") | G77: =IF($J77="","",INDEX('例_顧客一覧'!$G$5:$G$104,$J77)&"") | H77: =IF($J77="","",INDEX('例_顧客一覧'!$H$5:$H$104,$J77)&"") | I77: =IF($J77="","",INDEX('例_顧客一覧'!$J$5:$J$104,$J77)) | J77: =IFERROR(MATCH(SMALL('例_顧客一覧'!$O$5:$O$104,73),'例_顧客一覧'!$O$5:$O$104,0),"")
A78: =IF($J78="","",74) | B78: =IF($J78="","",IF(INDEX('例_顧客一覧'!$M$5:$M$104,$J78)="","期日未定",INDEX('例_顧客一覧'!$M$5:$M$104,$J78))) | C78: =IF($J78="","",IF(ISNUMBER($B78),$B78-$B$2,"")) | D78: =IF($J78="","",INDEX('例_顧客一覧'!$A$5:$A$104,$J78)) | E78: =IF($J78="","",INDEX('例_顧客一覧'!$C$5:$C$104,$J78)&"") | F78: =IF($J78="","",INDEX('例_顧客一覧'!$L$5:$L$104,$J78)&"") | G78: =IF($J78="","",INDEX('例_顧客一覧'!$G$5:$G$104,$J78)&"") | H78: =IF($J78="","",INDEX('例_顧客一覧'!$H$5:$H$104,$J78)&"") | I78: =IF($J78="","",INDEX('例_顧客一覧'!$J$5:$J$104,$J78)) | J78: =IFERROR(MATCH(SMALL('例_顧客一覧'!$O$5:$O$104,74),'例_顧客一覧'!$O$5:$O$104,0),"")
A79: =IF($J79="","",75) | B79: =IF($J79="","",IF(INDEX('例_顧客一覧'!$M$5:$M$104,$J79)="","期日未定",INDEX('例_顧客一覧'!$M$5:$M$104,$J79))) | C79: =IF($J79="","",IF(ISNUMBER($B79),$B79-$B$2,"")) | D79: =IF($J79="","",INDEX('例_顧客一覧'!$A$5:$A$104,$J79)) | E79: =IF($J79="","",INDEX('例_顧客一覧'!$C$5:$C$104,$J79)&"") | F79: =IF($J79="","",INDEX('例_顧客一覧'!$L$5:$L$104,$J79)&"") | G79: =IF($J79="","",INDEX('例_顧客一覧'!$G$5:$G$104,$J79)&"") | H79: =IF($J79="","",INDEX('例_顧客一覧'!$H$5:$H$104,$J79)&"") | I79: =IF($J79="","",INDEX('例_顧客一覧'!$J$5:$J$104,$J79)) | J79: =IFERROR(MATCH(SMALL('例_顧客一覧'!$O$5:$O$104,75),'例_顧客一覧'!$O$5:$O$104,0),"")
A80: =IF($J80="","",76) | B80: =IF($J80="","",IF(INDEX('例_顧客一覧'!$M$5:$M$104,$J80)="","期日未定",INDEX('例_顧客一覧'!$M$5:$M$104,$J80))) | C80: =IF($J80="","",IF(ISNUMBER($B80),$B80-$B$2,"")) | D80: =IF($J80="","",INDEX('例_顧客一覧'!$A$5:$A$104,$J80)) | E80: =IF($J80="","",INDEX('例_顧客一覧'!$C$5:$C$104,$J80)&"") | F80: =IF($J80="","",INDEX('例_顧客一覧'!$L$5:$L$104,$J80)&"") | G80: =IF($J80="","",INDEX('例_顧客一覧'!$G$5:$G$104,$J80)&"") | H80: =IF($J80="","",INDEX('例_顧客一覧'!$H$5:$H$104,$J80)&"") | I80: =IF($J80="","",INDEX('例_顧客一覧'!$J$5:$J$104,$J80)) | J80: =IFERROR(MATCH(SMALL('例_顧客一覧'!$O$5:$O$104,76),'例_顧客一覧'!$O$5:$O$104,0),"")
A81: =IF($J81="","",77) | B81: =IF($J81="","",IF(INDEX('例_顧客一覧'!$M$5:$M$104,$J81)="","期日未定",INDEX('例_顧客一覧'!$M$5:$M$104,$J81))) | C81: =IF($J81="","",IF(ISNUMBER($B81),$B81-$B$2,"")) | D81: =IF($J81="","",INDEX('例_顧客一覧'!$A$5:$A$104,$J81)) | E81: =IF($J81="","",INDEX('例_顧客一覧'!$C$5:$C$104,$J81)&"") | F81: =IF($J81="","",INDEX('例_顧客一覧'!$L$5:$L$104,$J81)&"") | G81: =IF($J81="","",INDEX('例_顧客一覧'!$G$5:$G$104,$J81)&"") | H81: =IF($J81="","",INDEX('例_顧客一覧'!$H$5:$H$104,$J81)&"") | I81: =IF($J81="","",INDEX('例_顧客一覧'!$J$5:$J$104,$J81)) | J81: =IFERROR(MATCH(SMALL('例_顧客一覧'!$O$5:$O$104,77),'例_顧客一覧'!$O$5:$O$104,0),"")
A82: =IF($J82="","",78) | B82: =IF($J82="","",IF(INDEX('例_顧客一覧'!$M$5:$M$104,$J82)="","期日未定",INDEX('例_顧客一覧'!$M$5:$M$104,$J82))) | C82: =IF($J82="","",IF(ISNUMBER($B82),$B82-$B$2,"")) | D82: =IF($J82="","",INDEX('例_顧客一覧'!$A$5:$A$104,$J82)) | E82: =IF($J82="","",INDEX('例_顧客一覧'!$C$5:$C$104,$J82)&"") | F82: =IF($J82="","",INDEX('例_顧客一覧'!$L$5:$L$104,$J82)&"") | G82: =IF($J82="","",INDEX('例_顧客一覧'!$G$5:$G$104,$J82)&"") | H82: =IF($J82="","",INDEX('例_顧客一覧'!$H$5:$H$104,$J82)&"") | I82: =IF($J82="","",INDEX('例_顧客一覧'!$J$5:$J$104,$J82)) | J82: =IFERROR(MATCH(SMALL('例_顧客一覧'!$O$5:$O$104,78),'例_顧客一覧'!$O$5:$O$104,0),"")
A83: =IF($J83="","",79) | B83: =IF($J83="","",IF(INDEX('例_顧客一覧'!$M$5:$M$104,$J83)="","期日未定",INDEX('例_顧客一覧'!$M$5:$M$104,$J83))) | C83: =IF($J83="","",IF(ISNUMBER($B83),$B83-$B$2,"")) | D83: =IF($J83="","",INDEX('例_顧客一覧'!$A$5:$A$104,$J83)) | E83: =IF($J83="","",INDEX('例_顧客一覧'!$C$5:$C$104,$J83)&"") | F83: =IF($J83="","",INDEX('例_顧客一覧'!$L$5:$L$104,$J83)&"") | G83: =IF($J83="","",INDEX('例_顧客一覧'!$G$5:$G$104,$J83)&"") | H83: =IF($J83="","",INDEX('例_顧客一覧'!$H$5:$H$104,$J83)&"") | I83: =IF($J83="","",INDEX('例_顧客一覧'!$J$5:$J$104,$J83)) | J83: =IFERROR(MATCH(SMALL('例_顧客一覧'!$O$5:$O$104,79),'例_顧客一覧'!$O$5:$O$104,0),"")
A84: =IF($J84="","",80) | B84: =IF($J84="","",IF(INDEX('例_顧客一覧'!$M$5:$M$104,$J84)="","期日未定",INDEX('例_顧客一覧'!$M$5:$M$104,$J84))) | C84: =IF($J84="","",IF(ISNUMBER($B84),$B84-$B$2,"")) | D84: =IF($J84="","",INDEX('例_顧客一覧'!$A$5:$A$104,$J84)) | E84: =IF($J84="","",INDEX('例_顧客一覧'!$C$5:$C$104,$J84)&"") | F84: =IF($J84="","",INDEX('例_顧客一覧'!$L$5:$L$104,$J84)&"") | G84: =IF($J84="","",INDEX('例_顧客一覧'!$G$5:$G$104,$J84)&"") | H84: =IF($J84="","",INDEX('例_顧客一覧'!$H$5:$H$104,$J84)&"") | I84: =IF($J84="","",INDEX('例_顧客一覧'!$J$5:$J$104,$J84)) | J84: =IFERROR(MATCH(SMALL('例_顧客一覧'!$O$5:$O$104,80),'例_顧客一覧'!$O$5:$O$104,0),"")
A85: =IF($J85="","",81) | B85: =IF($J85="","",IF(INDEX('例_顧客一覧'!$M$5:$M$104,$J85)="","期日未定",INDEX('例_顧客一覧'!$M$5:$M$104,$J85))) | C85: =IF($J85="","",IF(ISNUMBER($B85),$B85-$B$2,"")) | D85: =IF($J85="","",INDEX('例_顧客一覧'!$A$5:$A$104,$J85)) | E85: =IF($J85="","",INDEX('例_顧客一覧'!$C$5:$C$104,$J85)&"") | F85: =IF($J85="","",INDEX('例_顧客一覧'!$L$5:$L$104,$J85)&"") | G85: =IF($J85="","",INDEX('例_顧客一覧'!$G$5:$G$104,$J85)&"") | H85: =IF($J85="","",INDEX('例_顧客一覧'!$H$5:$H$104,$J85)&"") | I85: =IF($J85="","",INDEX('例_顧客一覧'!$J$5:$J$104,$J85)) | J85: =IFERROR(MATCH(SMALL('例_顧客一覧'!$O$5:$O$104,81),'例_顧客一覧'!$O$5:$O$104,0),"")
A86: =IF($J86="","",82) | B86: =IF($J86="","",IF(INDEX('例_顧客一覧'!$M$5:$M$104,$J86)="","期日未定",INDEX('例_顧客一覧'!$M$5:$M$104,$J86))) | C86: =IF($J86="","",IF(ISNUMBER($B86),$B86-$B$2,"")) | D86: =IF($J86="","",INDEX('例_顧客一覧'!$A$5:$A$104,$J86)) | E86: =IF($J86="","",INDEX('例_顧客一覧'!$C$5:$C$104,$J86)&"") | F86: =IF($J86="","",INDEX('例_顧客一覧'!$L$5:$L$104,$J86)&"") | G86: =IF($J86="","",INDEX('例_顧客一覧'!$G$5:$G$104,$J86)&"") | H86: =IF($J86="","",INDEX('例_顧客一覧'!$H$5:$H$104,$J86)&"") | I86: =IF($J86="","",INDEX('例_顧客一覧'!$J$5:$J$104,$J86)) | J86: =IFERROR(MATCH(SMALL('例_顧客一覧'!$O$5:$O$104,82),'例_顧客一覧'!$O$5:$O$104,0),"")
A87: =IF($J87="","",83) | B87: =IF($J87="","",IF(INDEX('例_顧客一覧'!$M$5:$M$104,$J87)="","期日未定",INDEX('例_顧客一覧'!$M$5:$M$104,$J87))) | C87: =IF($J87="","",IF(ISNUMBER($B87),$B87-$B$2,"")) | D87: =IF($J87="","",INDEX('例_顧客一覧'!$A$5:$A$104,$J87)) | E87: =IF($J87="","",INDEX('例_顧客一覧'!$C$5:$C$104,$J87)&"") | F87: =IF($J87="","",INDEX('例_顧客一覧'!$L$5:$L$104,$J87)&"") | G87: =IF($J87="","",INDEX('例_顧客一覧'!$G$5:$G$104,$J87)&"") | H87: =IF($J87="","",INDEX('例_顧客一覧'!$H$5:$H$104,$J87)&"") | I87: =IF($J87="","",INDEX('例_顧客一覧'!$J$5:$J$104,$J87)) | J87: =IFERROR(MATCH(SMALL('例_顧客一覧'!$O$5:$O$104,83),'例_顧客一覧'!$O$5:$O$104,0),"")
A88: =IF($J88="","",84) | B88: =IF($J88="","",IF(INDEX('例_顧客一覧'!$M$5:$M$104,$J88)="","期日未定",INDEX('例_顧客一覧'!$M$5:$M$104,$J88))) | C88: =IF($J88="","",IF(ISNUMBER($B88),$B88-$B$2,"")) | D88: =IF($J88="","",INDEX('例_顧客一覧'!$A$5:$A$104,$J88)) | E88: =IF($J88="","",INDEX('例_顧客一覧'!$C$5:$C$104,$J88)&"") | F88: =IF($J88="","",INDEX('例_顧客一覧'!$L$5:$L$104,$J88)&"") | G88: =IF($J88="","",INDEX('例_顧客一覧'!$G$5:$G$104,$J88)&"") | H88: =IF($J88="","",INDEX('例_顧客一覧'!$H$5:$H$104,$J88)&"") | I88: =IF($J88="","",INDEX('例_顧客一覧'!$J$5:$J$104,$J88)) | J88: =IFERROR(MATCH(SMALL('例_顧客一覧'!$O$5:$O$104,84),'例_顧客一覧'!$O$5:$O$104,0),"")
A89: =IF($J89="","",85) | B89: =IF($J89="","",IF(INDEX('例_顧客一覧'!$M$5:$M$104,$J89)="","期日未定",INDEX('例_顧客一覧'!$M$5:$M$104,$J89))) | C89: =IF($J89="","",IF(ISNUMBER($B89),$B89-$B$2,"")) | D89: =IF($J89="","",INDEX('例_顧客一覧'!$A$5:$A$104,$J89)) | E89: =IF($J89="","",INDEX('例_顧客一覧'!$C$5:$C$104,$J89)&"") | F89: =IF($J89="","",INDEX('例_顧客一覧'!$L$5:$L$104,$J89)&"") | G89: =IF($J89="","",INDEX('例_顧客一覧'!$G$5:$G$104,$J89)&"") | H89: =IF($J89="","",INDEX('例_顧客一覧'!$H$5:$H$104,$J89)&"") | I89: =IF($J89="","",INDEX('例_顧客一覧'!$J$5:$J$104,$J89)) | J89: =IFERROR(MATCH(SMALL('例_顧客一覧'!$O$5:$O$104,85),'例_顧客一覧'!$O$5:$O$104,0),"")
A90: =IF($J90="","",86) | B90: =IF($J90="","",IF(INDEX('例_顧客一覧'!$M$5:$M$104,$J90)="","期日未定",INDEX('例_顧客一覧'!$M$5:$M$104,$J90))) | C90: =IF($J90="","",IF(ISNUMBER($B90),$B90-$B$2,"")) | D90: =IF($J90="","",INDEX('例_顧客一覧'!$A$5:$A$104,$J90)) | E90: =IF($J90="","",INDEX('例_顧客一覧'!$C$5:$C$104,$J90)&"") | F90: =IF($J90="","",INDEX('例_顧客一覧'!$L$5:$L$104,$J90)&"") | G90: =IF($J90="","",INDEX('例_顧客一覧'!$G$5:$G$104,$J90)&"") | H90: =IF($J90="","",INDEX('例_顧客一覧'!$H$5:$H$104,$J90)&"") | I90: =IF($J90="","",INDEX('例_顧客一覧'!$J$5:$J$104,$J90)) | J90: =IFERROR(MATCH(SMALL('例_顧客一覧'!$O$5:$O$104,86),'例_顧客一覧'!$O$5:$O$104,0),"")
A91: =IF($J91="","",87) | B91: =IF($J91="","",IF(INDEX('例_顧客一覧'!$M$5:$M$104,$J91)="","期日未定",INDEX('例_顧客一覧'!$M$5:$M$104,$J91))) | C91: =IF($J91="","",IF(ISNUMBER($B91),$B91-$B$2,"")) | D91: =IF($J91="","",INDEX('例_顧客一覧'!$A$5:$A$104,$J91)) | E91: =IF($J91="","",INDEX('例_顧客一覧'!$C$5:$C$104,$J91)&"") | F91: =IF($J91="","",INDEX('例_顧客一覧'!$L$5:$L$104,$J91)&"") | G91: =IF($J91="","",INDEX('例_顧客一覧'!$G$5:$G$104,$J91)&"") | H91: =IF($J91="","",INDEX('例_顧客一覧'!$H$5:$H$104,$J91)&"") | I91: =IF($J91="","",INDEX('例_顧客一覧'!$J$5:$J$104,$J91)) | J91: =IFERROR(MATCH(SMALL('例_顧客一覧'!$O$5:$O$104,87),'例_顧客一覧'!$O$5:$O$104,0),"")
A92: =IF($J92="","",88) | B92: =IF($J92="","",IF(INDEX('例_顧客一覧'!$M$5:$M$104,$J92)="","期日未定",INDEX('例_顧客一覧'!$M$5:$M$104,$J92))) | C92: =IF($J92="","",IF(ISNUMBER($B92),$B92-$B$2,"")) | D92: =IF($J92="","",INDEX('例_顧客一覧'!$A$5:$A$104,$J92)) | E92: =IF($J92="","",INDEX('例_顧客一覧'!$C$5:$C$104,$J92)&"") | F92: =IF($J92="","",INDEX('例_顧客一覧'!$L$5:$L$104,$J92)&"") | G92: =IF($J92="","",INDEX('例_顧客一覧'!$G$5:$G$104,$J92)&"") | H92: =IF($J92="","",INDEX('例_顧客一覧'!$H$5:$H$104,$J92)&"") | I92: =IF($J92="","",INDEX('例_顧客一覧'!$J$5:$J$104,$J92)) | J92: =IFERROR(MATCH(SMALL('例_顧客一覧'!$O$5:$O$104,88),'例_顧客一覧'!$O$5:$O$104,0),"")
A93: =IF($J93="","",89) | B93: =IF($J93="","",IF(INDEX('例_顧客一覧'!$M$5:$M$104,$J93)="","期日未定",INDEX('例_顧客一覧'!$M$5:$M$104,$J93))) | C93: =IF($J93="","",IF(ISNUMBER($B93),$B93-$B$2,"")) | D93: =IF($J93="","",INDEX('例_顧客一覧'!$A$5:$A$104,$J93)) | E93: =IF($J93="","",INDEX('例_顧客一覧'!$C$5:$C$104,$J93)&"") | F93: =IF($J93="","",INDEX('例_顧客一覧'!$L$5:$L$104,$J93)&"") | G93: =IF($J93="","",INDEX('例_顧客一覧'!$G$5:$G$104,$J93)&"") | H93: =IF($J93="","",INDEX('例_顧客一覧'!$H$5:$H$104,$J93)&"") | I93: =IF($J93="","",INDEX('例_顧客一覧'!$J$5:$J$104,$J93)) | J93: =IFERROR(MATCH(SMALL('例_顧客一覧'!$O$5:$O$104,89),'例_顧客一覧'!$O$5:$O$104,0),"")
A94: =IF($J94="","",90) | B94: =IF($J94="","",IF(INDEX('例_顧客一覧'!$M$5:$M$104,$J94)="","期日未定",INDEX('例_顧客一覧'!$M$5:$M$104,$J94))) | C94: =IF($J94="","",IF(ISNUMBER($B94),$B94-$B$2,"")) | D94: =IF($J94="","",INDEX('例_顧客一覧'!$A$5:$A$104,$J94)) | E94: =IF($J94="","",INDEX('例_顧客一覧'!$C$5:$C$104,$J94)&"") | F94: =IF($J94="","",INDEX('例_顧客一覧'!$L$5:$L$104,$J94)&"") | G94: =IF($J94="","",INDEX('例_顧客一覧'!$G$5:$G$104,$J94)&"") | H94: =IF($J94="","",INDEX('例_顧客一覧'!$H$5:$H$104,$J94)&"") | I94: =IF($J94="","",INDEX('例_顧客一覧'!$J$5:$J$104,$J94)) | J94: =IFERROR(MATCH(SMALL('例_顧客一覧'!$O$5:$O$104,90),'例_顧客一覧'!$O$5:$O$104,0),"")
A95: =IF($J95="","",91) | B95: =IF($J95="","",IF(INDEX('例_顧客一覧'!$M$5:$M$104,$J95)="","期日未定",INDEX('例_顧客一覧'!$M$5:$M$104,$J95))) | C95: =IF($J95="","",IF(ISNUMBER($B95),$B95-$B$2,"")) | D95: =IF($J95="","",INDEX('例_顧客一覧'!$A$5:$A$104,$J95)) | E95: =IF($J95="","",INDEX('例_顧客一覧'!$C$5:$C$104,$J95)&"") | F95: =IF($J95="","",INDEX('例_顧客一覧'!$L$5:$L$104,$J95)&"") | G95: =IF($J95="","",INDEX('例_顧客一覧'!$G$5:$G$104,$J95)&"") | H95: =IF($J95="","",INDEX('例_顧客一覧'!$H$5:$H$104,$J95)&"") | I95: =IF($J95="","",INDEX('例_顧客一覧'!$J$5:$J$104,$J95)) | J95: =IFERROR(MATCH(SMALL('例_顧客一覧'!$O$5:$O$104,91),'例_顧客一覧'!$O$5:$O$104,0),"")
A96: =IF($J96="","",92) | B96: =IF($J96="","",IF(INDEX('例_顧客一覧'!$M$5:$M$104,$J96)="","期日未定",INDEX('例_顧客一覧'!$M$5:$M$104,$J96))) | C96: =IF($J96="","",IF(ISNUMBER($B96),$B96-$B$2,"")) | D96: =IF($J96="","",INDEX('例_顧客一覧'!$A$5:$A$104,$J96)) | E96: =IF($J96="","",INDEX('例_顧客一覧'!$C$5:$C$104,$J96)&"") | F96: =IF($J96="","",INDEX('例_顧客一覧'!$L$5:$L$104,$J96)&"") | G96: =IF($J96="","",INDEX('例_顧客一覧'!$G$5:$G$104,$J96)&"") | H96: =IF($J96="","",INDEX('例_顧客一覧'!$H$5:$H$104,$J96)&"") | I96: =IF($J96="","",INDEX('例_顧客一覧'!$J$5:$J$104,$J96)) | J96: =IFERROR(MATCH(SMALL('例_顧客一覧'!$O$5:$O$104,92),'例_顧客一覧'!$O$5:$O$104,0),"")
A97: =IF($J97="","",93) | B97: =IF($J97="","",IF(INDEX('例_顧客一覧'!$M$5:$M$104,$J97)="","期日未定",INDEX('例_顧客一覧'!$M$5:$M$104,$J97))) | C97: =IF($J97="","",IF(ISNUMBER($B97),$B97-$B$2,"")) | D97: =IF($J97="","",INDEX('例_顧客一覧'!$A$5:$A$104,$J97)) | E97: =IF($J97="","",INDEX('例_顧客一覧'!$C$5:$C$104,$J97)&"") | F97: =IF($J97="","",INDEX('例_顧客一覧'!$L$5:$L$104,$J97)&"") | G97: =IF($J97="","",INDEX('例_顧客一覧'!$G$5:$G$104,$J97)&"") | H97: =IF($J97="","",INDEX('例_顧客一覧'!$H$5:$H$104,$J97)&"") | I97: =IF($J97="","",INDEX('例_顧客一覧'!$J$5:$J$104,$J97)) | J97: =IFERROR(MATCH(SMALL('例_顧客一覧'!$O$5:$O$104,93),'例_顧客一覧'!$O$5:$O$104,0),"")
A98: =IF($J98="","",94) | B98: =IF($J98="","",IF(INDEX('例_顧客一覧'!$M$5:$M$104,$J98)="","期日未定",INDEX('例_顧客一覧'!$M$5:$M$104,$J98))) | C98: =IF($J98="","",IF(ISNUMBER($B98),$B98-$B$2,"")) | D98: =IF($J98="","",INDEX('例_顧客一覧'!$A$5:$A$104,$J98)) | E98: =IF($J98="","",INDEX('例_顧客一覧'!$C$5:$C$104,$J98)&"") | F98: =IF($J98="","",INDEX('例_顧客一覧'!$L$5:$L$104,$J98)&"") | G98: =IF($J98="","",INDEX('例_顧客一覧'!$G$5:$G$104,$J98)&"") | H98: =IF($J98="","",INDEX('例_顧客一覧'!$H$5:$H$104,$J98)&"") | I98: =IF($J98="","",INDEX('例_顧客一覧'!$J$5:$J$104,$J98)) | J98: =IFERROR(MATCH(SMALL('例_顧客一覧'!$O$5:$O$104,94),'例_顧客一覧'!$O$5:$O$104,0),"")
A99: =IF($J99="","",95) | B99: =IF($J99="","",IF(INDEX('例_顧客一覧'!$M$5:$M$104,$J99)="","期日未定",INDEX('例_顧客一覧'!$M$5:$M$104,$J99))) | C99: =IF($J99="","",IF(ISNUMBER($B99),$B99-$B$2,"")) | D99: =IF($J99="","",INDEX('例_顧客一覧'!$A$5:$A$104,$J99)) | E99: =IF($J99="","",INDEX('例_顧客一覧'!$C$5:$C$104,$J99)&"") | F99: =IF($J99="","",INDEX('例_顧客一覧'!$L$5:$L$104,$J99)&"") | G99: =IF($J99="","",INDEX('例_顧客一覧'!$G$5:$G$104,$J99)&"") | H99: =IF($J99="","",INDEX('例_顧客一覧'!$H$5:$H$104,$J99)&"") | I99: =IF($J99="","",INDEX('例_顧客一覧'!$J$5:$J$104,$J99)) | J99: =IFERROR(MATCH(SMALL('例_顧客一覧'!$O$5:$O$104,95),'例_顧客一覧'!$O$5:$O$104,0),"")
A100: =IF($J100="","",96) | B100: =IF($J100="","",IF(INDEX('例_顧客一覧'!$M$5:$M$104,$J100)="","期日未定",INDEX('例_顧客一覧'!$M$5:$M$104,$J100))) | C100: =IF($J100="","",IF(ISNUMBER($B100),$B100-$B$2,"")) | D100: =IF($J100="","",INDEX('例_顧客一覧'!$A$5:$A$104,$J100)) | E100: =IF($J100="","",INDEX('例_顧客一覧'!$C$5:$C$104,$J100)&"") | F100: =IF($J100="","",INDEX('例_顧客一覧'!$L$5:$L$104,$J100)&"") | G100: =IF($J100="","",INDEX('例_顧客一覧'!$G$5:$G$104,$J100)&"") | H100: =IF($J100="","",INDEX('例_顧客一覧'!$H$5:$H$104,$J100)&"") | I100: =IF($J100="","",INDEX('例_顧客一覧'!$J$5:$J$104,$J100)) | J100: =IFERROR(MATCH(SMALL('例_顧客一覧'!$O$5:$O$104,96),'例_顧客一覧'!$O$5:$O$104,0),"")
...

Sheet 使い方
A1: 使い方（顧客カルテ）
A2: このファイルでできること
A3: 顧客ごとに「いつ・誰が・何を話したか」を、対応履歴に1行ずつ足していきます。
A4: 顧客一覧の最終対応日・対応回数・次回アクション・状況、次回アクション一覧、印刷用の顧客カルテは、対応履歴から数式で出ます。
A5: 入力するのは黄色いセルだけです。灰色のセルは数式なので書き換えません。
A7: 最初の1回
A8: 1. 「顧客一覧」に顧客ID・区分・会社名（氏名）・自社担当などを入れます。顧客IDは C001、C002 のように重ならない文字列にします（100件まで）。
A9: 2. 集めるのは、連絡と対応に必要な項目だけにします。生年月日・家族構成・趣味など、使う予定のない情報は入れません（「個人情報の扱い」参照）。
A10: 3. 「例_」で始まる4シートは記入例です。使い始めるときは、右クリックで削除して構いません。
A12: 対応のたびに
A13: 1. 「対応履歴」の空いている次の行に、日付・顧客ID（プルダウン）・自社担当・手段・内容を入れます。
A14: 2. 次にやることと期日を入れます。次にやることが無い（取引が終わった・断られた）ときは、次回アクションと期日を空にします。
... A53: 黄色 … 入力するセル／灰色 … 数式（書き換えない）／赤 … 期日超過／薄い黄 … 期日まで3日以内（次回アクション一覧）
