Workbook

Sheet 顧客一覧
A1: 顧客一覧
A2: 黄色は入力、灰色は数式です（触らない）。最終対応日・対応回数・次回アクション・状況は「対応履歴」から自動で出ます。
J3: ▼ 対応履歴から自動で出る列 | O3: ▼ 作業列
A4: 顧客ID | B4: 区分 | C4: 会社名・氏名 | D4: 先方の担当者 | E4: 電話 | F4: メール | G4: 自社担当 | H4: 見込み度 | I4: 備考 | J4: 最終対応日 | K4: 対応回数 | L4: 次回アクション | M4: 次回アクション日 | N4: 状況 | O4: 並べ替え用 | P4: 最新行キー
J5: =IF($A5="","",IF($K5=0,"",_xlfn.MAXIFS('対応履歴'!$A$5:$A$304,'対応履歴'!$B$5:$B$304,$A5))) | K5: =IF($A5="","",COUNTIF('対応履歴'!$B$5:$B$304,$A5)) | L5: =IF($P5="","",IFERROR(INDEX('対応履歴'!$G$5:$G$304,MATCH($P5,'対応履歴'!$J$5:$J$304,0))&"","")) | M5: =IF($P5="","",IFERROR(IF(INDEX('対応履歴'!$H$5:$H$304,MATCH($P5,'対応履歴'!$J$5:$J$304,0))="","",INDEX('対応履歴'!$H$5:$H$304,MATCH($P5,'対応履歴'!$J$5:$J$304,0))),"")) | N5: =IF($A5="","",IF($K5=0,"対応履歴なし",IF($M5="",IF($L5="","次回予定なし","期日未定"),IF($M5<'次回アクション'!$B$2,"期日超過 "&('次回アクション'!$B$2-$M5)&"日",IF($M5='次回アクション'!$B$2,"今日","あと"&($M5-'次回アクション'!$B$2)&"日"))))) | O5: =IF($P5="","",IF($M5<>"",$M5+ROW()/100000,IF($L5<>"",100000+ROW()/100000,""))) | P5: =IF(OR($A5="",$K5=0),"",_xlfn.MAXIFS('対応履歴'!$J$5:$J$304,'対応履歴'!$B$5:$B$304,$A5))
J6: =IF($A6="","",IF($K6=0,"",_xlfn.MAXIFS('対応履歴'!$A$5:$A$304,'対応履歴'!$B$5:$B$304,$A6))) | K6: =IF($A6="","",COUNTIF('対応履歴'!$B$5:$B$304,$A6)) | L6: =IF($P6="","",IFERROR(INDEX('対応履歴'!$G$5:$G$304,MATCH($P6,'対応履歴'!$J$5:$J$304,0))&"","")) | M6: =IF($P6="","",IFERROR(IF(INDEX('対応履歴'!$H$5:$H$304,MATCH($P6,'対応履歴'!$J$5:$J$304,0))="","",INDEX('対応履歴'!$H$5:$H$304,MATCH($P6,'対応履歴'!$J$5:$J$304,0))),"")) | N6: =IF($A6="","",IF($K6=0,"対応履歴なし",IF($M6="",IF($L6="","次回予定なし","期日未定"),IF($M6<'次回アクション'!$B$2,"期日超過 "&('次回アクション'!$B$2-$M6)&"日",IF($M6='次回アクション'!$B$2,"今日","あと"&($M6-'次回アクション'!$B$2)&"日"))))) | O6: =IF($P6="","",IF($M6<>"",$M6+ROW()/100000,IF($L6<>"",100000+ROW()/100000,""))) | P6: =IF(OR($A6="",$K6=0),"",_xlfn.MAXIFS('対応履歴'!$J$5:$J$304,'対応履歴'!$B$5:$B$304,$A6))
J7: =IF($A7="","",IF($K7=0,"",_xlfn.MAXIFS('対応履歴'!$A$5:$A$304,'対応履歴'!$B$5:$B$304,$A7))) | K7: =IF($A7="","",COUNTIF('対応履歴'!$B$5:$B$304,$A7)) | L7: =IF($P7="","",IFERROR(INDEX('対応履歴'!$G$5:$G$304,MATCH($P7,'対応履歴'!$J$5:$J$304,0))&"","")) | M7: =IF($P7="","",IFERROR(IF(INDEX('対応履歴'!$H$5:$H$304,MATCH($P7,'対応履歴'!$J$5:$J$304,0))="","",INDEX('対応履歴'!$H$5:$H$304,MATCH($P7,'対応履歴'!$J$5:$J$304,0))),"")) | N7: =IF($A7="","",IF($K7=0,"対応履歴なし",IF($M7="",IF($L7="","次回予定なし","期日未定"),IF($M7<'次回アクション'!$B$2,"期日超過 "&('次回アクション'!$B$2-$M7)&"日",IF($M7='次回アクション'!$B$2,"今日","あと"&($M7-'次回アクション'!$B$2)&"日"))))) | O7: =IF($P7="","",IF($M7<>"",$M7+ROW()/100000,IF($L7<>"",100000+ROW()/100000,""))) | P7: =IF(OR($A7="",$K7=0),"",_xlfn.MAXIFS('対応履歴'!$J$5:$J$304,'対応履歴'!$B$5:$B$304,$A7))
J8: =IF($A8="","",IF($K8=0,"",_xlfn.MAXIFS('対応履歴'!$A$5:$A$304,'対応履歴'!$B$5:$B$304,$A8))) | K8: =IF($A8="","",COUNTIF('対応履歴'!$B$5:$B$304,$A8)) | L8: =IF($P8="","",IFERROR(INDEX('対応履歴'!$G$5:$G$304,MATCH($P8,'対応履歴'!$J$5:$J$304,0))&"","")) | M8: =IF($P8="","",IFERROR(IF(INDEX('対応履歴'!$H$5:$H$304,MATCH($P8,'対応履歴'!$J$5:$J$304,0))="","",INDEX('対応履歴'!$H$5:$H$304,MATCH($P8,'対応履歴'!$J$5:$J$304,0))),"")) | N8: =IF($A8="","",IF($K8=0,"対応履歴なし",IF($M8="",IF($L8="","次回予定なし","期日未定"),IF($M8<'次回アクション'!$B$2,"期日超過 "&('次回アクション'!$B$2-$M8)&"日",IF($M8='次回アクション'!$B$2,"今日","あと"&($M8-'次回アクション'!$B$2)&"日"))))) | O8: =IF($P8="","",IF($M8<>"",$M8+ROW()/100000,IF($L8<>"",100000+ROW()/100000,""))) | P8: =IF(OR($A8="",$K8=0),"",_xlfn.MAXIFS('対応履歴'!$J$5:$J$304,'対応履歴'!$B$5:$B$304,$A8))
J9: =IF($A9="","",IF($K9=0,"",_xlfn.MAXIFS('対応履歴'!$A$5:$A$304,'対応履歴'!$B$5:$B$304,$A9))) | K9: =IF($A9="","",COUNTIF('対応履歴'!$B$5:$B$304,$A9)) | L9: =IF($P9="","",IFERROR(INDEX('対応履歴'!$G$5:$G$304,MATCH($P9,'対応履歴'!$J$5:$J$304,0))&"","")) | M9: =IF($P9="","",IFERROR(IF(INDEX('対応履歴'!$H$5:$H$304,MATCH($P9,'対応履歴'!$J$5:$J$304,0))="","",INDEX('対応履歴'!$H$5:$H$304,MATCH($P9,'対応履歴'!$J$5:$J$304,0))),"")) | N9: =IF($A9="","",IF($K9=0,"対応履歴なし",IF($M9="",IF($L9="","次回予定なし","期日未定"),IF($M9<'次回アクション'!$B$2,"期日超過 "&('次回アクション'!$B$2-$M9)&"日",IF($M9='次回アクション'!$B$2,"今日","あと"&($M9-'次回アクション'!$B$2)&"日"))))) | O9: =IF($P9="","",IF($M9<>"",$M9+ROW()/100000,IF($L9<>"",100000+ROW()/100000,""))) | P9: =IF(OR($A9="",$K9=0),"",_xlfn.MAXIFS('対応履歴'!$J$5:$J$304,'対応履歴'!$B$5:$B$304,$A9))
J10: =IF($A10="","",IF($K10=0,"",_xlfn.MAXIFS('対応履歴'!$A$5:$A$304,'対応履歴'!$B$5:$B$304,$A10))) | K10: =IF($A10="","",COUNTIF('対応履歴'!$B$5:$B$304,$A10)) | L10: =IF($P10="","",IFERROR(INDEX('対応履歴'!$G$5:$G$304,MATCH($P10,'対応履歴'!$J$5:$J$304,0))&"","")) | M10: =IF($P10="","",IFERROR(IF(INDEX('対応履歴'!$H$5:$H$304,MATCH($P10,'対応履歴'!$J$5:$J$304,0))="","",INDEX('対応履歴'!$H$5:$H$304,MATCH($P10,'対応履歴'!$J$5:$J$304,0))),"")) | N10: =IF($A10="","",IF($K10=0,"対応履歴なし",IF($M10="",IF($L10="","次回予定なし","期日未定"),IF($M10<'次回アクション'!$B$2,"期日超過 "&('次回アクション'!$B$2-$M10)&"日",IF($M10='次回アクション'!$B$2,"今日","あと"&($M10-'次回アクション'!$B$2)&"日"))))) | O10: =IF($P10="","",IF($M10<>"",$M10+ROW()/100000,IF($L10<>"",100000+ROW()/100000,""))) | P10: =IF(OR($A10="",$K10=0),"",_xlfn.MAXIFS('対応履歴'!$J$5:$J$304,'対応履歴'!$B$5:$B$304,$A10))
J11: =IF($A11="","",IF($K11=0,"",_xlfn.MAXIFS('対応履歴'!$A$5:$A$304,'対応履歴'!$B$5:$B$304,$A11))) | K11: =IF($A11="","",COUNTIF('対応履歴'!$B$5:$B$304,$A11)) | L11: =IF($P11="","",IFERROR(INDEX('対応履歴'!$G$5:$G$304,MATCH($P11,'対応履歴'!$J$5:$J$304,0))&"","")) | M11: =IF($P11="","",IFERROR(IF(INDEX('対応履歴'!$H$5:$H$304,MATCH($P11,'対応履歴'!$J$5:$J$304,0))="","",INDEX('対応履歴'!$H$5:$H$304,MATCH($P11,'対応履歴'!$J$5:$J$304,0))),"")) | N11: =IF($A11="","",IF($K11=0,"対応履歴なし",IF($M11="",IF($L11="","次回予定なし","期日未定"),IF($M11<'次回アクション'!$B$2,"期日超過 "&('次回アクション'!$B$2-$M11)&"日",IF($M11='次回アクション'!$B$2,"今日","あと"&($M11-'次回アクション'!$B$2)&"日"))))) | O11: =IF($P11="","",IF($M11<>"",$M11+ROW()/100000,IF($L11<>"",100000+ROW()/100000,""))) | P11: =IF(OR($A11="",$K11=0),"",_xlfn.MAXIFS('対応履歴'!$J$5:$J$304,'対応履歴'!$B$5:$B$304,$A11))
J12: =IF($A12="","",IF($K12=0,"",_xlfn.MAXIFS('対応履歴'!$A$5:$A$304,'対応履歴'!$B$5:$B$304,$A12))) | K12: =IF($A12="","",COUNTIF('対応履歴'!$B$5:$B$304,$A12)) | L12: =IF($P12="","",IFERROR(INDEX('対応履歴'!$G$5:$G$304,MATCH($P12,'対応履歴'!$J$5:$J$304,0))&"","")) | M12: =IF($P12="","",IFERROR(IF(INDEX('対応履歴'!$H$5:$H$304,MATCH($P12,'対応履歴'!$J$5:$J$304,0))="","",INDEX('対応履歴'!$H$5:$H$304,MATCH($P12,'対応履歴'!$J$5:$J$304,0))),"")) | N12: =IF($A12="","",IF($K12=0,"対応履歴なし",IF($M12="",IF($L12="","次回予定なし","期日未定"),IF($M12<'次回アクション'!$B$2,"期日超過 "&('次回アクション'!$B$2-$M12)&"日",IF($M12='次回アクション'!$B$2,"今日","あと"&($M12-'次回アクション'!$B$2)&"日"))))) | O12: =IF($P12="","",IF($M12<>"",$M12+ROW()/100000,IF($L12<>"",100000+ROW()/100000,""))) | P12: =IF(OR($A12="",$K12=0),"",_xlfn.MAXIFS('対応履歴'!$J$5:$J$304,'対応履歴'!$B$5:$B$304,$A12))
J13: =IF($A13="","",IF($K13=0,"",_xlfn.MAXIFS('対応履歴'!$A$5:$A$304,'対応履歴'!$B$5:$B$304,$A13))) | K13: =IF($A13="","",COUNTIF('対応履歴'!$B$5:$B$304,$A13)) | L13: =IF($P13="","",IFERROR(INDEX('対応履歴'!$G$5:$G$304,MATCH($P13,'対応履歴'!$J$5:$J$304,0))&"","")) | M13: =IF($P13="","",IFERROR(IF(INDEX('対応履歴'!$H$5:$H$304,MATCH($P13,'対応履歴'!$J$5:$J$304,0))="","",INDEX('対応履歴'!$H$5:$H$304,MATCH($P13,'対応履歴'!$J$5:$J$304,0))),"")) | N13: =IF($A13="","",IF($K13=0,"対応履歴なし",IF($M13="",IF($L13="","次回予定なし","期日未定"),IF($M13<'次回アクション'!$B$2,"期日超過 "&('次回アクション'!$B$2-$M13)&"日",IF($M13='次回アクション'!$B$2,"今日","あと"&($M13-'次回アクション'!$B$2)&"日"))))) | O13: =IF($P13="","",IF($M13<>"",$M13+ROW()/100000,IF($L13<>"",100000+ROW()/100000,""))) | P13: =IF(OR($A13="",$K13=0),"",_xlfn.MAXIFS('対応履歴'!$J$5:$J$304,'対応履歴'!$B$5:$B$304,$A13))
J14: =IF($A14="","",IF($K14=0,"",_xlfn.MAXIFS('対応履歴'!$A$5:$A$304,'対応履歴'!$B$5:$B$304,$A14))) | K14: =IF($A14="","",COUNTIF('対応履歴'!$B$5:$B$304,$A14)) | L14: =IF($P14="","",IFERROR(INDEX('対応履歴'!$G$5:$G$304,MATCH($P14,'対応履歴'!$J$5:$J$304,0))&"","")) | M14: =IF($P14="","",IFERROR(IF(INDEX('対応履歴'!$H$5:$H$304,MATCH($P14,'対応履歴'!$J$5:$J$304,0))="","",INDEX('対応履歴'!$H$5:$H$304,MATCH($P14,'対応履歴'!$J$5:$J$304,0))),"")) | N14: =IF($A14="","",IF($K14=0,"対応履歴なし",IF($M14="",IF($L14="","次回予定なし","期日未定"),IF($M14<'次回アクション'!$B$2,"期日超過 "&('次回アクション'!$B$2-$M14)&"日",IF($M14='次回アクション'!$B$2,"今日","あと"&($M14-'次回アクション'!$B$2)&"日"))))) | O14: =IF($P14="","",IF($M14<>"",$M14+ROW()/100000,IF($L14<>"",100000+ROW()/100000,""))) | P14: =IF(OR($A14="",$K14=0),"",_xlfn.MAXIFS('対応履歴'!$J$5:$J$304,'対応履歴'!$B$5:$B$304,$A14))
J15: =IF($A15="","",IF($K15=0,"",_xlfn.MAXIFS('対応履歴'!$A$5:$A$304,'対応履歴'!$B$5:$B$304,$A15))) | K15: =IF($A15="","",COUNTIF('対応履歴'!$B$5:$B$304,$A15)) | L15: =IF($P15="","",IFERROR(INDEX('対応履歴'!$G$5:$G$304,MATCH($P15,'対応履歴'!$J$5:$J$304,0))&"","")) | M15: =IF($P15="","",IFERROR(IF(INDEX('対応履歴'!$H$5:$H$304,MATCH($P15,'対応履歴'!$J$5:$J$304,0))="","",INDEX('対応履歴'!$H$5:$H$304,MATCH($P15,'対応履歴'!$J$5:$J$304,0))),"")) | N15: =IF($A15="","",IF($K15=0,"対応履歴なし",IF($M15="",IF($L15="","次回予定なし","期日未定"),IF($M15<'次回アクション'!$B$2,"期日超過 "&('次回アクション'!$B$2-$M15)&"日",IF($M15='次回アクション'!$B$2,"今日","あと"&($M15-'次回アクション'!$B$2)&"日"))))) | O15: =IF($P15="","",IF($M15<>"",$M15+ROW()/100000,IF($L15<>"",100000+ROW()/100000,""))) | P15: =IF(OR($A15="",$K15=0),"",_xlfn.MAXIFS('対応履歴'!$J$5:$J$304,'対応履歴'!$B$5:$B$304,$A15))
J16: =IF($A16="","",IF($K16=0,"",_xlfn.MAXIFS('対応履歴'!$A$5:$A$304,'対応履歴'!$B$5:$B$304,$A16))) | K16: =IF($A16="","",COUNTIF('対応履歴'!$B$5:$B$304,$A16)) | L16: =IF($P16="","",IFERROR(INDEX('対応履歴'!$G$5:$G$304,MATCH($P16,'対応履歴'!$J$5:$J$304,0))&"","")) | M16: =IF($P16="","",IFERROR(IF(INDEX('対応履歴'!$H$5:$H$304,MATCH($P16,'対応履歴'!$J$5:$J$304,0))="","",INDEX('対応履歴'!$H$5:$H$304,MATCH($P16,'対応履歴'!$J$5:$J$304,0))),"")) | N16: =IF($A16="","",IF($K16=0,"対応履歴なし",IF($M16="",IF($L16="","次回予定なし","期日未定"),IF($M16<'次回アクション'!$B$2,"期日超過 "&('次回アクション'!$B$2-$M16)&"日",IF($M16='次回アクション'!$B$2,"今日","あと"&($M16-'次回アクション'!$B$2)&"日"))))) | O16: =IF($P16="","",IF($M16<>"",$M16+ROW()/100000,IF($L16<>"",100000+ROW()/100000,""))) | P16: =IF(OR($A16="",$K16=0),"",_xlfn.MAXIFS('対応履歴'!$J$5:$J$304,'対応履歴'!$B$5:$B$304,$A16))
... J104: =IF($A104="","",IF($K104=0,"",_xlfn.MAXIFS('対応履歴'!$A$5:$A$304,'対応履歴'!$B$5:$B$304,$A104))) | K104: =IF($A104="","",COUNTIF('対応履歴'!$B$5:$B$304,$A104)) | L104: =IF($P104="","",IFERROR(INDEX('対応履歴'!$G$5:$G$304,MATCH($P104,'対応履歴'!$J$5:$J$304,0))&"","")) | M104: =IF($P104="","",IFERROR(IF(INDEX('対応履歴'!$H$5:$H$304,MATCH($P104,'対応履歴'!$J$5:$J$304,0))="","",INDEX('対応履歴'!$H$5:$H$304,MATCH($P104,'対応履歴'!$J$5:$J$304,0))),"")) | N104: =IF($A104="","",IF($K104=0,"対応履歴なし",IF($M104="",IF($L104="","次回予定なし","期日未定"),IF($M104<'次回アクション'!$B$2,"期日超過 "&('次回アクション'!$B$2-$M104)&"日",IF($M104='次回アクション'!$B$2,"今日","あと"&($M104-'次回アクション'!$B$2)&"日"))))) | O104: =IF($P104="","",IF($M104<>"",$M104+ROW()/100000,IF($L104<>"",100000+ROW()/100000,""))) | P104: =IF(OR($A104="",$K104=0),"",_xlfn.MAXIFS('対応履歴'!$J$5:$J$304,'対応履歴'!$B$5:$B$304,$A104))

Sheet 対応履歴
A1: 対応履歴（1行=1回の対応。新しい対応は空いている次の行に）
A2: 顧客IDは「顧客一覧」に登録したものから選びます。同じ日に2回書いたときは、下の行を新しい対応として数えます。次にやることが無いときは、次回アクションと期日を空にします。
J3: ▼ 作業列
A4: 日付 | B4: 顧客ID | C4: 顧客名 | D4: 自社担当 | E4: 手段 | F4: 内容（何を聞いた・話した・決めた） | G4: 次回アクション | H4: 期日 | J4: 行キー | K4: カルテ用
C5: =IF($B5="","",IFERROR(INDEX('顧客一覧'!$C$5:$C$104,MATCH($B5,'顧客一覧'!$A$5:$A$104,0))&"","※顧客一覧にないID")) | J5: =IF(ISNUMBER($A5),$A5+ROW()/100000,"") | K5: =IF(AND(ISNUMBER($J5),$B5<>"",$B5='顧客カルテ'!$C$3),$J5,"")
C6: =IF($B6="","",IFERROR(INDEX('顧客一覧'!$C$5:$C$104,MATCH($B6,'顧客一覧'!$A$5:$A$104,0))&"","※顧客一覧にないID")) | J6: =IF(ISNUMBER($A6),$A6+ROW()/100000,"") | K6: =IF(AND(ISNUMBER($J6),$B6<>"",$B6='顧客カルテ'!$C$3),$J6,"")
C7: =IF($B7="","",IFERROR(INDEX('顧客一覧'!$C$5:$C$104,MATCH($B7,'顧客一覧'!$A$5:$A$104,0))&"","※顧客一覧にないID")) | J7: =IF(ISNUMBER($A7),$A7+ROW()/100000,"") | K7: =IF(AND(ISNUMBER($J7),$B7<>"",$B7='顧客カルテ'!$C$3),$J7,"")
C8: =IF($B8="","",IFERROR(INDEX('顧客一覧'!$C$5:$C$104,MATCH($B8,'顧客一覧'!$A$5:$A$104,0))&"","※顧客一覧にないID")) | J8: =IF(ISNUMBER($A8),$A8+ROW()/100000,"") | K8: =IF(AND(ISNUMBER($J8),$B8<>"",$B8='顧客カルテ'!$C$3),$J8,"")
C9: =IF($B9="","",IFERROR(INDEX('顧客一覧'!$C$5:$C$104,MATCH($B9,'顧客一覧'!$A$5:$A$104,0))&"","※顧客一覧にないID")) | J9: =IF(ISNUMBER($A9),$A9+ROW()/100000,"") | K9: =IF(AND(ISNUMBER($J9),$B9<>"",$B9='顧客カルテ'!$C$3),$J9,"")
C10: =IF($B10="","",IFERROR(INDEX('顧客一覧'!$C$5:$C$104,MATCH($B10,'顧客一覧'!$A$5:$A$104,0))&"","※顧客一覧にないID")) | J10: =IF(ISNUMBER($A10),$A10+ROW()/100000,"") | K10: =IF(AND(ISNUMBER($J10),$B10<>"",$B10='顧客カルテ'!$C$3),$J10,"")
C11: =IF($B11="","",IFERROR(INDEX('顧客一覧'!$C$5:$C$104,MATCH($B11,'顧客一覧'!$A$5:$A$104,0))&"","※顧客一覧にないID")) | J11: =IF(ISNUMBER($A11),$A11+ROW()/100000,"") | K11: =IF(AND(ISNUMBER($J11),$B11<>"",$B11='顧客カルテ'!$C$3),$J11,"")
C12: =IF($B12="","",IFERROR(INDEX('顧客一覧'!$C$5:$C$104,MATCH($B12,'顧客一覧'!$A$5:$A$104,0))&"","※顧客一覧にないID")) | J12: =IF(ISNUMBER($A12),$A12+ROW()/100000,"") | K12: =IF(AND(ISNUMBER($J12),$B12<>"",$B12='顧客カルテ'!$C$3),$J12,"")
C13: =IF($B13="","",IFERROR(INDEX('顧客一覧'!$C$5:$C$104,MATCH($B13,'顧客一覧'!$A$5:$A$104,0))&"","※顧客一覧にないID")) | J13: =IF(ISNUMBER($A13),$A13+ROW()/100000,"") | K13: =IF(AND(ISNUMBER($J13),$B13<>"",$B13='顧客カルテ'!$C$3),$J13,"")
C14: =IF($B14="","",IFERROR(INDEX('顧客一覧'!$C$5:$C$104,MATCH($B14,'顧客一覧'!$A$5:$A$104,0))&"","※顧客一覧にないID")) | J14: =IF(ISNUMBER($A14),$A14+ROW()/100000,"") | K14: =IF(AND(ISNUMBER($J14),$B14<>"",$B14='顧客カルテ'!$C$3),$J14,"")
C15: =IF($B15="","",IFERROR(INDEX('顧客一覧'!$C$5:$C$104,MATCH($B15,'顧客一覧'!$A$5:$A$104,0))&"","※顧客一覧にないID")) | J15: =IF(ISNUMBER($A15),$A15+ROW()/100000,"") | K15: =IF(AND(ISNUMBER($J15),$B15<>"",$B15='顧客カルテ'!$C$3),$J15,"")
C16: =IF($B16="","",IFERROR(INDEX('顧客一覧'!$C$5:$C$104,MATCH($B16,'顧客一覧'!$A$5:$A$104,0))&"","※顧客一覧にないID")) | J16: =IF(ISNUMBER($A16),$A16+ROW()/100000,"") | K16: =IF(AND(ISNUMBER($J16),$B16<>"",$B16='顧客カルテ'!$C$3),$J16,"")
... C304: =IF($B304="","",IFERROR(INDEX('顧客一覧'!$C$5:$C$104,MATCH($B304,'顧客一覧'!$A$5:$A$104,0))&"","※顧客一覧にないID")) | J304: =IF(ISNUMBER($A304),$A304+ROW()/100000,"") | K304: =IF(AND(ISNUMBER($J304),$B304<>"",$B304='顧客カルテ'!$C$3),$J304,"")

Sheet 顧客カルテ
A1: 顧客カルテ
A2: C3 で顧客IDを選ぶと、基本情報と直近の対応履歴が出ます。そのまま印刷できます（A4縦・1枚）。 | H2: 作業列
A3: 顧客ID | D3: ← プルダウンで選びます（顧客一覧に登録したID） | H3: =IF($C$3="","",IFERROR(MATCH($C$3,'顧客一覧'!$A$5:$A$104,0),""))
A5: 基本情報
A6: 会社名・氏名 | C6: =IF($H$3="","",INDEX('顧客一覧'!$C$5:$C$104,$H$3)&"")
A7: 区分 | C7: =IF($H$3="","",INDEX('顧客一覧'!$B$5:$B$104,$H$3)&"")
A8: 先方の担当者 | C8: =IF($H$3="","",INDEX('顧客一覧'!$D$5:$D$104,$H$3)&"")
A9: 電話 | C9: =IF($H$3="","",INDEX('顧客一覧'!$E$5:$E$104,$H$3)&"")
A10: メール | C10: =IF($H$3="","",INDEX('顧客一覧'!$F$5:$F$104,$H$3)&"")
A11: 自社担当 | C11: =IF($H$3="","",INDEX('顧客一覧'!$G$5:$G$104,$H$3)&"")
A12: 見込み度 | C12: =IF($H$3="","",INDEX('顧客一覧'!$H$5:$H$104,$H$3)&"")
A13: 備考 | C13: =IF($H$3="","",INDEX('顧客一覧'!$I$5:$I$104,$H$3)&"")
A15: 対応の状況（対応履歴から自動）
A16: 最終対応日 | C16: =IF($H$3="","",INDEX('顧客一覧'!$J$5:$J$104,$H$3))
A17: 対応回数 | C17: =IF($H$3="","",INDEX('顧客一覧'!$K$5:$K$104,$H$3))
A18: 次回アクション | C18: =IF($H$3="","",INDEX('顧客一覧'!$L$5:$L$104,$H$3))
A19: 次回アクションの期日 | C19: =IF($H$3="","",INDEX('顧客一覧'!$M$5:$M$104,$H$3))
A20: 状況 | C20: =IF($H$3="","",INDEX('顧客一覧'!$N$5:$N$104,$H$3))
A22: 直近の対応履歴（新しい順・10件まで） | H22: 作業列
A23: 日付 | B23: 手段 | C23: 担当 | D23: 内容 | E23: 次回アクション | F23: 期日
A24: =IF($H24="","",IF(INDEX('対応履歴'!$A$5:$A$304,$H24)="","",INDEX('対応履歴'!$A$5:$A$304,$H24))) | B24: =IF($H24="","",INDEX('対応履歴'!$E$5:$E$304,$H24)&"") | C24: =IF($H24="","",INDEX('対応履歴'!$D$5:$D$304,$H24)&"") | D24: =IF($H24="","",INDEX('対応履歴'!$F$5:$F$304,$H24)&"") | E24: =IF($H24="","",INDEX('対応履歴'!$G$5:$G$304,$H24)&"") | F24: =IF($H24="","",IF(INDEX('対応履歴'!$H$5:$H$304,$H24)="","",INDEX('対応履歴'!$H$5:$H$304,$H24))) | H24: =IFERROR(MATCH(LARGE('対応履歴'!$K$5:$K$304,1),'対応履歴'!$K$5:$K$304,0),"")
A25: =IF($H25="","",IF(INDEX('対応履歴'!$A$5:$A$304,$H25)="","",INDEX('対応履歴'!$A$5:$A$304,$H25))) | B25: =IF($H25="","",INDEX('対応履歴'!$E$5:$E$304,$H25)&"") | C25: =IF($H25="","",INDEX('対応履歴'!$D$5:$D$304,$H25)&"") | D25: =IF($H25="","",INDEX('対応履歴'!$F$5:$F$304,$H25)&"") | E25: =IF($H25="","",INDEX('対応履歴'!$G$5:$G$304,$H25)&"") | F25: =IF($H25="","",IF(INDEX('対応履歴'!$H$5:$H$304,$H25)="","",INDEX('対応履歴'!$H$5:$H$304,$H25))) | H25: =IFERROR(MATCH(LARGE('対応履歴'!$K$5:$K$304,2),'対応履歴'!$K$5:$K$304,0),"")
A26: =IF($H26="","",IF(INDEX('対応履歴'!$A$5:$A$304,$H26)="","",INDEX('対応履歴'!$A$5:$A$304,$H26))) | B26: =IF($H26="","",INDEX('対応履歴'!$E$5:$E$304,$H26)&"") | C26: =IF($H26="","",INDEX('対応履歴'!$D$5:$D$304,$H26)&"") | D26: =IF($H26="","",INDEX('対応履歴'!$F$5:$F$304,$H26)&"") | E26: =IF($H26="","",INDEX('対応履歴'!$G$5:$G$304,$H26)&"") | F26: =IF($H26="","",IF(INDEX('対応履歴'!$H$5:$H$304,$H26)="","",INDEX('対応履歴'!$H$5:$H$304,$H26))) | H26: =IFERROR(MATCH(LARGE('対応履歴'!$K$5:$K$304,3),'対応履歴'!$K$5:$K$304,0),"")
A27: =IF($H27="","",IF(INDEX('対応履歴'!$A$5:$A$304,$H27)="","",INDEX('対応履歴'!$A$5:$A$304,$H27))) | B27: =IF($H27="","",INDEX('対応履歴'!$E$5:$E$304,$H27)&"") | C27: =IF($H27="","",INDEX('対応履歴'!$D$5:$D$304,$H27)&"") | D27: =IF($H27="","",INDEX('対応履歴'!$F$5:$F$304,$H27)&"") | E27: =IF($H27="","",INDEX('対応履歴'!$G$5:$G$304,$H27)&"") | F27: =IF($H27="","",IF(INDEX('対応履歴'!$H$5:$H$304,$H27)="","",INDEX('対応履歴'!$H$5:$H$304,$H27))) | H27: =IFERROR(MATCH(LARGE('対応履歴'!$K$5:$K$304,4),'対応履歴'!$K$5:$K$304,0),"")
A28: =IF($H28="","",IF(INDEX('対応履歴'!$A$5:$A$304,$H28)="","",INDEX('対応履歴'!$A$5:$A$304,$H28))) | B28: =IF($H28="","",INDEX('対応履歴'!$E$5:$E$304,$H28)&"") | C28: =IF($H28="","",INDEX('対応履歴'!$D$5:$D$304,$H28)&"") | D28: =IF($H28="","",INDEX('対応履歴'!$F$5:$F$304,$H28)&"") | E28: =IF($H28="","",INDEX('対応履歴'!$G$5:$G$304,$H28)&"") | F28: =IF($H28="","",IF(INDEX('対応履歴'!$H$5:$H$304,$H28)="","",INDEX('対応履歴'!$H$5:$H$304,$H28))) | H28: =IFERROR(MATCH(LARGE('対応履歴'!$K$5:$K$304,5),'対応履歴'!$K$5:$K$304,0),"")
A29: =IF($H29="","",IF(INDEX('対応履歴'!$A$5:$A$304,$H29)="","",INDEX('対応履歴'!$A$5:$A$304,$H29))) | B29: =IF($H29="","",INDEX('対応履歴'!$E$5:$E$304,$H29)&"") | C29: =IF($H29="","",INDEX('対応履歴'!$D$5:$D$304,$H29)&"") | D29: =IF($H29="","",INDEX('対応履歴'!$F$5:$F$304,$H29)&"") | E29: =IF($H29="","",INDEX('対応履歴'!$G$5:$G$304,$H29)&"") | F29: =IF($H29="","",IF(INDEX('対応履歴'!$H$5:$H$304,$H29)="","",INDEX('対応履歴'!$H$5:$H$304,$H29))) | H29: =IFERROR(MATCH(LARGE('対応履歴'!$K$5:$K$304,6),'対応履歴'!$K$5:$K$304,0),"")
A30: =IF($H30="","",IF(INDEX('対応履歴'!$A$5:$A$304,$H30)="","",INDEX('対応履歴'!$A$5:$A$304,$H30))) | B30: =IF($H30="","",INDEX('対応履歴'!$E$5:$E$304,$H30)&"") | C30: =IF($H30="","",INDEX('対応履歴'!$D$5:$D$304,$H30)&"") | D30: =IF($H30="","",INDEX('対応履歴'!$F$5:$F$304,$H30)&"") | E30: =IF($H30="","",INDEX('対応履歴'!$G$5:$G$304,$H30)&"") | F30: =IF($H30="","",IF(INDEX('対応履歴'!$H$5:$H$304,$H30)="","",INDEX('対応履歴'!$H$5:$H$304,$H30))) | H30: =IFERROR(MATCH(LARGE('対応履歴'!$K$5:$K$304,7),'対応履歴'!$K$5:$K$304,0),"")
A31: =IF($H31="","",IF(INDEX('対応履歴'!$A$5:$A$304,$H31)="","",INDEX('対応履歴'!$A$5:$A$304,$H31))) | B31: =IF($H31="","",INDEX('対応履歴'!$E$5:$E$304,$H31)&"") | C31: =IF($H31="","",INDEX('対応履歴'!$D$5:$D$304,$H31)&"") | D31: =IF($H31="","",INDEX('対応履歴'!$F$5:$F$304,$H31)&"") | E31: =IF($H31="","",INDEX('対応履歴'!$G$5:$G$304,$H31)&"") | F31: =IF($H31="","",IF(INDEX('対応履歴'!$H$5:$H$304,$H31)="","",INDEX('対応履歴'!$H$5:$H$304,$H31))) | H31: =IFERROR(MATCH(LARGE('対応履歴'!$K$5:$K$304,8),'対応履歴'!$K$5:$K$304,0),"")
A32: =IF($H32="","",IF(INDEX('対応履歴'!$A$5:$A$304,$H32)="","",INDEX('対応履歴'!$A$5:$A$304,$H32))) | B32: =IF($H32="","",INDEX('対応履歴'!$E$5:$E$304,$H32)&"") | C32: =IF($H32="","",INDEX('対応履歴'!$D$5:$D$304,$H32)&"") | D32: =IF($H32="","",INDEX('対応履歴'!$F$5:$F$304,$H32)&"") | E32: =IF($H32="","",INDEX('対応履歴'!$G$5:$G$304,$H32)&"") | F32: =IF($H32="","",IF(INDEX('対応履歴'!$H$5:$H$304,$H32)="","",INDEX('対応履歴'!$H$5:$H$304,$H32))) | H32: =IFERROR(MATCH(LARGE('対応履歴'!$K$5:$K$304,9),'対応履歴'!$K$5:$K$304,0),"")
A33: =IF($H33="","",IF(INDEX('対応履歴'!$A$5:$A$304,$H33)="","",INDEX('対応履歴'!$A$5:$A$304,$H33))) | B33: =IF($H33="","",INDEX('対応履歴'!$E$5:$E$304,$H33)&"") | C33: =IF($H33="","",INDEX('対応履歴'!$D$5:$D$304,$H33)&"") | D33: =IF($H33="","",INDEX('対応履歴'!$F$5:$F$304,$H33)&"") | E33: =IF($H33="","",INDEX('対応履歴'!$G$5:$G$304,$H33)&"") | F33: =IF($H33="","",IF(INDEX('対応履歴'!$H$5:$H$304,$H33)="","",INDEX('対応履歴'!$H$5:$H$304,$H33))) | H33: =IFERROR(MATCH(LARGE('対応履歴'!$K$5:$K$304,10),'対応履歴'!$K$5:$K$304,0),"")
A34: =IF($H$3="","","この顧客の対応履歴は全"&INDEX('顧客一覧'!$K$5:$K$104,$H$3)&"件です。10件を超える分は「対応履歴」シートで顧客IDを絞り込んでください。")

Sheet 次回アクション
A1: 次回アクション一覧（期日が近い順）
A2: 基準日 | B2: =TODAY() | C2: ← 今日の日付が入っています（=TODAY()）。特定の日で見たいときは、この日付を書き換えます。
A3: 顧客ごとに、いちばん新しい対応に書いた次回アクションだけを出します。赤=期日超過、黄=3日以内。次回アクションを空にした顧客は出ません（対応終了として扱います）。
A4: No | B4: 期日 | C4: 残り日数 | D4: 顧客ID | E4: 会社名・氏名 | F4: 次回アクション | G4: 自社担当 | H4: 見込み度 | I4: 最終対応日 | J4: 作業列
A5: =IF($J5="","",1) | B5: =IF($J5="","",IF(INDEX('顧客一覧'!$M$5:$M$104,$J5)="","期日未定",INDEX('顧客一覧'!$M$5:$M$104,$J5))) | C5: =IF($J5="","",IF(ISNUMBER($B5),$B5-$B$2,"")) | D5: =IF($J5="","",INDEX('顧客一覧'!$A$5:$A$104,$J5)) | E5: =IF($J5="","",INDEX('顧客一覧'!$C$5:$C$104,$J5)&"") | F5: =IF($J5="","",INDEX('顧客一覧'!$L$5:$L$104,$J5)&"") | G5: =IF($J5="","",INDEX('顧客一覧'!$G$5:$G$104,$J5)&"") | H5: =IF($J5="","",INDEX('顧客一覧'!$H$5:$H$104,$J5)&"") | I5: =IF($J5="","",INDEX('顧客一覧'!$J$5:$J$104,$J5)) | J5: =IFERROR(MATCH(SMALL('顧客一覧'!$O$5:$O$104,1),'顧客一覧'!$O$5:$O$104,0),"")
A6: =IF($J6="","",2) | B6: =IF($J6="","",IF(INDEX('顧客一覧'!$M$5:$M$104,$J6)="","期日未定",INDEX('顧客一覧'!$M$5:$M$104,$J6))) | C6: =IF($J6="","",IF(ISNUMBER($B6),$B6-$B$2,"")) | D6: =IF($J6="","",INDEX('顧客一覧'!$A$5:$A$104,$J6)) | E6: =IF($J6="","",INDEX('顧客一覧'!$C$5:$C$104,$J6)&"") | F6: =IF($J6="","",INDEX('顧客一覧'!$L$5:$L$104,$J6)&"") | G6: =IF($J6="","",INDEX('顧客一覧'!$G$5:$G$104,$J6)&"") | H6: =IF($J6="","",INDEX('顧客一覧'!$H$5:$H$104,$J6)&"") | I6: =IF($J6="","",INDEX('顧客一覧'!$J$5:$J$104,$J6)) | J6: =IFERROR(MATCH(SMALL('顧客一覧'!$O$5:$O$104,2),'顧客一覧'!$O$5:$O$104,0),"")
A7: =IF($J7="","",3) | B7: =IF($J7="","",IF(INDEX('顧客一覧'!$M$5:$M$104,$J7)="","期日未定",INDEX('顧客一覧'!$M$5:$M$104,$J7))) | C7: =IF($J7="","",IF(ISNUMBER($B7),$B7-$B$2,"")) | D7: =IF($J7="","",INDEX('顧客一覧'!$A$5:$A$104,$J7)) | E7: =IF($J7="","",INDEX('顧客一覧'!$C$5:$C$104,$J7)&"") | F7: =IF($J7="","",INDEX('顧客一覧'!$L$5:$L$104,$J7)&"") | G7: =IF($J7="","",INDEX('顧客一覧'!$G$5:$G$104,$J7)&"") | H7: =IF($J7="","",INDEX('顧客一覧'!$H$5:$H$104,$J7)&"") | I7: =IF($J7="","",INDEX('顧客一覧'!$J$5:$J$104,$J7)) | J7: =IFERROR(MATCH(SMALL('顧客一覧'!$O$5:$O$104,3),'顧客一覧'!$O$5:$O$104,0),"")
A8: =IF($J8="","",4) | B8: =IF($J8="","",IF(INDEX('顧客一覧'!$M$5:$M$104,$J8)="","期日未定",INDEX('顧客一覧'!$M$5:$M$104,$J8))) | C8: =IF($J8="","",IF(ISNUMBER($B8),$B8-$B$2,"")) | D8: =IF($J8="","",INDEX('顧客一覧'!$A$5:$A$104,$J8)) | E8: =IF($J8="","",INDEX('顧客一覧'!$C$5:$C$104,$J8)&"") | F8: =IF($J8="","",INDEX('顧客一覧'!$L$5:$L$104,$J8)&"") | G8: =IF($J8="","",INDEX('顧客一覧'!$G$5:$G$104,$J8)&"") | H8: =IF($J8="","",INDEX('顧客一覧'!$H$5:$H$104,$J8)&"") | I8: =IF($J8="","",INDEX('顧客一覧'!$J$5:$J$104,$J8)) | J8: =IFERROR(MATCH(SMALL('顧客一覧'!$O$5:$O$104,4),'顧客一覧'!$O$5:$O$104,0),"")
A9: =IF($J9="","",5) | B9: =IF($J9="","",IF(INDEX('顧客一覧'!$M$5:$M$104,$J9)="","期日未定",INDEX('顧客一覧'!$M$5:$M$104,$J9))) | C9: =IF($J9="","",IF(ISNUMBER($B9),$B9-$B$2,"")) | D9: =IF($J9="","",INDEX('顧客一覧'!$A$5:$A$104,$J9)) | E9: =IF($J9="","",INDEX('顧客一覧'!$C$5:$C$104,$J9)&"") | F9: =IF($J9="","",INDEX('顧客一覧'!$L$5:$L$104,$J9)&"") | G9: =IF($J9="","",INDEX('顧客一覧'!$G$5:$G$104,$J9)&"") | H9: =IF($J9="","",INDEX('顧客一覧'!$H$5:$H$104,$J9)&"") | I9: =IF($J9="","",INDEX('顧客一覧'!$J$5:$J$104,$J9)) | J9: =IFERROR(MATCH(SMALL('顧客一覧'!$O$5:$O$104,5),'顧客一覧'!$O$5:$O$104,0),"")
A10: =IF($J10="","",6) | B10: =IF($J10="","",IF(INDEX('顧客一覧'!$M$5:$M$104,$J10)="","期日未定",INDEX('顧客一覧'!$M$5:$M$104,$J10))) | C10: =IF($J10="","",IF(ISNUMBER($B10),$B10-$B$2,"")) | D10: =IF($J10="","",INDEX('顧客一覧'!$A$5:$A$104,$J10)) | E10: =IF($J10="","",INDEX('顧客一覧'!$C$5:$C$104,$J10)&"") | F10: =IF($J10="","",INDEX('顧客一覧'!$L$5:$L$104,$J10)&"") | G10: =IF($J10="","",INDEX('顧客一覧'!$G$5:$G$104,$J10)&"") | H10: =IF($J10="","",INDEX('顧客一覧'!$H$5:$H$104,$J10)&"") | I10: =IF($J10="","",INDEX('顧客一覧'!$J$5:$J$104,$J10)) | J10: =IFERROR(MATCH(SMALL('顧客一覧'!$O$5:$O$104,6),'顧客一覧'!$O$5:$O$104,0),"")
A11: =IF($J11="","",7) | B11: =IF($J11="","",IF(INDEX('顧客一覧'!$M$5:$M$104,$J11)="","期日未定",INDEX('顧客一覧'!$M$5:$M$104,$J11))) | C11: =IF($J11="","",IF(ISNUMBER($B11),$B11-$B$2,"")) | D11: =IF($J11="","",INDEX('顧客一覧'!$A$5:$A$104,$J11)) | E11: =IF($J11="","",INDEX('顧客一覧'!$C$5:$C$104,$J11)&"") | F11: =IF($J11="","",INDEX('顧客一覧'!$L$5:$L$104,$J11)&"") | G11: =IF($J11="","",INDEX('顧客一覧'!$G$5:$G$104,$J11)&"") | H11: =IF($J11="","",INDEX('顧客一覧'!$H$5:$H$104,$J11)&"") | I11: =IF($J11="","",INDEX('顧客一覧'!$J$5:$J$104,$J11)) | J11: =IFERROR(MATCH(SMALL('顧客一覧'!$O$5:$O$104,7),'顧客一覧'!$O$5:$O$104,0),"")
A12: =IF($J12="","",8) | B12: =IF($J12="","",IF(INDEX('顧客一覧'!$M$5:$M$104,$J12)="","期日未定",INDEX('顧客一覧'!$M$5:$M$104,$J12))) | C12: =IF($J12="","",IF(ISNUMBER($B12),$B12-$B$2,"")) | D12: =IF($J12="","",INDEX('顧客一覧'!$A$5:$A$104,$J12)) | E12: =IF($J12="","",INDEX('顧客一覧'!$C$5:$C$104,$J12)&"") | F12: =IF($J12="","",INDEX('顧客一覧'!$L$5:$L$104,$J12)&"") | G12: =IF($J12="","",INDEX('顧客一覧'!$G$5:$G$104,$J12)&"") | H12: =IF($J12="","",INDEX('顧客一覧'!$H$5:$H$104,$J12)&"") | I12: =IF($J12="","",INDEX('顧客一覧'!$J$5:$J$104,$J12)) | J12: =IFERROR(MATCH(SMALL('顧客一覧'!$O$5:$O$104,8),'顧客一覧'!$O$5:$O$104,0),"")
A13: =IF($J13="","",9) | B13: =IF($J13="","",IF(INDEX('顧客一覧'!$M$5:$M$104,$J13)="","期日未定",INDEX('顧客一覧'!$M$5:$M$104,$J13))) | C13: =IF($J13="","",IF(ISNUMBER($B13),$B13-$B$2,"")) | D13: =IF($J13="","",INDEX('顧客一覧'!$A$5:$A$104,$J13)) | E13: =IF($J13="","",INDEX('顧客一覧'!$C$5:$C$104,$J13)&"") | F13: =IF($J13="","",INDEX('顧客一覧'!$L$5:$L$104,$J13)&"") | G13: =IF($J13="","",INDEX('顧客一覧'!$G$5:$G$104,$J13)&"") | H13: =IF($J13="","",INDEX('顧客一覧'!$H$5:$H$104,$J13)&"") | I13: =IF($J13="","",INDEX('顧客一覧'!$J$5:$J$104,$J13)) | J13: =IFERROR(MATCH(SMALL('顧客一覧'!$O$5:$O$104,9),'顧客一覧'!$O$5:$O$104,0),"")
A14: =IF($J14="","",10) | B14: =IF($J14="","",IF(INDEX('顧客一覧'!$M$5:$M$104,$J14)="","期日未定",INDEX('顧客一覧'!$M$5:$M$104,$J14))) | C14: =IF($J14="","",IF(ISNUMBER($B14),$B14-$B$2,"")) | D14: =IF($J14="","",INDEX('顧客一覧'!$A$5:$A$104,$J14)) | E14: =IF($J14="","",INDEX('顧客一覧'!$C$5:$C$104,$J14)&"") | F14: =IF($J14="","",INDEX('顧客一覧'!$L$5:$L$104,$J14)&"") | G14: =IF($J14="","",INDEX('顧客一覧'!$G$5:$G$104,$J14)&"") | H14: =IF($J14="","",INDEX('顧客一覧'!$H$5:$H$104,$J14)&"") | I14: =IF($J14="","",INDEX('顧客一覧'!$J$5:$J$104,$J14)) | J14: =IFERROR(MATCH(SMALL('顧客一覧'!$O$5:$O$104,10),'顧客一覧'!$O$5:$O$104,0),"")
A15: =IF($J15="","",11) | B15: =IF($J15="","",IF(INDEX('顧客一覧'!$M$5:$M$104,$J15)="","期日未定",INDEX('顧客一覧'!$M$5:$M$104,$J15))) | C15: =IF($J15="","",IF(ISNUMBER($B15),$B15-$B$2,"")) | D15: =IF($J15="","",INDEX('顧客一覧'!$A$5:$A$104,$J15)) | E15: =IF($J15="","",INDEX('顧客一覧'!$C$5:$C$104,$J15)&"") | F15: =IF($J15="","",INDEX('顧客一覧'!$L$5:$L$104,$J15)&"") | G15: =IF($J15="","",INDEX('顧客一覧'!$G$5:$G$104,$J15)&"") | H15: =IF($J15="","",INDEX('顧客一覧'!$H$5:$H$104,$J15)&"") | I15: =IF($J15="","",INDEX('顧客一覧'!$J$5:$J$104,$J15)) | J15: =IFERROR(MATCH(SMALL('顧客一覧'!$O$5:$O$104,11),'顧客一覧'!$O$5:$O$104,0),"")
A16: =IF($J16="","",12) | B16: =IF($J16="","",IF(INDEX('顧客一覧'!$M$5:$M$104,$J16)="","期日未定",INDEX('顧客一覧'!$M$5:$M$104,$J16))) | C16: =IF($J16="","",IF(ISNUMBER($B16),$B16-$B$2,"")) | D16: =IF($J16="","",INDEX('顧客一覧'!$A$5:$A$104,$J16)) | E16: =IF($J16="","",INDEX('顧客一覧'!$C$5:$C$104,$J16)&"") | F16: =IF($J16="","",INDEX('顧客一覧'!$L$5:$L$104,$J16)&"") | G16: =IF($J16="","",INDEX('顧客一覧'!$G$5:$G$104,$J16)&"") | H16: =IF($J16="","",INDEX('顧客一覧'!$H$5:$H$104,$J16)&"") | I16: =IF($J16="","",INDEX('顧客一覧'!$J$5:$J$104,$J16)) | J16: =IFERROR(MATCH(SMALL('顧客一覧'!$O$5:$O$104,12),'顧客一覧'!$O$5:$O$104,0),"")
A17: =IF($J17="","",13) | B17: =IF($J17="","",IF(INDEX('顧客一覧'!$M$5:$M$104,$J17)="","期日未定",INDEX('顧客一覧'!$M$5:$M$104,$J17))) | C17: =IF($J17="","",IF(ISNUMBER($B17),$B17-$B$2,"")) | D17: =IF($J17="","",INDEX('顧客一覧'!$A$5:$A$104,$J17)) | E17: =IF($J17="","",INDEX('顧客一覧'!$C$5:$C$104,$J17)&"") | F17: =IF($J17="","",INDEX('顧客一覧'!$L$5:$L$104,$J17)&"") | G17: =IF($J17="","",INDEX('顧客一覧'!$G$5:$G$104,$J17)&"") | H17: =IF($J17="","",INDEX('顧客一覧'!$H$5:$H$104,$J17)&"") | I17: =IF($J17="","",INDEX('顧客一覧'!$J$5:$J$104,$J17)) | J17: =IFERROR(MATCH(SMALL('顧客一覧'!$O$5:$O$104,13),'顧客一覧'!$O$5:$O$104,0),"")
A18: =IF($J18="","",14) | B18: =IF($J18="","",IF(INDEX('顧客一覧'!$M$5:$M$104,$J18)="","期日未定",INDEX('顧客一覧'!$M$5:$M$104,$J18))) | C18: =IF($J18="","",IF(ISNUMBER($B18),$B18-$B$2,"")) | D18: =IF($J18="","",INDEX('顧客一覧'!$A$5:$A$104,$J18)) | E18: =IF($J18="","",INDEX('顧客一覧'!$C$5:$C$104,$J18)&"") | F18: =IF($J18="","",INDEX('顧客一覧'!$L$5:$L$104,$J18)&"") | G18: =IF($J18="","",INDEX('顧客一覧'!$G$5:$G$104,$J18)&"") | H18: =IF($J18="","",INDEX('顧客一覧'!$H$5:$H$104,$J18)&"") | I18: =IF($J18="","",INDEX('顧客一覧'!$J$5:$J$104,$J18)) | J18: =IFERROR(MATCH(SMALL('顧客一覧'!$O$5:$O$104,14),'顧客一覧'!$O$5:$O$104,0),"")
A19: =IF($J19="","",15) | B19: =IF($J19="","",IF(INDEX('顧客一覧'!$M$5:$M$104,$J19)="","期日未定",INDEX('顧客一覧'!$M$5:$M$104,$J19))) | C19: =IF($J19="","",IF(ISNUMBER($B19),$B19-$B$2,"")) | D19: =IF($J19="","",INDEX('顧客一覧'!$A$5:$A$104,$J19)) | E19: =IF($J19="","",INDEX('顧客一覧'!$C$5:$C$104,$J19)&"") | F19: =IF($J19="","",INDEX('顧客一覧'!$L$5:$L$104,$J19)&"") | G19: =IF($J19="","",INDEX('顧客一覧'!$G$5:$G$104,$J19)&"") | H19: =IF($J19="","",INDEX('顧客一覧'!$H$5:$H$104,$J19)&"") | I19: =IF($J19="","",INDEX('顧客一覧'!$J$5:$J$104,$J19)) | J19: =IFERROR(MATCH(SMALL('顧客一覧'!$O$5:$O$104,15),'顧客一覧'!$O$5:$O$104,0),"")
A20: =IF($J20="","",16) | B20: =IF($J20="","",IF(INDEX('顧客一覧'!$M$5:$M$104,$J20)="","期日未定",INDEX('顧客一覧'!$M$5:$M$104,$J20))) | C20: =IF($J20="","",IF(ISNUMBER($B20),$B20-$B$2,"")) | D20: =IF($J20="","",INDEX('顧客一覧'!$A$5:$A$104,$J20)) | E20: =IF($J20="","",INDEX('顧客一覧'!$C$5:$C$104,$J20)&"") | F20: =IF($J20="","",INDEX('顧客一覧'!$L$5:$L$104,$J20)&"") | G20: =IF($J20="","",INDEX('顧客一覧'!$G$5:$G$104,$J20)&"") | H20: =IF($J20="","",INDEX('顧客一覧'!$H$5:$H$104,$J20)&"") | I20: =IF($J20="","",INDEX('顧客一覧'!$J$5:$J$104,$J20)) | J20: =IFERROR(MATCH(SMALL('顧客一覧'!$O$5:$O$104,16),'顧客一覧'!$O$5:$O$104,0),"")
A21: =IF($J21="","",17) | B21: =IF($J21="","",IF(INDEX('顧客一覧'!$M$5:$M$104,$J21)="","期日未定",INDEX('顧客一覧'!$M$5:$M$104,$J21))) | C21: =IF($J21="","",IF(ISNUMBER($B21),$B21-$B$2,"")) | D21: =IF($J21="","",INDEX('顧客一覧'!$A$5:$A$104,$J21)) | E21: =IF($J21="","",INDEX('顧客一覧'!$C$5:$C$104,$J21)&"") | F21: =IF($J21="","",INDEX('顧客一覧'!$L$5:$L$104,$J21)&"") | G21: =IF($J21="","",INDEX('顧客一覧'!$G$5:$G$104,$J21)&"") | H21: =IF($J21="","",INDEX('顧客一覧'!$H$5:$H$104,$J21)&"") | I21: =IF($J21="","",INDEX('顧客一覧'!$J$5:$J$104,$J21)) | J21: =IFERROR(MATCH(SMALL('顧客一覧'!$O$5:$O$104,17),'顧客一覧'!$O$5:$O$104,0),"")
A22: =IF($J22="","",18) | B22: =IF($J22="","",IF(INDEX('顧客一覧'!$M$5:$M$104,$J22)="","期日未定",INDEX('顧客一覧'!$M$5:$M$104,$J22))) | C22: =IF($J22="","",IF(ISNUMBER($B22),$B22-$B$2,"")) | D22: =IF($J22="","",INDEX('顧客一覧'!$A$5:$A$104,$J22)) | E22: =IF($J22="","",INDEX('顧客一覧'!$C$5:$C$104,$J22)&"") | F22: =IF($J22="","",INDEX('顧客一覧'!$L$5:$L$104,$J22)&"") | G22: =IF($J22="","",INDEX('顧客一覧'!$G$5:$G$104,$J22)&"") | H22: =IF($J22="","",INDEX('顧客一覧'!$H$5:$H$104,$J22)&"") | I22: =IF($J22="","",INDEX('顧客一覧'!$J$5:$J$104,$J22)) | J22: =IFERROR(MATCH(SMALL('顧客一覧'!$O$5:$O$104,18),'顧客一覧'!$O$5:$O$104,0),"")
A23: =IF($J23="","",19) | B23: =IF($J23="","",IF(INDEX('顧客一覧'!$M$5:$M$104,$J23)="","期日未定",INDEX('顧客一覧'!$M$5:$M$104,$J23))) | C23: =IF($J23="","",IF(ISNUMBER($B23),$B23-$B$2,"")) | D23: =IF($J23="","",INDEX('顧客一覧'!$A$5:$A$104,$J23)) | E23: =IF($J23="","",INDEX('顧客一覧'!$C$5:$C$104,$J23)&"") | F23: =IF($J23="","",INDEX('顧客一覧'!$L$5:$L$104,$J23)&"") | G23: =IF($J23="","",INDEX('顧客一覧'!$G$5:$G$104,$J23)&"") | H23: =IF($J23="","",INDEX('顧客一覧'!$H$5:$H$104,$J23)&"") | I23: =IF($J23="","",INDEX('顧客一覧'!$J$5:$J$104,$J23)) | J23: =IFERROR(MATCH(SMALL('顧客一覧'!$O$5:$O$104,19),'顧客一覧'!$O$5:$O$104,0),"")
A24: =IF($J24="","",20) | B24: =IF($J24="","",IF(INDEX('顧客一覧'!$M$5:$M$104,$J24)="","期日未定",INDEX('顧客一覧'!$M$5:$M$104,$J24))) | C24: =IF($J24="","",IF(ISNUMBER($B24),$B24-$B$2,"")) | D24: =IF($J24="","",INDEX('顧客一覧'!$A$5:$A$104,$J24)) | E24: =IF($J24="","",INDEX('顧客一覧'!$C$5:$C$104,$J24)&"") | F24: =IF($J24="","",INDEX('顧客一覧'!$L$5:$L$104,$J24)&"") | G24: =IF($J24="","",INDEX('顧客一覧'!$G$5:$G$104,$J24)&"") | H24: =IF($J24="","",INDEX('顧客一覧'!$H$5:$H$104,$J24)&"") | I24: =IF($J24="","",INDEX('顧客一覧'!$J$5:$J$104,$J24)) | J24: =IFERROR(MATCH(SMALL('顧客一覧'!$O$5:$O$104,20),'顧客一覧'!$O$5:$O$104,0),"")
A25: =IF($J25="","",21) | B25: =IF($J25="","",IF(INDEX('顧客一覧'!$M$5:$M$104,$J25)="","期日未定",INDEX('顧客一覧'!$M$5:$M$104,$J25))) | C25: =IF($J25="","",IF(ISNUMBER($B25),$B25-$B$2,"")) | D25: =IF($J25="","",INDEX('顧客一覧'!$A$5:$A$104,$J25)) | E25: =IF($J25="","",INDEX('顧客一覧'!$C$5:$C$104,$J25)&"") | F25: =IF($J25="","",INDEX('顧客一覧'!$L$5:$L$104,$J25)&"") | G25: =IF($J25="","",INDEX('顧客一覧'!$G$5:$G$104,$J25)&"") | H25: =IF($J25="","",INDEX('顧客一覧'!$H$5:$H$104,$J25)&"") | I25: =IF($J25="","",INDEX('顧客一覧'!$J$5:$J$104,$J25)) | J25: =IFERROR(MATCH(SMALL('顧客一覧'!$O$5:$O$104,21),'顧客一覧'!$O$5:$O$104,0),"")
A26: =IF($J26="","",22) | B26: =IF($J26="","",IF(INDEX('顧客一覧'!$M$5:$M$104,$J26)="","期日未定",INDEX('顧客一覧'!$M$5:$M$104,$J26))) | C26: =IF($J26="","",IF(ISNUMBER($B26),$B26-$B$2,"")) | D26: =IF($J26="","",INDEX('顧客一覧'!$A$5:$A$104,$J26)) | E26: =IF($J26="","",INDEX('顧客一覧'!$C$5:$C$104,$J26)&"") | F26: =IF($J26="","",INDEX('顧客一覧'!$L$5:$L$104,$J26)&"") | G26: =IF($J26="","",INDEX('顧客一覧'!$G$5:$G$104,$J26)&"") | H26: =IF($J26="","",INDEX('顧客一覧'!$H$5:$H$104,$J26)&"") | I26: =IF($J26="","",INDEX('顧客一覧'!$J$5:$J$104,$J26)) | J26: =IFERROR(MATCH(SMALL('顧客一覧'!$O$5:$O$104,22),'顧客一覧'!$O$5:$O$104,0),"")
A27: =IF($J27="","",23) | B27: =IF($J27="","",IF(INDEX('顧客一覧'!$M$5:$M$104,$J27)="","期日未定",INDEX('顧客一覧'!$M$5:$M$104,$J27))) | C27: =IF($J27="","",IF(ISNUMBER($B27),$B27-$B$2,"")) | D27: =IF($J27="","",INDEX('顧客一覧'!$A$5:$A$104,$J27)) | E27: =IF($J27="","",INDEX('顧客一覧'!$C$5:$C$104,$J27)&"") | F27: =IF($J27="","",INDEX('顧客一覧'!$L$5:$L$104,$J27)&"") | G27: =IF($J27="","",INDEX('顧客一覧'!$G$5:$G$104,$J27)&"") | H27: =IF($J27="","",INDEX('顧客一覧'!$H$5:$H$104,$J27)&"") | I27: =IF($J27="","",INDEX('顧客一覧'!$J$5:$J$104,$J27)) | J27: =IFERROR(MATCH(SMALL('顧客一覧'!$O$5:$O$104,23),'顧客一覧'!$O$5:$O$104,0),"")
A28: =IF($J28="","",24) | B28: =IF($J28="","",IF(INDEX('顧客一覧'!$M$5:$M$104,$J28)="","期日未定",INDEX('顧客一覧'!$M$5:$M$104,$J28))) | C28: =IF($J28="","",IF(ISNUMBER($B28),$B28-$B$2,"")) | D28: =IF($J28="","",INDEX('顧客一覧'!$A$5:$A$104,$J28)) | E28: =IF($J28="","",INDEX('顧客一覧'!$C$5:$C$104,$J28)&"") | F28: =IF($J28="","",INDEX('顧客一覧'!$L$5:$L$104,$J28)&"") | G28: =IF($J28="","",INDEX('顧客一覧'!$G$5:$G$104,$J28)&"") | H28: =IF($J28="","",INDEX('顧客一覧'!$H$5:$H$104,$J28)&"") | I28: =IF($J28="","",INDEX('顧客一覧'!$J$5:$J$104,$J28)) | J28: =IFERROR(MATCH(SMALL('顧客一覧'!$O$5:$O$104,24),'顧客一覧'!$O$5:$O$104,0),"")
A29: =IF($J29="","",25) | B29: =IF($J29="","",IF(INDEX('顧客一覧'!$M$5:$M$104,$J29)="","期日未定",INDEX('顧客一覧'!$M$5:$M$104,$J29))) | C29: =IF($J29="","",IF(ISNUMBER($B29),$B29-$B$2,"")) | D29: =IF($J29="","",INDEX('顧客一覧'!$A$5:$A$104,$J29)) | E29: =IF($J29="","",INDEX('顧客一覧'!$C$5:$C$104,$J29)&"") | F29: =IF($J29="","",INDEX('顧客一覧'!$L$5:$L$104,$J29)&"") | G29: =IF($J29="","",INDEX('顧客一覧'!$G$5:$G$104,$J29)&"") | H29: =IF($J29="","",INDEX('顧客一覧'!$H$5:$H$104,$J29)&"") | I29: =IF($J29="","",INDEX('顧客一覧'!$J$5:$J$104,$J29)) | J29: =IFERROR(MATCH(SMALL('顧客一覧'!$O$5:$O$104,25),'顧客一覧'!$O$5:$O$104,0),"")
A30: =IF($J30="","",26) | B30: =IF($J30="","",IF(INDEX('顧客一覧'!$M$5:$M$104,$J30)="","期日未定",INDEX('顧客一覧'!$M$5:$M$104,$J30))) | C30: =IF($J30="","",IF(ISNUMBER($B30),$B30-$B$2,"")) | D30: =IF($J30="","",INDEX('顧客一覧'!$A$5:$A$104,$J30)) | E30: =IF($J30="","",INDEX('顧客一覧'!$C$5:$C$104,$J30)&"") | F30: =IF($J30="","",INDEX('顧客一覧'!$L$5:$L$104,$J30)&"") | G30: =IF($J30="","",INDEX('顧客一覧'!$G$5:$G$104,$J30)&"") | H30: =IF($J30="","",INDEX('顧客一覧'!$H$5:$H$104,$J30)&"") | I30: =IF($J30="","",INDEX('顧客一覧'!$J$5:$J$104,$J30)) | J30: =IFERROR(MATCH(SMALL('顧客一覧'!$O$5:$O$104,26),'顧客一覧'!$O$5:$O$104,0),"")
A31: =IF($J31="","",27) | B31: =IF($J31="","",IF(INDEX('顧客一覧'!$M$5:$M$104,$J31)="","期日未定",INDEX('顧客一覧'!$M$5:$M$104,$J31))) | C31: =IF($J31="","",IF(ISNUMBER($B31),$B31-$B$2,"")) | D31: =IF($J31="","",INDEX('顧客一覧'!$A$5:$A$104,$J31)) | E31: =IF($J31="","",INDEX('顧客一覧'!$C$5:$C$104,$J31)&"") | F31: =IF($J31="","",INDEX('顧客一覧'!$L$5:$L$104,$J31)&"") | G31: =IF($J31="","",INDEX('顧客一覧'!$G$5:$G$104,$J31)&"") | H31: =IF($J31="","",INDEX('顧客一覧'!$H$5:$H$104,$J31)&"") | I31: =IF($J31="","",INDEX('顧客一覧'!$J$5:$J$104,$J31)) | J31: =IFERROR(MATCH(SMALL('顧客一覧'!$O$5:$O$104,27),'顧客一覧'!$O$5:$O$104,0),"")
A32: =IF($J32="","",28) | B32: =IF($J32="","",IF(INDEX('顧客一覧'!$M$5:$M$104,$J32)="","期日未定",INDEX('顧客一覧'!$M$5:$M$104,$J32))) | C32: =IF($J32="","",IF(ISNUMBER($B32),$B32-$B$2,"")) | D32: =IF($J32="","",INDEX('顧客一覧'!$A$5:$A$104,$J32)) | E32: =IF($J32="","",INDEX('顧客一覧'!$C$5:$C$104,$J32)&"") | F32: =IF($J32="","",INDEX('顧客一覧'!$L$5:$L$104,$J32)&"") | G32: =IF($J32="","",INDEX('顧客一覧'!$G$5:$G$104,$J32)&"") | H32: =IF($J32="","",INDEX('顧客一覧'!$H$5:$H$104,$J32)&"") | I32: =IF($J32="","",INDEX('顧客一覧'!$J$5:$J$104,$J32)) | J32: =IFERROR(MATCH(SMALL('顧客一覧'!$O$5:$O$104,28),'顧客一覧'!$O$5:$O$104,0),"")
A33: =IF($J33="","",29) | B33: =IF($J33="","",IF(INDEX('顧客一覧'!$M$5:$M$104,$J33)="","期日未定",INDEX('顧客一覧'!$M$5:$M$104,$J33))) | C33: =IF($J33="","",IF(ISNUMBER($B33),$B33-$B$2,"")) | D33: =IF($J33="","",INDEX('顧客一覧'!$A$5:$A$104,$J33)) | E33: =IF($J33="","",INDEX('顧客一覧'!$C$5:$C$104,$J33)&"") | F33: =IF($J33="","",INDEX('顧客一覧'!$L$5:$L$104,$J33)&"") | G33: =IF($J33="","",INDEX('顧客一覧'!$G$5:$G$104,$J33)&"") | H33: =IF($J33="","",INDEX('顧客一覧'!$H$5:$H$104,$J33)&"") | I33: =IF($J33="","",INDEX('顧客一覧'!$J$5:$J$104,$J33)) | J33: =IFERROR(MATCH(SMALL('顧客一覧'!$O$5:$O$104,29),'顧客一覧'!$O$5:$O$104,0),"")
A34: =IF($J34="","",30) | B34: =IF($J34="","",IF(INDEX('顧客一覧'!$M$5:$M$104,$J34)="","期日未定",INDEX('顧客一覧'!$M$5:$M$104,$J34))) | C34: =IF($J34="","",IF(ISNUMBER($B34),$B34-$B$2,"")) | D34: =IF($J34="","",INDEX('顧客一覧'!$A$5:$A$104,$J34)) | E34: =IF($J34="","",INDEX('顧客一覧'!$C$5:$C$104,$J34)&"") | F34: =IF($J34="","",INDEX('顧客一覧'!$L$5:$L$104,$J34)&"") | G34: =IF($J34="","",INDEX('顧客一覧'!$G$5:$G$104,$J34)&"") | H34: =IF($J34="","",INDEX('顧客一覧'!$H$5:$H$104,$J34)&"") | I34: =IF($J34="","",INDEX('顧客一覧'!$J$5:$J$104,$J34)) | J34: =IFERROR(MATCH(SMALL('顧客一覧'!$O$5:$O$104,30),'顧客一覧'!$O$5:$O$104,0),"")
A35: =IF($J35="","",31) | B35: =IF($J35="","",IF(INDEX('顧客一覧'!$M$5:$M$104,$J35)="","期日未定",INDEX('顧客一覧'!$M$5:$M$104,$J35))) | C35: =IF($J35="","",IF(ISNUMBER($B35),$B35-$B$2,"")) | D35: =IF($J35="","",INDEX('顧客一覧'!$A$5:$A$104,$J35)) | E35: =IF($J35="","",INDEX('顧客一覧'!$C$5:$C$104,$J35)&"") | F35: =IF($J35="","",INDEX('顧客一覧'!$L$5:$L$104,$J35)&"") | G35: =IF($J35="","",INDEX('顧客一覧'!$G$5:$G$104,$J35)&"") | H35: =IF($J35="","",INDEX('顧客一覧'!$H$5:$H$104,$J35)&"") | I35: =IF($J35="","",INDEX('顧客一覧'!$J$5:$J$104,$J35)) | J35: =IFERROR(MATCH(SMALL('顧客一覧'!$O$5:$O$104,31),'顧客一覧'!$O$5:$O$104,0),"")
A36: =IF($J36="","",32) | B36: =IF($J36="","",IF(INDEX('顧客一覧'!$M$5:$M$104,$J36)="","期日未定",INDEX('顧客一覧'!$M$5:$M$104,$J36))) | C36: =IF($J36="","",IF(ISNUMBER($B36),$B36-$B$2,"")) | D36: =IF($J36="","",INDEX('顧客一覧'!$A$5:$A$104,$J36)) | E36: =IF($J36="","",INDEX('顧客一覧'!$C$5:$C$104,$J36)&"") | F36: =IF($J36="","",INDEX('顧客一覧'!$L$5:$L$104,$J36)&"") | G36: =IF($J36="","",INDEX('顧客一覧'!$G$5:$G$104,$J36)&"") | H36: =IF($J36="","",INDEX('顧客一覧'!$H$5:$H$104,$J36)&"") | I36: =IF($J36="","",INDEX('顧客一覧'!$J$5:$J$104,$J36)) | J36: =IFERROR(MATCH(SMALL('顧客一覧'!$O$5:$O$104,32),'顧客一覧'!$O$5:$O$104,0),"")
A37: =IF($J37="","",33) | B37: =IF($J37="","",IF(INDEX('顧客一覧'!$M$5:$M$104,$J37)="","期日未定",INDEX('顧客一覧'!$M$5:$M$104,$J37))) | C37: =IF($J37="","",IF(ISNUMBER($B37),$B37-$B$2,"")) | D37: =IF($J37="","",INDEX('顧客一覧'!$A$5:$A$104,$J37)) | E37: =IF($J37="","",INDEX('顧客一覧'!$C$5:$C$104,$J37)&"") | F37: =IF($J37="","",INDEX('顧客一覧'!$L$5:$L$104,$J37)&"") | G37: =IF($J37="","",INDEX('顧客一覧'!$G$5:$G$104,$J37)&"") | H37: =IF($J37="","",INDEX('顧客一覧'!$H$5:$H$104,$J37)&"") | I37: =IF($J37="","",INDEX('顧客一覧'!$J$5:$J$104,$J37)) | J37: =IFERROR(MATCH(SMALL('顧客一覧'!$O$5:$O$104,33),'顧客一覧'!$O$5:$O$104,0),"")
A38: =IF($J38="","",34) | B38: =IF($J38="","",IF(INDEX('顧客一覧'!$M$5:$M$104,$J38)="","期日未定",INDEX('顧客一覧'!$M$5:$M$104,$J38))) | C38: =IF($J38="","",IF(ISNUMBER($B38),$B38-$B$2,"")) | D38: =IF($J38="","",INDEX('顧客一覧'!$A$5:$A$104,$J38)) | E38: =IF($J38="","",INDEX('顧客一覧'!$C$5:$C$104,$J38)&"") | F38: =IF($J38="","",INDEX('顧客一覧'!$L$5:$L$104,$J38)&"") | G38: =IF($J38="","",INDEX('顧客一覧'!$G$5:$G$104,$J38)&"") | H38: =IF($J38="","",INDEX('顧客一覧'!$H$5:$H$104,$J38)&"") | I38: =IF($J38="","",INDEX('顧客一覧'!$J$5:$J$104,$J38)) | J38: =IFERROR(MATCH(SMALL('顧客一覧'!$O$5:$O$104,34),'顧客一覧'!$O$5:$O$104,0),"")
A39: =IF($J39="","",35) | B39: =IF($J39="","",IF(INDEX('顧客一覧'!$M$5:$M$104,$J39)="","期日未定",INDEX('顧客一覧'!$M$5:$M$104,$J39))) | C39: =IF($J39="","",IF(ISNUMBER($B39),$B39-$B$2,"")) | D39: =IF($J39="","",INDEX('顧客一覧'!$A$5:$A$104,$J39)) | E39: =IF($J39="","",INDEX('顧客一覧'!$C$5:$C$104,$J39)&"") | F39: =IF($J39="","",INDEX('顧客一覧'!$L$5:$L$104,$J39)&"") | G39: =IF($J39="","",INDEX('顧客一覧'!$G$5:$G$104,$J39)&"") | H39: =IF($J39="","",INDEX('顧客一覧'!$H$5:$H$104,$J39)&"") | I39: =IF($J39="","",INDEX('顧客一覧'!$J$5:$J$104,$J39)) | J39: =IFERROR(MATCH(SMALL('顧客一覧'!$O$5:$O$104,35),'顧客一覧'!$O$5:$O$104,0),"")
A40: =IF($J40="","",36) | B40: =IF($J40="","",IF(INDEX('顧客一覧'!$M$5:$M$104,$J40)="","期日未定",INDEX('顧客一覧'!$M$5:$M$104,$J40))) | C40: =IF($J40="","",IF(ISNUMBER($B40),$B40-$B$2,"")) | D40: =IF($J40="","",INDEX('顧客一覧'!$A$5:$A$104,$J40)) | E40: =IF($J40="","",INDEX('顧客一覧'!$C$5:$C$104,$J40)&"") | F40: =IF($J40="","",INDEX('顧客一覧'!$L$5:$L$104,$J40)&"") | G40: =IF($J40="","",INDEX('顧客一覧'!$G$5:$G$104,$J40)&"") | H40: =IF($J40="","",INDEX('顧客一覧'!$H$5:$H$104,$J40)&"") | I40: =IF($J40="","",INDEX('顧客一覧'!$J$5:$J$104,$J40)) | J40: =IFERROR(MATCH(SMALL('顧客一覧'!$O$5:$O$104,36),'顧客一覧'!$O$5:$O$104,0),"")
...

Sheet 例_顧客一覧
A1: 顧客一覧（記入例・架空の5社）
A2: 黄色は入力、灰色は数式です（触らない）。最終対応日・対応回数・次回アクション・状況は「対応履歴」から自動で出ます。記入例の基準日は 2026/10/1 に固定してあります。
J3: ▼ 対応履歴から自動で出る列 | O3: ▼ 作業列
A4: 顧客ID | B4: 区分 | C4: 会社名・氏名 | D4: 先方の担当者 | E4: 電話 | F4: メール | G4: 自社担当 | H4: 見込み度 | I4: 備考 | J4: 最終対応日 | K4: 対応回数 | L4: 次回アクション | M4: 次回アクション日 | N4: 状況 | O4: 並べ替え用 | P4: 最新行キー
A5: C001 | B5: 法人 | C5: 株式会社サンプル商事 | D5: 山田 花子（仕入課） | E5: 03-0000-0001 | F5: yamada@example.com | G5: 佐藤 | H5: A | I5: 月末締め。請求書は郵送 | J5: =IF($A5="","",IF($K5=0,"",_xlfn.MAXIFS('例_対応履歴'!$A$5:$A$304,'例_対応履歴'!$B$5:$B$304,$A5))) | K5: =IF($A5="","",COUNTIF('例_対応履歴'!$B$5:$B$304,$A5)) | L5: =IF($P5="","",IFERROR(INDEX('例_対応履歴'!$G$5:$G$304,MATCH($P5,'例_対応履歴'!$J$5:$J$304,0))&"","")) | M5: =IF($P5="","",IFERROR(IF(INDEX('例_対応履歴'!$H$5:$H$304,MATCH($P5,'例_対応履歴'!$J$5:$J$304,0))="","",INDEX('例_対応履歴'!$H$5:$H$304,MATCH($P5,'例_対応履歴'!$J$5:$J$304,0))),"")) | N5: =IF($A5="","",IF($K5=0,"対応履歴なし",IF($M5="",IF($L5="","次回予定なし","期日未定"),IF($M5<'例_次回アクション'!$B$2,"期日超過 "&('例_次回アクション'!$B$2-$M5)&"日",IF($M5='例_次回アクション'!$B$2,"今日","あと"&($M5-'例_次回アクション'!$B$2)&"日"))))) | O5: =IF($P5="","",IF($M5<>"",$M5+ROW()/100000,IF($L5<>"",100000+ROW()/100000,""))) | P5: =IF(OR($A5="",$K5=0),"",_xlfn.MAXIFS('例_対応履歴'!$J$5:$J$304,'例_対応履歴'!$B$5:$B$304,$A5))
A6: C002 | B6: 法人 | C6: サンプル建設株式会社 | D6: 田中 次郎（総務） | E6: 03-0000-0002 | F6: tanaka@example.com | G6: 鈴木 | H6: B | I6: 現場は月ごとに変わる | J6: =IF($A6="","",IF($K6=0,"",_xlfn.MAXIFS('例_対応履歴'!$A$5:$A$304,'例_対応履歴'!$B$5:$B$304,$A6))) | K6: =IF($A6="","",COUNTIF('例_対応履歴'!$B$5:$B$304,$A6)) | L6: =IF($P6="","",IFERROR(INDEX('例_対応履歴'!$G$5:$G$304,MATCH($P6,'例_対応履歴'!$J$5:$J$304,0))&"","")) | M6: =IF($P6="","",IFERROR(IF(INDEX('例_対応履歴'!$H$5:$H$304,MATCH($P6,'例_対応履歴'!$J$5:$J$304,0))="","",INDEX('例_対応履歴'!$H$5:$H$304,MATCH($P6,'例_対応履歴'!$J$5:$J$304,0))),"")) | N6: =IF($A6="","",IF($K6=0,"対応履歴なし",IF($M6="",IF($L6="","次回予定なし","期日未定"),IF($M6<'例_次回アクション'!$B$2,"期日超過 "&('例_次回アクション'!$B$2-$M6)&"日",IF($M6='例_次回アクション'!$B$2,"今日","あと"&($M6-'例_次回アクション'!$B$2)&"日"))))) | O6: =IF($P6="","",IF($M6<>"",$M6+ROW()/100000,IF($L6<>"",100000+ROW()/100000,""))) | P6: =IF(OR($A6="",$K6=0),"",_xlfn.MAXIFS('例_対応履歴'!$J$5:$J$304,'例_対応履歴'!$B$5:$B$304,$A6))
A7: C003 | B7: 法人 | C7: 株式会社サンプル工業 | D7: 松本 三郎（資材課） | E7: 03-0000-0003 | F7: matsumoto@example.com | G7: 高橋 | H7: B | I7: 問い合わせフォームから来た | J7: =IF($A7="","",IF($K7=0,"",_xlfn.MAXIFS('例_対応履歴'!$A$5:$A$304,'例_対応履歴'!$B$5:$B$304,$A7))) | K7: =IF($A7="","",COUNTIF('例_対応履歴'!$B$5:$B$304,$A7)) | L7: =IF($P7="","",IFERROR(INDEX('例_対応履歴'!$G$5:$G$304,MATCH($P7,'例_対応履歴'!$J$5:$J$304,0))&"","")) | M7: =IF($P7="","",IFERROR(IF(INDEX('例_対応履歴'!$H$5:$H$304,MATCH($P7,'例_対応履歴'!$J$5:$J$304,0))="","",INDEX('例_対応履歴'!$H$5:$H$304,MATCH($P7,'例_対応履歴'!$J$5:$J$304,0))),"")) | N7: =IF($A7="","",IF($K7=0,"対応履歴なし",IF($M7="",IF($L7="","次回予定なし","期日未定"),IF($M7<'例_次回アクション'!$B$2,"期日超過 "&('例_次回アクション'!$B$2-$M7)&"日",IF($M7='例_次回アクション'!$B$2,"今日","あと"&($M7-'例_次回アクション'!$B$2)&"日"))))) | O7: =IF($P7="","",IF($M7<>"",$M7+ROW()/100000,IF($L7<>"",100000+ROW()/100000,""))) | P7: =IF(OR($A7="",$K7=0),"",_xlfn.MAXIFS('例_対応履歴'!$J$5:$J$304,'例_対応履歴'!$B$5:$B$304,$A7))
A8: C004 | B8: 個人 | C8: サンプル 花子 | E8: 090-0000-0004 | F8: hanako@example.com | G8: 鈴木 | H8: 取引中 | I8: 連絡はメールを希望 | J8: =IF($A8="","",IF($K8=0,"",_xlfn.MAXIFS('例_対応履歴'!$A$5:$A$304,'例_対応履歴'!$B$5:$B$304,$A8))) | K8: =IF($A8="","",COUNTIF('例_対応履歴'!$B$5:$B$304,$A8)) | L8: =IF($P8="","",IFERROR(INDEX('例_対応履歴'!$G$5:$G$304,MATCH($P8,'例_対応履歴'!$J$5:$J$304,0))&"","")) | M8: =IF($P8="","",IFERROR(IF(INDEX('例_対応履歴'!$H$5:$H$304,MATCH($P8,'例_対応履歴'!$J$5:$J$304,0))="","",INDEX('例_対応履歴'!$H$5:$H$304,MATCH($P8,'例_対応履歴'!$J$5:$J$304,0))),"")) | N8: =IF($A8="","",IF($K8=0,"対応履歴なし",IF($M8="",IF($L8="","次回予定なし","期日未定"),IF($M8<'例_次回アクション'!$B$2,"期日超過 "&('例_次回アクション'!$B$2-$M8)&"日",IF($M8='例_次回アクション'!$B$2,"今日","あと"&($M8-'例_次回アクション'!$B$2)&"日"))))) | O8: =IF($P8="","",IF($M8<>"",$M8+ROW()/100000,IF($L8<>"",100000+ROW()/100000,""))) | P8: =IF(OR($A8="",$K8=0),"",_xlfn.MAXIFS('例_対応履歴'!$J$5:$J$304,'例_対応履歴'!$B$5:$B$304,$A8))
A9: C005 | B9: 個人 | C9: サンプル 一郎 | E9: 090-0000-0005 | G9: 高橋 | H9: C | I9: 知人の紹介 | J9: =IF($A9="","",IF($K9=0,"",_xlfn.MAXIFS('例_対応履歴'!$A$5:$A$304,'例_対応履歴'!$B$5:$B$304,$A9))) | K9: =IF($A9="","",COUNTIF('例_対応履歴'!$B$5:$B$304,$A9)) | L9: =IF($P9="","",IFERROR(INDEX('例_対応履歴'!$G$5:$G$304,MATCH($P9,'例_対応履歴'!$J$5:$J$304,0))&"","")) | M9: =IF($P9="","",IFERROR(IF(INDEX('例_対応履歴'!$H$5:$H$304,MATCH($P9,'例_対応履歴'!$J$5:$J$304,0))="","",INDEX('例_対応履歴'!$H$5:$H$304,MATCH($P9,'例_対応履歴'!$J$5:$J$304,0))),"")) | N9: =IF($A9="","",IF($K9=0,"対応履歴なし",IF($M9="",IF($L9="","次回予定なし","期日未定"),IF($M9<'例_次回アクション'!$B$2,"期日超過 "&('例_次回アクション'!$B$2-$M9)&"日",IF($M9='例_次回アクション'!$B$2,"今日","あと"&($M9-'例_次回アクション'!$B$2)&"日"))))) | O9: =IF($P9="","",IF($M9<>"",$M9+ROW()/100000,IF($L9<>"",100000+ROW()/100000,""))) | P9: =IF(OR($A9="",$K9=0),"",_xlfn.MAXIFS('例_対応履歴'!$J$5:$J$304,'例_対応履歴'!$B$5:$B$304,$A9))
J10: =IF($A10="","",IF($K10=0,"",_xlfn.MAXIFS('例_対応履歴'!$A$5:$A$304,'例_対応履歴'!$B$5:$B$304,$A10))) | K10: =IF($A10="","",COUNTIF('例_対応履歴'!$B$5:$B$304,$A10)) | L10: =IF($P10="","",IFERROR(INDEX('例_対応履歴'!$G$5:$G$304,MATCH($P10,'例_対応履歴'!$J$5:$J$304,0))&"","")) | M10: =IF($P10="","",IFERROR(IF(INDEX('例_対応履歴'!$H$5:$H$304,MATCH($P10,'例_対応履歴'!$J$5:$J$304,0))="","",INDEX('例_対応履歴'!$H$5:$H$304,MATCH($P10,'例_対応履歴'!$J$5:$J$304,0))),"")) | N10: =IF($A10="","",IF($K10=0,"対応履歴なし",IF($M10="",IF($L10="","次回予定なし","期日未定"),IF($M10<'例_次回アクション'!$B$2,"期日超過 "&('例_次回アクション'!$B$2-$M10)&"日",IF($M10='例_次回アクション'!$B$2,"今日","あと"&($M10-'例_次回アクション'!$B$2)&"日"))))) | O10: =IF($P10="","",IF($M10<>"",$M10+ROW()/100000,IF($L10<>"",100000+ROW()/100000,""))) | P10: =IF(OR($A10="",$K10=0),"",_xlfn.MAXIFS('例_対応履歴'!$J$5:$J$304,'例_対応履歴'!$B$5:$B$304,$A10))
J11: =IF($A11="","",IF($K11=0,"",_xlfn.MAXIFS('例_対応履歴'!$A$5:$A$304,'例_対応履歴'!$B$5:$B$304,$A11))) | K11: =IF($A11="","",COUNTIF('例_対応履歴'!$B$5:$B$304,$A11)) | L11: =IF($P11="","",IFERROR(INDEX('例_対応履歴'!$G$5:$G$304,MATCH($P11,'例_対応履歴'!$J$5:$J$304,0))&"","")) | M11: =IF($P11="","",IFERROR(IF(INDEX('例_対応履歴'!$H$5:$H$304,MATCH($P11,'例_対応履歴'!$J$5:$J$304,0))="","",INDEX('例_対応履歴'!$H$5:$H$304,MATCH($P11,'例_対応履歴'!$J$5:$J$304,0))),"")) | N11: =IF($A11="","",IF($K11=0,"対応履歴なし",IF($M11="",IF($L11="","次回予定なし","期日未定"),IF($M11<'例_次回アクション'!$B$2,"期日超過 "&('例_次回アクション'!$B$2-$M11)&"日",IF($M11='例_次回アクション'!$B$2,"今日","あと"&($M11-'例_次回アクション'!$B$2)&"日"))))) | O11: =IF($P11="","",IF($M11<>"",$M11+ROW()/100000,IF($L11<>"",100000+ROW()/100000,""))) | P11: =IF(OR($A11="",$K11=0),"",_xlfn.MAXIFS('例_対応履歴'!$J$5:$J$304,'例_対応履歴'!$B$5:$B$304,$A11))
J12: =IF($A12="","",IF($K12=0,"",_xlfn.MAXIFS('例_対応履歴'!$A$5:$A$304,'例_対応履歴'!$B$5:$B$304,$A12))) | K12: =IF($A12="","",COUNTIF('例_対応履歴'!$B$5:$B$304,$A12)) | L12: =IF($P12="","",IFERROR(INDEX('例_対応履歴'!$G$5:$G$304,MATCH($P12,'例_対応履歴'!$J$5:$J$304,0))&"","")) | M12: =IF($P12="","",IFERROR(IF(INDEX('例_対応履歴'!$H$5:$H$304,MATCH($P12,'例_対応履歴'!$J$5:$J$304,0))="","",INDEX('例_対応履歴'!$H$5:$H$304,MATCH($P12,'例_対応履歴'!$J$5:$J$304,0))),"")) | N12: =IF($A12="","",IF($K12=0,"対応履歴なし",IF($M12="",IF($L12="","次回予定なし","期日未定"),IF($M12<'例_次回アクション'!$B$2,"期日超過 "&('例_次回アクション'!$B$2-$M12)&"日",IF($M12='例_次回アクション'!$B$2,"今日","あと"&($M12-'例_次回アクション'!$B$2)&"日"))))) | O12: =IF($P12="","",IF($M12<>"",$M12+ROW()/100000,IF($L12<>"",100000+ROW()/100000,""))) | P12: =IF(OR($A12="",$K12=0),"",_xlfn.MAXIFS('例_対応履歴'!$J$5:$J$304,'例_対応履歴'!$B$5:$B$304,$A12))
J13: =IF($A13="","",IF($K13=0,"",_xlfn.MAXIFS('例_対応履歴'!$A$5:$A$304,'例_対応履歴'!$B$5:$B$304,$A13))) | K13: =IF($A13="","",COUNTIF('例_対応履歴'!$B$5:$B$304,$A13)) | L13: =IF($P13="","",IFERROR(INDEX('例_対応履歴'!$G$5:$G$304,MATCH($P13,'例_対応履歴'!$J$5:$J$304,0))&"","")) | M13: =IF($P13="","",IFERROR(IF(INDEX('例_対応履歴'!$H$5:$H$304,MATCH($P13,'例_対応履歴'!$J$5:$J$304,0))="","",INDEX('例_対応履歴'!$H$5:$H$304,MATCH($P13,'例_対応履歴'!$J$5:$J$304,0))),"")) | N13: =IF($A13="","",IF($K13=0,"対応履歴なし",IF($M13="",IF($L13="","次回予定なし","期日未定"),IF($M13<'例_次回アクション'!$B$2,"期日超過 "&('例_次回アクション'!$B$2-$M13)&"日",IF($M13='例_次回アクション'!$B$2,"今日","あと"&($M13-'例_次回アクション'!$B$2)&"日"))))) | O13: =IF($P13="","",IF($M13<>"",$M13+ROW()/100000,IF($L13<>"",100000+ROW()/100000,""))) | P13: =IF(OR($A13="",$K13=0),"",_xlfn.MAXIFS('例_対応履歴'!$J$5:$J$304,'例_対応履歴'!$B$5:$B$304,$A13))
J14: =IF($A14="","",IF($K14=0,"",_xlfn.MAXIFS('例_対応履歴'!$A$5:$A$304,'例_対応履歴'!$B$5:$B$304,$A14))) | K14: =IF($A14="","",COUNTIF('例_対応履歴'!$B$5:$B$304,$A14)) | L14: =IF($P14="","",IFERROR(INDEX('例_対応履歴'!$G$5:$G$304,MATCH($P14,'例_対応履歴'!$J$5:$J$304,0))&"","")) | M14: =IF($P14="","",IFERROR(IF(INDEX('例_対応履歴'!$H$5:$H$304,MATCH($P14,'例_対応履歴'!$J$5:$J$304,0))="","",INDEX('例_対応履歴'!$H$5:$H$304,MATCH($P14,'例_対応履歴'!$J$5:$J$304,0))),"")) | N14: =IF($A14="","",IF($K14=0,"対応履歴なし",IF($M14="",IF($L14="","次回予定なし","期日未定"),IF($M14<'例_次回アクション'!$B$2,"期日超過 "&('例_次回アクション'!$B$2-$M14)&"日",IF($M14='例_次回アクション'!$B$2,"今日","あと"&($M14-'例_次回アクション'!$B$2)&"日"))))) | O14: =IF($P14="","",IF($M14<>"",$M14+ROW()/100000,IF($L14<>"",100000+ROW()/100000,""))) | P14: =IF(OR($A14="",$K14=0),"",_xlfn.MAXIFS('例_対応履歴'!$J$5:$J$304,'例_対応履歴'!$B$5:$B$304,$A14))
J15: =IF($A15="","",IF($K15=0,"",_xlfn.MAXIFS('例_対応履歴'!$A$5:$A$304,'例_対応履歴'!$B$5:$B$304,$A15))) | K15: =IF($A15="","",COUNTIF('例_対応履歴'!$B$5:$B$304,$A15)) | L15: =IF($P15="","",IFERROR(INDEX('例_対応履歴'!$G$5:$G$304,MATCH($P15,'例_対応履歴'!$J$5:$J$304,0))&"","")) | M15: =IF($P15="","",IFERROR(IF(INDEX('例_対応履歴'!$H$5:$H$304,MATCH($P15,'例_対応履歴'!$J$5:$J$304,0))="","",INDEX('例_対応履歴'!$H$5:$H$304,MATCH($P15,'例_対応履歴'!$J$5:$J$304,0))),"")) | N15: =IF($A15="","",IF($K15=0,"対応履歴なし",IF($M15="",IF($L15="","次回予定なし","期日未定"),IF($M15<'例_次回アクション'!$B$2,"期日超過 "&('例_次回アクション'!$B$2-$M15)&"日",IF($M15='例_次回アクション'!$B$2,"今日","あと"&($M15-'例_次回アクション'!$B$2)&"日"))))) | O15: =IF($P15="","",IF($M15<>"",$M15+ROW()/100000,IF($L15<>"",100000+ROW()/100000,""))) | P15: =IF(OR($A15="",$K15=0),"",_xlfn.MAXIFS('例_対応履歴'!$J$5:$J$304,'例_対応履歴'!$B$5:$B$304,$A15))
J16: =IF($A16="","",IF($K16=0,"",_xlfn.MAXIFS('例_対応履歴'!$A$5:$A$304,'例_対応履歴'!$B$5:$B$304,$A16))) | K16: =IF($A16="","",COUNTIF('例_対応履歴'!$B$5:$B$304,$A16)) | L16: =IF($P16="","",IFERROR(INDEX('例_対応履歴'!$G$5:$G$304,MATCH($P16,'例_対応履歴'!$J$5:$J$304,0))&"","")) | M16: =IF($P16="","",IFERROR(IF(INDEX('例_対応履歴'!$H$5:$H$304,MATCH($P16,'例_対応履歴'!$J$5:$J$304,0))="","",INDEX('例_対応履歴'!$H$5:$H$304,MATCH($P16,'例_対応履歴'!$J$5:$J$304,0))),"")) | N16: =IF($A16="","",IF($K16=0,"対応履歴なし",IF($M16="",IF($L16="","次回予定なし","期日未定"),IF($M16<'例_次回アクション'!$B$2,"期日超過 "&('例_次回アクション'!$B$2-$M16)&"日",IF($M16='例_次回アクション'!$B$2,"今日","あと"&($M16-'例_次回アクション'!$B$2)&"日"))))) | O16: =IF($P16="","",IF($M16<>"",$M16+ROW()/100000,IF($L16<>"",100000+ROW()/100000,""))) | P16: =IF(OR($A16="",$K16=0),"",_xlfn.MAXIFS('例_対応履歴'!$J$5:$J$304,'例_対応履歴'!$B$5:$B$304,$A16))
J17: =IF($A17="","",IF($K17=0,"",_xlfn.MAXIFS('例_対応履歴'!$A$5:$A$304,'例_対応履歴'!$B$5:$B$304,$A17))) | K17: =IF($A17="","",COUNTIF('例_対応履歴'!$B$5:$B$304,$A17)) | L17: =IF($P17="","",IFERROR(INDEX('例_対応履歴'!$G$5:$G$304,MATCH($P17,'例_対応履歴'!$J$5:$J$304,0))&"","")) | M17: =IF($P17="","",IFERROR(IF(INDEX('例_対応履歴'!$H$5:$H$304,MATCH($P17,'例_対応履歴'!$J$5:$J$304,0))="","",INDEX('例_対応履歴'!$H$5:$H$304,MATCH($P17,'例_対応履歴'!$J$5:$J$304,0))),"")) | N17: =IF($A17="","",IF($K17=0,"対応履歴なし",IF($M17="",IF($L17="","次回予定なし","期日未定"),IF($M17<'例_次回アクション'!$B$2,"期日超過 "&('例_次回アクション'!$B$2-$M17)&"日",IF($M17='例_次回アクション'!$B$2,"今日","あと"&($M17-'例_次回アクション'!$B$2)&"日"))))) | O17: =IF($P17="","",IF($M17<>"",$M17+ROW()/100000,IF($L17<>"",100000+ROW()/100000,""))) | P17: =IF(OR($A17="",$K17=0),"",_xlfn.MAXIFS('例_対応履歴'!$J$5:$J$304,'例_対応履歴'!$B$5:$B$304,$A17))
J18: =IF($A18="","",IF($K18=0,"",_xlfn.MAXIFS('例_対応履歴'!$A$5:$A$304,'例_対応履歴'!$B$5:$B$304,$A18))) | K18: =IF($A18="","",COUNTIF('例_対応履歴'!$B$5:$B$304,$A18)) | L18: =IF($P18="","",IFERROR(INDEX('例_対応履歴'!$G$5:$G$304,MATCH($P18,'例_対応履歴'!$J$5:$J$304,0))&"","")) | M18: =IF($P18="","",IFERROR(IF(INDEX('例_対応履歴'!$H$5:$H$304,MATCH($P18,'例_対応履歴'!$J$5:$J$304,0))="","",INDEX('例_対応履歴'!$H$5:$H$304,MATCH($P18,'例_対応履歴'!$J$5:$J$304,0))),"")) | N18: =IF($A18="","",IF($K18=0,"対応履歴なし",IF($M18="",IF($L18="","次回予定なし","期日未定"),IF($M18<'例_次回アクション'!$B$2,"期日超過 "&('例_次回アクション'!$B$2-$M18)&"日",IF($M18='例_次回アクション'!$B$2,"今日","あと"&($M18-'例_次回アクション'!$B$2)&"日"))))) | O18: =IF($P18="","",IF($M18<>"",$M18+ROW()/100000,IF($L18<>"",100000+ROW()/100000,""))) | P18: =IF(OR($A18="",$K18=0),"",_xlfn.MAXIFS('例_対応履歴'!$J$5:$J$304,'例_対応履歴'!$B$5:$B$304,$A18))
J19: =IF($A19="","",IF($K19=0,"",_xlfn.MAXIFS('例_対応履歴'!$A$5:$A$304,'例_対応履歴'!$B$5:$B$304,$A19))) | K19: =IF($A19="","",COUNTIF('例_対応履歴'!$B$5:$B$304,$A19)) | L19: =IF($P19="","",IFERROR(INDEX('例_対応履歴'!$G$5:$G$304,MATCH($P19,'例_対応履歴'!$J$5:$J$304,0))&"","")) | M19: =IF($P19="","",IFERROR(IF(INDEX('例_対応履歴'!$H$5:$H$304,MATCH($P19,'例_対応履歴'!$J$5:$J$304,0))="","",INDEX('例_対応履歴'!$H$5:$H$304,MATCH($P19,'例_対応履歴'!$J$5:$J$304,0))),"")) | N19: =IF($A19="","",IF($K19=0,"対応履歴なし",IF($M19="",IF($L19="","次回予定なし","期日未定"),IF($M19<'例_次回アクション'!$B$2,"期日超過 "&('例_次回アクション'!$B$2-$M19)&"日",IF($M19='例_次回アクション'!$B$2,"今日","あと"&($M19-'例_次回アクション'!$B$2)&"日"))))) | O19: =IF($P19="","",IF($M19<>"",$M19+ROW()/100000,IF($L19<>"",100000+ROW()/100000,""))) | P19: =IF(OR($A19="",$K19=0),"",_xlfn.MAXIFS('例_対応履歴'!$J$5:$J$304,'例_対応履歴'!$B$5:$B$304,$A19))
J20: =IF($A20="","",IF($K20=0,"",_xlfn.MAXIFS('例_対応履歴'!$A$5:$A$304,'例_対応履歴'!$B$5:$B$304,$A20))) | K20: =IF($A20="","",COUNTIF('例_対応履歴'!$B$5:$B$304,$A20)) | L20: =IF($P20="","",IFERROR(INDEX('例_対応履歴'!$G$5:$G$304,MATCH($P20,'例_対応履歴'!$J$5:$J$304,0))&"","")) | M20: =IF($P20="","",IFERROR(IF(INDEX('例_対応履歴'!$H$5:$H$304,MATCH($P20,'例_対応履歴'!$J$5:$J$304,0))="","",INDEX('例_対応履歴'!$H$5:$H$304,MATCH($P20,'例_対応履歴'!$J$5:$J$304,0))),"")) | N20: =IF($A20="","",IF($K20=0,"対応履歴なし",IF($M20="",IF($L20="","次回予定なし","期日未定"),IF($M20<'例_次回アクション'!$B$2,"期日超過 "&('例_次回アクション'!$B$2-$M20)&"日",IF($M20='例_次回アクション'!$B$2,"今日","あと"&($M20-'例_次回アクション'!$B$2)&"日"))))) | O20: =IF($P20="","",IF($M20<>"",$M20+ROW()/100000,IF($L20<>"",100000+ROW()/100000,""))) | P20: =IF(OR($A20="",$K20=0),"",_xlfn.MAXIFS('例_対応履歴'!$J$5:$J$304,'例_対応履歴'!$B$5:$B$304,$A20))
J21: =IF($A21="","",IF($K21=0,"",_xlfn.MAXIFS('例_対応履歴'!$A$5:$A$304,'例_対応履歴'!$B$5:$B$304,$A21))) | K21: =IF($A21="","",COUNTIF('例_対応履歴'!$B$5:$B$304,$A21)) | L21: =IF($P21="","",IFERROR(INDEX('例_対応履歴'!$G$5:$G$304,MATCH($P21,'例_対応履歴'!$J$5:$J$304,0))&"","")) | M21: =IF($P21="","",IFERROR(IF(INDEX('例_対応履歴'!$H$5:$H$304,MATCH($P21,'例_対応履歴'!$J$5:$J$304,0))="","",INDEX('例_対応履歴'!$H$5:$H$304,MATCH($P21,'例_対応履歴'!$J$5:$J$304,0))),"")) | N21: =IF($A21="","",IF($K21=0,"対応履歴なし",IF($M21="",IF($L21="","次回予定なし","期日未定"),IF($M21<'例_次回アクション'!$B$2,"期日超過 "&('例_次回アクション'!$B$2-$M21)&"日",IF($M21='例_次回アクション'!$B$2,"今日","あと"&($M21-'例_次回アクション'!$B$2)&"日"))))) | O21: =IF($P21="","",IF($M21<>"",$M21+ROW()/100000,IF($L21<>"",100000+ROW()/100000,""))) | P21: =IF(OR($A21="",$K21=0),"",_xlfn.MAXIFS('例_対応履歴'!$J$5:$J$304,'例_対応履歴'!$B$5:$B$304,$A21))
... J104: =IF($A104="","",IF($K104=0,"",_xlfn.MAXIFS('例_対応履歴'!$A$5:$A$304,'例_対応履歴'!$B$5:$B$304,$A104))) | K104: =IF($A104="","",COUNTIF('例_対応履歴'!$B$5:$B$304,$A104)) | L104: =IF($P104="","",IFERROR(INDEX('例_対応履歴'!$G$5:$G$304,MATCH($P104,'例_対応履歴'!$J$5:$J$304,0))&"","")) | M104: =IF($P104="","",IFERROR(IF(INDEX('例_対応履歴'!$H$5:$H$304,MATCH($P104,'例_対応履歴'!$J$5:$J$304,0))="","",INDEX('例_対応履歴'!$H$5:$H$304,MATCH($P104,'例_対応履歴'!$J$5:$J$304,0))),"")) | N104: =IF($A104="","",IF($K104=0,"対応履歴なし",IF($M104="",IF($L104="","次回予定なし","期日未定"),IF($M104<'例_次回アクション'!$B$2,"期日超過 "&('例_次回アクション'!$B$2-$M104)&"日",IF($M104='例_次回アクション'!$B$2,"今日","あと"&($M104-'例_次回アクション'!$B$2)&"日"))))) | O104: =IF($P104="","",IF($M104<>"",$M104+ROW()/100000,IF($L104<>"",100000+ROW()/100000,""))) | P104: =IF(OR($A104="",$K104=0),"",_xlfn.MAXIFS('例_対応履歴'!$J$5:$J$304,'例_対応履歴'!$B$5:$B$304,$A104))

Sheet 例_対応履歴
A1: 対応履歴（記入例・19件）
A2: 顧客IDは「顧客一覧」に登録したものから選びます。同じ日に2回書いたときは、下の行を新しい対応として数えます。次にやることが無いときは、次回アクションと期日を空にします。
J3: ▼ 作業列
A4: 日付 | B4: 顧客ID | C4: 顧客名 | D4: 自社担当 | E4: 手段 | F4: 内容（何を聞いた・話した・決めた） | G4: 次回アクション | H4: 期日 | J4: 行キー | K4: カルテ用
A5: 46209 | B5: C001 | C5: =IF($B5="","",IFERROR(INDEX('例_顧客一覧'!$C$5:$C$104,MATCH($B5,'例_顧客一覧'!$A$5:$A$104,0))&"","※顧客一覧にないID")) | D5: 佐藤 | E5: 訪問 | F5: 事務用品の年間契約を相談された。いまの仕入先は3社。 | G5: 見積書を作って送る | H5: 46216 | J5: =IF(ISNUMBER($A5),$A5+ROW()/100000,"") | K5: =IF(AND(ISNUMBER($J5),$B5<>"",$B5='例_顧客カルテ'!$C$3),$J5,"")
A6: 46212 | B6: C002 | C6: =IF($B6="","",IFERROR(INDEX('例_顧客一覧'!$C$5:$C$104,MATCH($B6,'例_顧客一覧'!$A$5:$A$104,0))&"","※顧客一覧にないID")) | D6: 鈴木 | E6: 訪問 | F6: 現場事務所の備品を入れ替えたいとのこと。 | G6: カタログを送る | H6: 46219 | J6: =IF(ISNUMBER($A6),$A6+ROW()/100000,"") | K6: =IF(AND(ISNUMBER($J6),$B6<>"",$B6='例_顧客カルテ'!$C$3),$J6,"")
A7: 46216 | B7: C001 | C7: =IF($B7="","",IFERROR(INDEX('例_顧客一覧'!$C$5:$C$104,MATCH($B7,'例_顧客一覧'!$A$5:$A$104,0))&"","※顧客一覧にないID")) | D7: 佐藤 | E7: メール | F7: 見積書を送った。 | G7: 電話で反応を聞く | H7: 46220 | J7: =IF(ISNUMBER($A7),$A7+ROW()/100000,"") | K7: =IF(AND(ISNUMBER($J7),$B7<>"",$B7='例_顧客カルテ'!$C$3),$J7,"")
A8: 46219 | B8: C002 | C8: =IF($B8="","",IFERROR(INDEX('例_顧客一覧'!$C$5:$C$104,MATCH($B8,'例_顧客一覧'!$A$5:$A$104,0))&"","※顧客一覧にないID")) | D8: 鈴木 | E8: メール | F8: カタログを送った。 | G8: 希望の品目を電話で聞く | H8: 46226 | J8: =IF(ISNUMBER($A8),$A8+ROW()/100000,"") | K8: =IF(AND(ISNUMBER($J8),$B8<>"",$B8='例_顧客カルテ'!$C$3),$J8,"")
A9: 46220 | B9: C001 | C9: =IF($B9="","",IFERROR(INDEX('例_顧客一覧'!$C$5:$C$104,MATCH($B9,'例_顧客一覧'!$A$5:$A$104,0))&"","※顧客一覧にないID")) | D9: 佐藤 | E9: 電話 | F9: 単価の見直しを頼まれた。月500点の前提で再見積。 | G9: 再見積を持っていく | H9: 46239 | J9: =IF(ISNUMBER($A9),$A9+ROW()/100000,"") | K9: =IF(AND(ISNUMBER($J9),$B9<>"",$B9='例_顧客カルテ'!$C$3),$J9,"")
A10: 46225 | B10: C003 | C10: =IF($B10="","",IFERROR(INDEX('例_顧客一覧'!$C$5:$C$104,MATCH($B10,'例_顧客一覧'!$A$5:$A$104,0))&"","※顧客一覧にないID")) | D10: 高橋 | E10: 電話 | F10: 問い合わせフォームから連絡あり。梱包資材を探している。 | G10: サンプルを送る | H10: 46232 | J10: =IF(ISNUMBER($A10),$A10+ROW()/100000,"") | K10: =IF(AND(ISNUMBER($J10),$B10<>"",$B10='例_顧客カルテ'!$C$3),$J10,"")
A11: 46232 | B11: C003 | C11: =IF($B11="","",IFERROR(INDEX('例_顧客一覧'!$C$5:$C$104,MATCH($B11,'例_顧客一覧'!$A$5:$A$104,0))&"","※顧客一覧にないID")) | D11: 高橋 | E11: メール | F11: サンプルを送った。 | G11: 使い心地を電話で聞く | H11: 46241 | J11: =IF(ISNUMBER($A11),$A11+ROW()/100000,"") | K11: =IF(AND(ISNUMBER($J11),$B11<>"",$B11='例_顧客カルテ'!$C$3),$J11,"")
A12: 46239 | B12: C001 | C12: =IF($B12="","",IFERROR(INDEX('例_顧客一覧'!$C$5:$C$104,MATCH($B12,'例_顧客一覧'!$A$5:$A$104,0))&"","※顧客一覧にないID")) | D12: 鈴木 | E12: 訪問 | F12: 再見積を持参。決裁者の部長が同席した。 | G12: 稟議の結果を確認する | H12: 46259 | J12: =IF(ISNUMBER($A12),$A12+ROW()/100000,"") | K12: =IF(AND(ISNUMBER($J12),$B12<>"",$B12='例_顧客カルテ'!$C$3),$J12,"")
A13: 46241 | B13: C003 | C13: =IF($B13="","",IFERROR(INDEX('例_顧客一覧'!$C$5:$C$104,MATCH($B13,'例_顧客一覧'!$A$5:$A$104,0))&"","※顧客一覧にないID")) | D13: 高橋 | E13: 電話 | F13: サイズ違いのものがほしいと言われた。 | G13: サイズ違いのサンプルを送る | H13: 46248 | J13: =IF(ISNUMBER($A13),$A13+ROW()/100000,"") | K13: =IF(AND(ISNUMBER($J13),$B13<>"",$B13='例_顧客カルテ'!$C$3),$J13,"")
